BEGIN:VCALENDAR
VERSION:2.0
PRODID:-//Metro St. Louis Seniors Golf - ECPv6.15.20//NONSGML v1.0//EN
CALSCALE:GREGORIAN
METHOD:PUBLISH
X-WR-CALNAME:Metro St. Louis Seniors Golf
X-ORIGINAL-URL:https://www.golfstlseniors.org
X-WR-CALDESC:Events for Metro St. Louis Seniors Golf
REFRESH-INTERVAL;VALUE=DURATION:PT1H
X-Robots-Tag:noindex
X-PUBLISHED-TTL:PT1H
BEGIN:VTIMEZONE
TZID:America/Chicago
BEGIN:DAYLIGHT
TZOFFSETFROM:-0600
TZOFFSETTO:-0500
TZNAME:CDT
DTSTART:20230312T080000
END:DAYLIGHT
BEGIN:STANDARD
TZOFFSETFROM:-0500
TZOFFSETTO:-0600
TZNAME:CST
DTSTART:20231105T070000
END:STANDARD
BEGIN:DAYLIGHT
TZOFFSETFROM:-0600
TZOFFSETTO:-0500
TZNAME:CDT
DTSTART:20240310T080000
END:DAYLIGHT
BEGIN:STANDARD
TZOFFSETFROM:-0500
TZOFFSETTO:-0600
TZNAME:CST
DTSTART:20241103T070000
END:STANDARD
BEGIN:DAYLIGHT
TZOFFSETFROM:-0600
TZOFFSETTO:-0500
TZNAME:CDT
DTSTART:20250309T080000
END:DAYLIGHT
BEGIN:STANDARD
TZOFFSETFROM:-0500
TZOFFSETTO:-0600
TZNAME:CST
DTSTART:20251102T070000
END:STANDARD
END:VTIMEZONE
BEGIN:VEVENT
DTSTART;TZID=America/Chicago:20240627T070000
DTEND;TZID=America/Chicago:20240627T070000
DTSTAMP:20260424T202157
CREATED:20240116T025831Z
LAST-MODIFIED:20240116T025831Z
UID:12940-1719471600-1719471600@www.golfstlseniors.org
SUMMARY:D3  Wk 12    Aberdeen Golf Club
DESCRIPTION:Div3     – Jun 27    Split Tee Start  Aberdeen Golf Club    $40
URL:https://www.golfstlseniors.org/event/d3-wk-12-aberdeen-golf-club/
LOCATION:Aberdeen Golf Club\, 4111 Crescent Rd\, Eureka\, MO\, 63025\, United States
CATEGORIES:Div3
END:VEVENT
BEGIN:VEVENT
DTSTART;TZID=America/Chicago:20240627T070000
DTEND;TZID=America/Chicago:20240627T070000
DTSTAMP:20260424T202157
CREATED:20240116T025946Z
LAST-MODIFIED:20240116T025946Z
UID:12966-1719471600-1719471600@www.golfstlseniors.org
SUMMARY:D4  Wk 12    Golf Club of Wentzville
DESCRIPTION:Div4     – Jun 27    Split Tee Start  Golf Club of Wentzville    $
URL:https://www.golfstlseniors.org/event/d4-wk-12-golf-club-of-wentzville/
LOCATION:Golf Club of Wentzville\, 9 Pro Shop Dr\, Wentzville\, MO\, 63385\, United States
CATEGORIES:Div4
END:VEVENT
BEGIN:VEVENT
DTSTART;TZID=America/Chicago:20240627T073000
DTEND;TZID=America/Chicago:20240627T073000
DTSTAMP:20260424T202157
CREATED:20240116T030115Z
LAST-MODIFIED:20240116T030115Z
UID:12992-1719473400-1719473400@www.golfstlseniors.org
SUMMARY:D5  Wk 12    Columbia Bridges Golf Club
DESCRIPTION:Div5     – Jun 27    Split Tee Start  Columbia Bridges Golf Club    $
URL:https://www.golfstlseniors.org/event/d5-wk-12-columbia-bridges-golf-club/
LOCATION:Columbia Bridges Golf Club\, 1655 Columbia Bridges Rd\, Columbia\, IL\, 62236\, United States
CATEGORIES:Div5
END:VEVENT
END:VCALENDAR