BEGIN:VCALENDAR
VERSION:2.0
PRODID:-//Metro St. Louis Seniors Golf - ECPv6.15.20//NONSGML v1.0//EN
CALSCALE:GREGORIAN
METHOD:PUBLISH
X-ORIGINAL-URL:https://www.golfstlseniors.org
X-WR-CALDESC:Events for Metro St. Louis Seniors Golf
REFRESH-INTERVAL;VALUE=DURATION:PT1H
X-Robots-Tag:noindex
X-PUBLISHED-TTL:PT1H
BEGIN:VTIMEZONE
TZID:America/Chicago
BEGIN:DAYLIGHT
TZOFFSETFROM:-0600
TZOFFSETTO:-0500
TZNAME:CDT
DTSTART:20230312T080000
END:DAYLIGHT
BEGIN:STANDARD
TZOFFSETFROM:-0500
TZOFFSETTO:-0600
TZNAME:CST
DTSTART:20231105T070000
END:STANDARD
BEGIN:DAYLIGHT
TZOFFSETFROM:-0600
TZOFFSETTO:-0500
TZNAME:CDT
DTSTART:20240310T080000
END:DAYLIGHT
BEGIN:STANDARD
TZOFFSETFROM:-0500
TZOFFSETTO:-0600
TZNAME:CST
DTSTART:20241103T070000
END:STANDARD
BEGIN:DAYLIGHT
TZOFFSETFROM:-0600
TZOFFSETTO:-0500
TZNAME:CDT
DTSTART:20250309T080000
END:DAYLIGHT
BEGIN:STANDARD
TZOFFSETFROM:-0500
TZOFFSETTO:-0600
TZNAME:CST
DTSTART:20251102T070000
END:STANDARD
END:VTIMEZONE
BEGIN:VEVENT
DTSTART;TZID=America/Chicago:20240912T070000
DTEND;TZID=America/Chicago:20240912T070000
DTSTAMP:20260424T142515
CREATED:20240116T025901Z
LAST-MODIFIED:20240116T025901Z
UID:12950-1726124400-1726124400@www.golfstlseniors.org
SUMMARY:D3  Wk 22    Quail Creek GC
DESCRIPTION:Div3     – Sep 12    Split Tee Start  Quail Creek GC    $32
URL:https://www.golfstlseniors.org/event/d3-wk-22-quail-creek-gc/
LOCATION:Quail Creek GC\, 6022 Wells Rd\, St. Louis\, MO\, 63128\, United States
CATEGORIES:Div3
END:VEVENT
BEGIN:VEVENT
DTSTART;TZID=America/Chicago:20240912T070000
DTEND;TZID=America/Chicago:20240912T070000
DTSTAMP:20260424T142515
CREATED:20240116T030017Z
LAST-MODIFIED:20240116T030017Z
UID:12976-1726124400-1726124400@www.golfstlseniors.org
SUMMARY:D4  Wk 22    Woods Fort Golf Course
DESCRIPTION:Div4     – Sep 12    Split Tee Start  Woods Fort Golf Course    $37
URL:https://www.golfstlseniors.org/event/d4-wk-22-woods-fort-golf-course/
LOCATION:Woods Fort Golf Course\, 1 Country Club Dr\, Troy\, MO\, 63379\, United States
CATEGORIES:Div4
END:VEVENT
BEGIN:VEVENT
DTSTART;TZID=America/Chicago:20240912T080000
DTEND;TZID=America/Chicago:20240912T080000
DTSTAMP:20260424T142515
CREATED:20240116T030145Z
LAST-MODIFIED:20240116T030145Z
UID:13002-1726128000-1726128000@www.golfstlseniors.org
SUMMARY:D5  Wk 22    Columbia Golf Club
DESCRIPTION:Div5     – Sep 12    Shotgun Start  Columbia Golf Club    $34
URL:https://www.golfstlseniors.org/event/d5-wk-22-columbia-golf-club/
LOCATION:Columbia Golf Club\, 125 2770 N\, Columbia\, IL\, 62236\, United States
CATEGORIES:Div5
END:VEVENT
END:VCALENDAR