BEGIN:VCALENDAR
VERSION:2.0
PRODID:-//Metro St. Louis Seniors Golf - ECPv6.15.20//NONSGML v1.0//EN
CALSCALE:GREGORIAN
METHOD:PUBLISH
X-ORIGINAL-URL:https://www.golfstlseniors.org
X-WR-CALDESC:Events for Metro St. Louis Seniors Golf
REFRESH-INTERVAL;VALUE=DURATION:PT1H
X-Robots-Tag:noindex
X-PUBLISHED-TTL:PT1H
BEGIN:VTIMEZONE
TZID:America/Chicago
BEGIN:DAYLIGHT
TZOFFSETFROM:-0600
TZOFFSETTO:-0500
TZNAME:CDT
DTSTART:20240310T080000
END:DAYLIGHT
BEGIN:STANDARD
TZOFFSETFROM:-0500
TZOFFSETTO:-0600
TZNAME:CST
DTSTART:20241103T070000
END:STANDARD
BEGIN:DAYLIGHT
TZOFFSETFROM:-0600
TZOFFSETTO:-0500
TZNAME:CDT
DTSTART:20250309T080000
END:DAYLIGHT
BEGIN:STANDARD
TZOFFSETFROM:-0500
TZOFFSETTO:-0600
TZNAME:CST
DTSTART:20251102T070000
END:STANDARD
BEGIN:DAYLIGHT
TZOFFSETFROM:-0600
TZOFFSETTO:-0500
TZNAME:CDT
DTSTART:20260308T080000
END:DAYLIGHT
BEGIN:STANDARD
TZOFFSETFROM:-0500
TZOFFSETTO:-0600
TZNAME:CST
DTSTART:20261101T070000
END:STANDARD
END:VTIMEZONE
BEGIN:VEVENT
DTSTART;TZID=America/Chicago:20250609T080000
DTEND;TZID=America/Chicago:20250609T140000
DTSTAMP:20260424T012141
CREATED:20250221T191311Z
LAST-MODIFIED:20250519T184757Z
UID:13769-1749456000-1749477600@www.golfstlseniors.org
SUMMARY:Best Ball Special Event
DESCRIPTION:The Best Ball Special Event will be held on Monday\, 9 June 2025 at the Missouri Bluffs Golf Club.  The format is a 4-Person Best Ball.  Lunch will be provided.
URL:https://www.golfstlseniors.org/event/best-ball-special-event-3/
LOCATION:Missouri Bluffs GC\, 18 Research Park Circle\, St. Charles\, Missouri\, 63304\, United States
END:VEVENT
BEGIN:VEVENT
DTSTART;TZID=America/Chicago:20250609T190000
DTEND;TZID=America/Chicago:20250609T190000
DTSTAMP:20260424T012141
CREATED:20250404T145938Z
LAST-MODIFIED:20250404T145940Z
UID:14332-1749495600-1749495600@www.golfstlseniors.org
SUMMARY:Franklin County CC Metro Plus Signup
DESCRIPTION:Signup for Franklin County CC Metro Plus will open up at 7 PM on Monday\, 9 June 2025.
URL:https://www.golfstlseniors.org/event/franklin-county-cc-metro-plus-signup/
LOCATION:Franklin County Country Club\, 6413 Country Club Road\, Washington\, MO\, 63090\, United States
END:VEVENT
END:VCALENDAR