BEGIN:VCALENDAR
VERSION:2.0
PRODID:-//Metro St. Louis Seniors Golf - ECPv6.15.20//NONSGML v1.0//EN
CALSCALE:GREGORIAN
METHOD:PUBLISH
X-WR-CALNAME:Metro St. Louis Seniors Golf
X-ORIGINAL-URL:https://www.golfstlseniors.org
X-WR-CALDESC:Events for Metro St. Louis Seniors Golf
REFRESH-INTERVAL;VALUE=DURATION:PT1H
X-Robots-Tag:noindex
X-PUBLISHED-TTL:PT1H
BEGIN:VTIMEZONE
TZID:America/Chicago
BEGIN:DAYLIGHT
TZOFFSETFROM:-0600
TZOFFSETTO:-0500
TZNAME:CDT
DTSTART:20240310T080000
END:DAYLIGHT
BEGIN:STANDARD
TZOFFSETFROM:-0500
TZOFFSETTO:-0600
TZNAME:CST
DTSTART:20241103T070000
END:STANDARD
BEGIN:DAYLIGHT
TZOFFSETFROM:-0600
TZOFFSETTO:-0500
TZNAME:CDT
DTSTART:20250309T080000
END:DAYLIGHT
BEGIN:STANDARD
TZOFFSETFROM:-0500
TZOFFSETTO:-0600
TZNAME:CST
DTSTART:20251102T070000
END:STANDARD
BEGIN:DAYLIGHT
TZOFFSETFROM:-0600
TZOFFSETTO:-0500
TZNAME:CDT
DTSTART:20260308T080000
END:DAYLIGHT
BEGIN:STANDARD
TZOFFSETFROM:-0500
TZOFFSETTO:-0600
TZNAME:CST
DTSTART:20261101T070000
END:STANDARD
END:VTIMEZONE
BEGIN:VEVENT
DTSTART;TZID=America/Chicago:20250623T080000
DTEND;TZID=America/Chicago:20250623T130000
DTSTAMP:20260424T012005
CREATED:20250221T182353Z
LAST-MODIFIED:20250221T182355Z
UID:13739-1750665600-1750683600@www.golfstlseniors.org
SUMMARY:Metro Plus - Franklin County Country Club
DESCRIPTION:The Metro Plus event at Franklin Country Country Club will be held on Monday\, 23 June 2025 at 8:00 am. It will be a Shotgun Start. Tournament Director is Gary Maule.
URL:https://www.golfstlseniors.org/event/metro-plus-franklin-county-country-club-4/
LOCATION:Franklin County Country Club\, 6413 Country Club Road\, Washington\, MO\, 63090\, United States
ORGANIZER;CN="Gary Maule":MAILTO:xcongezr@gmail.com
END:VEVENT
BEGIN:VEVENT
DTSTART;TZID=America/Chicago:20250623T190000
DTEND;TZID=America/Chicago:20250623T190000
DTSTAMP:20260424T012005
CREATED:20250404T150141Z
LAST-MODIFIED:20250404T150143Z
UID:14334-1750705200-1750705200@www.golfstlseniors.org
SUMMARY:Sunset Hills CC Metro Plus Signup
DESCRIPTION:Signup for Sunset Hills CC Metro Plus will open up at 7 PM on Monday\, 23 June 2025.
URL:https://www.golfstlseniors.org/event/sunset-hills-cc-metro-plus-signup/
LOCATION:Sunset Hills Country Club\, 2525 S State Rte 157\, Edwardsville\, IL\, 62025\, United States
END:VEVENT
END:VCALENDAR