BEGIN:VCALENDAR
VERSION:2.0
PRODID:-//Metro St. Louis Seniors Golf - ECPv6.15.20//NONSGML v1.0//EN
CALSCALE:GREGORIAN
METHOD:PUBLISH
X-ORIGINAL-URL:https://www.golfstlseniors.org
X-WR-CALDESC:Events for Metro St. Louis Seniors Golf
REFRESH-INTERVAL;VALUE=DURATION:PT1H
X-Robots-Tag:noindex
X-PUBLISHED-TTL:PT1H
BEGIN:VTIMEZONE
TZID:America/Chicago
BEGIN:DAYLIGHT
TZOFFSETFROM:-0600
TZOFFSETTO:-0500
TZNAME:CDT
DTSTART:20240310T080000
END:DAYLIGHT
BEGIN:STANDARD
TZOFFSETFROM:-0500
TZOFFSETTO:-0600
TZNAME:CST
DTSTART:20241103T070000
END:STANDARD
BEGIN:DAYLIGHT
TZOFFSETFROM:-0600
TZOFFSETTO:-0500
TZNAME:CDT
DTSTART:20250309T080000
END:DAYLIGHT
BEGIN:STANDARD
TZOFFSETFROM:-0500
TZOFFSETTO:-0600
TZNAME:CST
DTSTART:20251102T070000
END:STANDARD
BEGIN:DAYLIGHT
TZOFFSETFROM:-0600
TZOFFSETTO:-0500
TZNAME:CDT
DTSTART:20260308T080000
END:DAYLIGHT
BEGIN:STANDARD
TZOFFSETFROM:-0500
TZOFFSETTO:-0600
TZNAME:CST
DTSTART:20261101T070000
END:STANDARD
END:VTIMEZONE
BEGIN:VEVENT
DTSTART;TZID=America/Chicago:20250626T063000
DTEND;TZID=America/Chicago:20250626T063000
DTSTAMP:20260424T012034
CREATED:20250331T205804Z
LAST-MODIFIED:20250331T205804Z
UID:14273-1750919400-1750919400@www.golfstlseniors.org
SUMMARY:D4    WK 12    Aberdeen Golf Club
DESCRIPTION:DIV 4 – WK 12     Split Tee Start     Aberdeen Golf Club    40
URL:https://www.golfstlseniors.org/event/d4-wk-12-aberdeen-golf-club/
LOCATION:Aberdeen Golf Club\, 4111 Crescent Rd\, Eureka\, MO\, 63025\, United States
CATEGORIES:DIV 4
END:VEVENT
BEGIN:VEVENT
DTSTART;TZID=America/Chicago:20250626T070000
DTEND;TZID=America/Chicago:20250626T070000
DTSTAMP:20260424T012034
CREATED:20250331T205856Z
LAST-MODIFIED:20250331T205856Z
UID:14299-1750921200-1750921200@www.golfstlseniors.org
SUMMARY:D5    WK 12    Golf Club of Wentzville
DESCRIPTION:DIV 5 – WK 12     Split Tee Start     Golf Club of Wentzville
URL:https://www.golfstlseniors.org/event/d5-wk-12-golf-club-of-wentzville/
LOCATION:Golf Club of Wentzville\, 9 Pro Shop Dr\, Wentzville\, MO\, 63385\, United States
CATEGORIES:DIV 5
END:VEVENT
BEGIN:VEVENT
DTSTART;TZID=America/Chicago:20250626T073000
DTEND;TZID=America/Chicago:20250626T073000
DTSTAMP:20260424T012034
CREATED:20250331T205727Z
LAST-MODIFIED:20250331T205727Z
UID:14247-1750923000-1750923000@www.golfstlseniors.org
SUMMARY:D3    WK 12    Columbia Bridges Golf Club
DESCRIPTION:DIV 3 – WK 12     Shotgun Start     Columbia Bridges Golf Club    36
URL:https://www.golfstlseniors.org/event/d3-wk-12-columbia-bridges-golf-club/
LOCATION:Columbia Bridges Golf Club\, 1655 Columbia Bridges Rd\, Columbia\, IL\, 62236\, United States
CATEGORIES:DIV 3
END:VEVENT
END:VCALENDAR