BEGIN:VCALENDAR
VERSION:2.0
PRODID:-//Metro St. Louis Seniors Golf - ECPv6.15.20//NONSGML v1.0//EN
CALSCALE:GREGORIAN
METHOD:PUBLISH
X-WR-CALNAME:Metro St. Louis Seniors Golf
X-ORIGINAL-URL:https://www.golfstlseniors.org
X-WR-CALDESC:Events for Metro St. Louis Seniors Golf
REFRESH-INTERVAL;VALUE=DURATION:PT1H
X-Robots-Tag:noindex
X-PUBLISHED-TTL:PT1H
BEGIN:VTIMEZONE
TZID:America/Chicago
BEGIN:DAYLIGHT
TZOFFSETFROM:-0600
TZOFFSETTO:-0500
TZNAME:CDT
DTSTART:20240310T080000
END:DAYLIGHT
BEGIN:STANDARD
TZOFFSETFROM:-0500
TZOFFSETTO:-0600
TZNAME:CST
DTSTART:20241103T070000
END:STANDARD
BEGIN:DAYLIGHT
TZOFFSETFROM:-0600
TZOFFSETTO:-0500
TZNAME:CDT
DTSTART:20250309T080000
END:DAYLIGHT
BEGIN:STANDARD
TZOFFSETFROM:-0500
TZOFFSETTO:-0600
TZNAME:CST
DTSTART:20251102T070000
END:STANDARD
BEGIN:DAYLIGHT
TZOFFSETFROM:-0600
TZOFFSETTO:-0500
TZNAME:CDT
DTSTART:20260308T080000
END:DAYLIGHT
BEGIN:STANDARD
TZOFFSETFROM:-0500
TZOFFSETTO:-0600
TZNAME:CST
DTSTART:20261101T070000
END:STANDARD
END:VTIMEZONE
BEGIN:VEVENT
DTSTART;TZID=America/Chicago:20250707T080000
DTEND;TZID=America/Chicago:20250707T130000
DTSTAMP:20260424T000710
CREATED:20250221T182701Z
LAST-MODIFIED:20250221T182703Z
UID:13741-1751875200-1751893200@www.golfstlseniors.org
SUMMARY:Metro Plus - Sunset Hills Country Club
DESCRIPTION:The Metro Plus event at Sunset Hills Country Club will be held on Monday\, 7 July 2025 at 8:00 am. It will be a Shotgun Start. Tournament Directors are Bill Molz and Bill Hippisley.
URL:https://www.golfstlseniors.org/event/metro-plus-sunset-hills-country-club-4/
LOCATION:Sunset Hills Country Club\, 2525 S State Rte 157\, Edwardsville\, IL\, 62025\, United States
ORGANIZER;CN="Bill Molz":MAILTO:wfmolz@yahoo.com
END:VEVENT
BEGIN:VEVENT
DTSTART;TZID=America/Chicago:20250707T190000
DTEND;TZID=America/Chicago:20250707T190000
DTSTAMP:20260424T000710
CREATED:20250404T150321Z
LAST-MODIFIED:20250404T150324Z
UID:14336-1751914800-1751914800@www.golfstlseniors.org
SUMMARY:Persimmon Woods CC Metro Plus Signup
DESCRIPTION:Signup for Persimmon Woods CC Metro Plus will open up at 7 PM on Monday\, 7 July 2025.
URL:https://www.golfstlseniors.org/event/persimmon-woods-cc-metro-plus-signup/
LOCATION:Persimmon Woods Golf Club\, 6401 Weldon Spring Pkwy\, Weldon Springs\, MO\, 63304\, United States
END:VEVENT
END:VCALENDAR