BEGIN:VCALENDAR
VERSION:2.0
PRODID:-//Metro St. Louis Seniors Golf - ECPv6.15.20//NONSGML v1.0//EN
CALSCALE:GREGORIAN
METHOD:PUBLISH
X-ORIGINAL-URL:https://www.golfstlseniors.org
X-WR-CALDESC:Events for Metro St. Louis Seniors Golf
REFRESH-INTERVAL;VALUE=DURATION:PT1H
X-Robots-Tag:noindex
X-PUBLISHED-TTL:PT1H
BEGIN:VTIMEZONE
TZID:America/Chicago
BEGIN:DAYLIGHT
TZOFFSETFROM:-0600
TZOFFSETTO:-0500
TZNAME:CDT
DTSTART:20250309T080000
END:DAYLIGHT
BEGIN:STANDARD
TZOFFSETFROM:-0500
TZOFFSETTO:-0600
TZNAME:CST
DTSTART:20251102T070000
END:STANDARD
BEGIN:DAYLIGHT
TZOFFSETFROM:-0600
TZOFFSETTO:-0500
TZNAME:CDT
DTSTART:20260308T080000
END:DAYLIGHT
BEGIN:STANDARD
TZOFFSETFROM:-0500
TZOFFSETTO:-0600
TZNAME:CST
DTSTART:20261101T070000
END:STANDARD
BEGIN:DAYLIGHT
TZOFFSETFROM:-0600
TZOFFSETTO:-0500
TZNAME:CDT
DTSTART:20270314T080000
END:DAYLIGHT
BEGIN:STANDARD
TZOFFSETFROM:-0500
TZOFFSETTO:-0600
TZNAME:CST
DTSTART:20271107T070000
END:STANDARD
END:VTIMEZONE
BEGIN:VEVENT
DTSTART;TZID=America/Chicago:20260608T080000
DTEND;TZID=America/Chicago:20260608T130000
DTSTAMP:20260423T135551
CREATED:20260324T142126Z
LAST-MODIFIED:20260324T142127Z
UID:14977-1780905600-1780923600@www.golfstlseniors.org
SUMMARY:Best Ball Special Event
DESCRIPTION:The Best Ball Special Event will be held on Monday\, 8 June 2026 at the Birch Creek Golf Club.  The format is a 4-Person Best Ball.  Lunch will NOT be provided.
URL:https://www.golfstlseniors.org/event/best-ball-special-event-4/
LOCATION:Birch Creek Golf Club\, 499 N Service Rd\, Union\, 63084
END:VEVENT
BEGIN:VEVENT
DTSTART;TZID=America/Chicago:20260608T190000
DTEND;TZID=America/Chicago:20260608T190000
DTSTAMP:20260423T135551
CREATED:20260324T220446Z
LAST-MODIFIED:20260324T220450Z
UID:15031-1780945200-1780945200@www.golfstlseniors.org
SUMMARY:Franklin County CC Metro Plus Signup
DESCRIPTION:Signup for Franklin County CC Metro Plus will open up at 7:00 PM on Monday\, 8 June 2026.
URL:https://www.golfstlseniors.org/event/franklin-county-cc-metro-plus-signup-2/
LOCATION:Franklin County Country Club\, 6413 Country Club Road\, Washington\, MO\, 63090\, United States
ORGANIZER;CN="Paul Adams":MAILTO:paula3bodley@gmail.com
END:VEVENT
END:VCALENDAR