BEGIN:VCALENDAR
VERSION:2.0
PRODID:-//Metro St. Louis Seniors Golf - ECPv6.15.20//NONSGML v1.0//EN
CALSCALE:GREGORIAN
METHOD:PUBLISH
X-WR-CALNAME:Metro St. Louis Seniors Golf
X-ORIGINAL-URL:https://www.golfstlseniors.org
X-WR-CALDESC:Events for Metro St. Louis Seniors Golf
REFRESH-INTERVAL;VALUE=DURATION:PT1H
X-Robots-Tag:noindex
X-PUBLISHED-TTL:PT1H
BEGIN:VTIMEZONE
TZID:America/Chicago
BEGIN:DAYLIGHT
TZOFFSETFROM:-0600
TZOFFSETTO:-0500
TZNAME:CDT
DTSTART:20250309T080000
END:DAYLIGHT
BEGIN:STANDARD
TZOFFSETFROM:-0500
TZOFFSETTO:-0600
TZNAME:CST
DTSTART:20251102T070000
END:STANDARD
BEGIN:DAYLIGHT
TZOFFSETFROM:-0600
TZOFFSETTO:-0500
TZNAME:CDT
DTSTART:20260308T080000
END:DAYLIGHT
BEGIN:STANDARD
TZOFFSETFROM:-0500
TZOFFSETTO:-0600
TZNAME:CST
DTSTART:20261101T070000
END:STANDARD
BEGIN:DAYLIGHT
TZOFFSETFROM:-0600
TZOFFSETTO:-0500
TZNAME:CDT
DTSTART:20270314T080000
END:DAYLIGHT
BEGIN:STANDARD
TZOFFSETFROM:-0500
TZOFFSETTO:-0600
TZNAME:CST
DTSTART:20271107T070000
END:STANDARD
END:VTIMEZONE
BEGIN:VEVENT
DTSTART;TZID=America/Chicago:20260622T080000
DTEND;TZID=America/Chicago:20260622T130000
DTSTAMP:20260423T135440
CREATED:20260324T220214Z
LAST-MODIFIED:20260324T221510Z
UID:15027-1782115200-1782133200@www.golfstlseniors.org
SUMMARY:Metro Plus - Franklin County Country Club
DESCRIPTION:The Metro Plus event at Franklin County Country Club will be held on Monday\, 22 June 2026 at 8:00 AM. It will be a Shotgun Start. Tournament Director is Paul Adams.
URL:https://www.golfstlseniors.org/event/metro-plus-franklin-county-country-club-5/
LOCATION:Franklin County Country Club\, 6413 Country Club Road\, Washington\, MO\, 63090\, United States
ORGANIZER;CN="Paul Adams":MAILTO:paula3bodley@gmail.com
END:VEVENT
BEGIN:VEVENT
DTSTART;TZID=America/Chicago:20260622T190000
DTEND;TZID=America/Chicago:20260622T190000
DTSTAMP:20260423T135440
CREATED:20260325T134934Z
LAST-MODIFIED:20260325T134936Z
UID:15036-1782154800-1782154800@www.golfstlseniors.org
SUMMARY:Sunset Hills CC Metro Plus Signup
DESCRIPTION:Signup for Sunset Hills CC Metro Plus will open up at 7:00 PM on Monday\, 22 June 2026.
URL:https://www.golfstlseniors.org/event/sunset-hills-cc-metro-plus-signup-2/
LOCATION:Sunset Hills Country Club\, 2525 S State Rte 157\, Edwardsville\, IL\, 62025\, United States
ORGANIZER;CN="Paul Adams":MAILTO:paula3bodley@gmail.com
END:VEVENT
END:VCALENDAR