BEGIN:VCALENDAR
VERSION:2.0
PRODID:-//Metro St. Louis Seniors Golf - ECPv6.15.20//NONSGML v1.0//EN
CALSCALE:GREGORIAN
METHOD:PUBLISH
X-WR-CALNAME:Metro St. Louis Seniors Golf
X-ORIGINAL-URL:https://www.golfstlseniors.org
X-WR-CALDESC:Events for Metro St. Louis Seniors Golf
REFRESH-INTERVAL;VALUE=DURATION:PT1H
X-Robots-Tag:noindex
X-PUBLISHED-TTL:PT1H
BEGIN:VTIMEZONE
TZID:America/Chicago
BEGIN:DAYLIGHT
TZOFFSETFROM:-0600
TZOFFSETTO:-0500
TZNAME:CDT
DTSTART:20250309T080000
END:DAYLIGHT
BEGIN:STANDARD
TZOFFSETFROM:-0500
TZOFFSETTO:-0600
TZNAME:CST
DTSTART:20251102T070000
END:STANDARD
BEGIN:DAYLIGHT
TZOFFSETFROM:-0600
TZOFFSETTO:-0500
TZNAME:CDT
DTSTART:20260308T080000
END:DAYLIGHT
BEGIN:STANDARD
TZOFFSETFROM:-0500
TZOFFSETTO:-0600
TZNAME:CST
DTSTART:20261101T070000
END:STANDARD
BEGIN:DAYLIGHT
TZOFFSETFROM:-0600
TZOFFSETTO:-0500
TZNAME:CDT
DTSTART:20270314T080000
END:DAYLIGHT
BEGIN:STANDARD
TZOFFSETFROM:-0500
TZOFFSETTO:-0600
TZNAME:CST
DTSTART:20271107T070000
END:STANDARD
END:VTIMEZONE
BEGIN:VEVENT
DTSTART;TZID=America/Chicago:20260706T080000
DTEND;TZID=America/Chicago:20260706T130000
DTSTAMP:20260423T151433
CREATED:20260325T134722Z
LAST-MODIFIED:20260325T134723Z
UID:15034-1783324800-1783342800@www.golfstlseniors.org
SUMMARY:Metro Plus - Sunset Hills Country Club
DESCRIPTION:The Metro Plus event at Sunset Hills Country Club will be held on Monday\, 6 July 2026 at 8:00 AM. It will be a Shotgun Start. Tournament Director is Paul Adams.
URL:https://www.golfstlseniors.org/event/metro-plus-sunset-hills-country-club-5/
LOCATION:Sunset Hills Country Club\, 2525 S State Rte 157\, Edwardsville\, IL\, 62025\, United States
ORGANIZER;CN="Paul Adams":MAILTO:paula3bodley@gmail.com
END:VEVENT
BEGIN:VEVENT
DTSTART;TZID=America/Chicago:20260706T090000
DTEND;TZID=America/Chicago:20260706T130000
DTSTAMP:20260423T151433
CREATED:20260325T135554Z
LAST-MODIFIED:20260325T135556Z
UID:15040-1783328400-1783342800@www.golfstlseniors.org
SUMMARY:Persimmon Woods CC Metro Plus Signup
DESCRIPTION:Signup for Persimmon Woods CC Metro Plus will open up at 7:00 PM on Monday\, 6 July 2026.
URL:https://www.golfstlseniors.org/event/persimmon-woods-cc-metro-plus-signup-2/
LOCATION:Persimmon Woods Golf Club\, 6401 Weldon Spring Pkwy\, Weldon Springs\, MO\, 63304\, United States
ORGANIZER;CN="Paul Adams":MAILTO:paula3bodley@gmail.com
END:VEVENT
END:VCALENDAR