BEGIN:VCALENDAR
VERSION:2.0
PRODID:-//Metro St. Louis Seniors Golf - ECPv6.15.20//NONSGML v1.0//EN
CALSCALE:GREGORIAN
METHOD:PUBLISH
X-WR-CALNAME:Metro St. Louis Seniors Golf
X-ORIGINAL-URL:https://www.golfstlseniors.org
X-WR-CALDESC:Events for Metro St. Louis Seniors Golf
REFRESH-INTERVAL;VALUE=DURATION:PT1H
X-Robots-Tag:noindex
X-PUBLISHED-TTL:PT1H
BEGIN:VTIMEZONE
TZID:America/Chicago
BEGIN:DAYLIGHT
TZOFFSETFROM:-0600
TZOFFSETTO:-0500
TZNAME:CDT
DTSTART:20250309T080000
END:DAYLIGHT
BEGIN:STANDARD
TZOFFSETFROM:-0500
TZOFFSETTO:-0600
TZNAME:CST
DTSTART:20251102T070000
END:STANDARD
BEGIN:DAYLIGHT
TZOFFSETFROM:-0600
TZOFFSETTO:-0500
TZNAME:CDT
DTSTART:20260308T080000
END:DAYLIGHT
BEGIN:STANDARD
TZOFFSETFROM:-0500
TZOFFSETTO:-0600
TZNAME:CST
DTSTART:20261101T070000
END:STANDARD
BEGIN:DAYLIGHT
TZOFFSETFROM:-0600
TZOFFSETTO:-0500
TZNAME:CDT
DTSTART:20270314T080000
END:DAYLIGHT
BEGIN:STANDARD
TZOFFSETFROM:-0500
TZOFFSETTO:-0600
TZNAME:CST
DTSTART:20271107T070000
END:STANDARD
END:VTIMEZONE
BEGIN:VEVENT
DTSTART;TZID=America/Chicago:20260831T090000
DTEND;TZID=America/Chicago:20260831T130000
DTSTAMP:20260423T162652
CREATED:20260325T140819Z
LAST-MODIFIED:20260325T140822Z
UID:15050-1788166800-1788181200@www.golfstlseniors.org
SUMMARY:Metro Plus - Glen Echo Country Club
DESCRIPTION:The Metro Plus event at Glen Echo Country Club will be held on Monday\, 31 August 2026 at 9:00 AM. It will be a Shotgun Start. Tournament Director is Bob Hoffman.
URL:https://www.golfstlseniors.org/event/metro-plus-glen-echo-country-club-7/
LOCATION:Glen Echo Country Club\, 3401 Lucas and Hunt Road\,\, St. Louis\, MO\, 63121\, United States
ORGANIZER;CN="Bob Hoffman":MAILTO:bob@hoffman8.com
END:VEVENT
END:VCALENDAR