BEGIN:VCALENDAR
VERSION:2.0
PRODID:-//Metro St. Louis Seniors Golf - ECPv6.15.20//NONSGML v1.0//EN
CALSCALE:GREGORIAN
METHOD:PUBLISH
X-WR-CALNAME:Metro St. Louis Seniors Golf
X-ORIGINAL-URL:https://www.golfstlseniors.org
X-WR-CALDESC:Events for Metro St. Louis Seniors Golf
REFRESH-INTERVAL;VALUE=DURATION:PT1H
X-Robots-Tag:noindex
X-PUBLISHED-TTL:PT1H
BEGIN:VTIMEZONE
TZID:America/Chicago
BEGIN:DAYLIGHT
TZOFFSETFROM:-0600
TZOFFSETTO:-0500
TZNAME:CDT
DTSTART:20200308T080000
END:DAYLIGHT
BEGIN:STANDARD
TZOFFSETFROM:-0500
TZOFFSETTO:-0600
TZNAME:CST
DTSTART:20201101T070000
END:STANDARD
BEGIN:DAYLIGHT
TZOFFSETFROM:-0600
TZOFFSETTO:-0500
TZNAME:CDT
DTSTART:20210314T080000
END:DAYLIGHT
BEGIN:STANDARD
TZOFFSETFROM:-0500
TZOFFSETTO:-0600
TZNAME:CST
DTSTART:20211107T070000
END:STANDARD
BEGIN:DAYLIGHT
TZOFFSETFROM:-0600
TZOFFSETTO:-0500
TZNAME:CDT
DTSTART:20220313T080000
END:DAYLIGHT
BEGIN:STANDARD
TZOFFSETFROM:-0500
TZOFFSETTO:-0600
TZNAME:CST
DTSTART:20221106T070000
END:STANDARD
BEGIN:DAYLIGHT
TZOFFSETFROM:-0600
TZOFFSETTO:-0500
TZNAME:CDT
DTSTART:20230312T080000
END:DAYLIGHT
BEGIN:STANDARD
TZOFFSETFROM:-0500
TZOFFSETTO:-0600
TZNAME:CST
DTSTART:20231105T070000
END:STANDARD
BEGIN:DAYLIGHT
TZOFFSETFROM:-0600
TZOFFSETTO:-0500
TZNAME:CDT
DTSTART:20240310T080000
END:DAYLIGHT
BEGIN:STANDARD
TZOFFSETFROM:-0500
TZOFFSETTO:-0600
TZNAME:CST
DTSTART:20241103T070000
END:STANDARD
END:VTIMEZONE
BEGIN:VEVENT
DTSTART;TZID=America/Chicago:20231106T100000
DTEND;TZID=America/Chicago:20231106T120000
DTSTAMP:20260424T082058
CREATED:20230917T190324Z
LAST-MODIFIED:20230917T190727Z
UID:12364-1699264800-1699272000@www.golfstlseniors.org
SUMMARY:Board Meeting 11/6 /23
DESCRIPTION:Board Meeting
URL:https://www.golfstlseniors.org/event/board-meeting-11-6-23/
LOCATION:Kirkwoood Community Center\, 111 S Geyer Road\, Kirkwood\, MO\, 63122\, United States
CATEGORIES:Board Meetings
END:VEVENT
BEGIN:VEVENT
DTSTART;TZID=America/Chicago:20230731T100000
DTEND;TZID=America/Chicago:20230731T120000
DTSTAMP:20260424T082058
CREATED:20220808T151223Z
LAST-MODIFIED:20230217T192405Z
UID:6319-1690797600-1690804800@www.golfstlseniors.org
SUMMARY:Board Meeting July 31\, 2023
DESCRIPTION:July Board Meeting \n 
URL:https://www.golfstlseniors.org/event/august-board-meeting-2/
LOCATION:Kirkwoood Community Center\, 111 S Geyer Road\, Kirkwood\, MO\, 63122\, United States
CATEGORIES:Board Meetings
END:VEVENT
BEGIN:VEVENT
DTSTART;TZID=America/Chicago:20230109T100000
DTEND;TZID=America/Chicago:20230109T120000
DTSTAMP:20260424T082058
CREATED:20220120T193201Z
LAST-MODIFIED:20220120T193652Z
UID:9537-1673258400-1673265600@www.golfstlseniors.org
SUMMARY:Board of Directors Meeting January 2023
DESCRIPTION:
URL:https://www.golfstlseniors.org/event/board-of-directors-meeting-january-2023/
LOCATION:Kirkwoood Community Center\, 111 S Geyer Road\, Kirkwood\, MO\, 63122\, United States
CATEGORIES:Board Meetings
ORGANIZER;CN="Dennis B Black":MAILTO:dbbegl@gmail.com
END:VEVENT
BEGIN:VEVENT
DTSTART;TZID=America/Chicago:20221107T100000
DTEND;TZID=America/Chicago:20221107T120000
DTSTAMP:20260424T082058
CREATED:20211229T224349Z
LAST-MODIFIED:20220129T193520Z
UID:9396-1667815200-1667822400@www.golfstlseniors.org
SUMMARY:Board Meeting November 7\, 2022
DESCRIPTION:
URL:https://www.golfstlseniors.org/event/board-meeting-2/
LOCATION:Kirkwoood Community Center\, 111 S Geyer Road\, Kirkwood\, MO\, 63122\, United States
CATEGORIES:Board Meetings
ORGANIZER;CN="Dennis B Black":MAILTO:dbbegl@gmail.com
END:VEVENT
BEGIN:VEVENT
DTSTART;TZID=America/Chicago:20220912T100000
DTEND;TZID=America/Chicago:20220912T120000
DTSTAMP:20260424T082058
CREATED:20220828T161600Z
LAST-MODIFIED:20220828T161601Z
UID:10811-1662976800-1662984000@www.golfstlseniors.org
SUMMARY:Board Meeting
DESCRIPTION:
URL:https://www.golfstlseniors.org/event/board-meeting-3/
LOCATION:MO
CATEGORIES:Board Meetings
ORGANIZER;CN="Dennis B Black":MAILTO:dbbegl@gmail.com
END:VEVENT
BEGIN:VEVENT
DTSTART;TZID=America/Chicago:20220620T100000
DTEND;TZID=America/Chicago:20220620T120000
DTSTAMP:20260424T082058
CREATED:20211229T224148Z
LAST-MODIFIED:20220117T203417Z
UID:9394-1655719200-1655726400@www.golfstlseniors.org
SUMMARY:Board Meeting June 20\, 2022
DESCRIPTION:Board Meeting
URL:https://www.golfstlseniors.org/event/board-meeting/
LOCATION:Kirkwoood Community Center\, 111 S Geyer Road\, Kirkwood\, MO\, 63122\, United States
CATEGORIES:Board Meetings
ORGANIZER;CN="Dennis B Black":MAILTO:dbbegl@gmail.com
END:VEVENT
BEGIN:VEVENT
DTSTART;TZID=America/Chicago:20220307T100000
DTEND;TZID=America/Chicago:20220307T120000
DTSTAMP:20260424T082058
CREATED:20220307T160131Z
LAST-MODIFIED:20220129T194409Z
UID:9383-1646647200-1646654400@www.golfstlseniors.org
SUMMARY:Board Meeting March 7th 2022
DESCRIPTION:
URL:https://www.golfstlseniors.org/event/board-meeting-march-7th-2022/
LOCATION:Kirkwoood Community Center\, 111 S Geyer Road\, Kirkwood\, MO\, 63122\, United States
CATEGORIES:Board Meetings
ORGANIZER;CN="Dennis B Black":MAILTO:dbbegl@gmail.com
END:VEVENT
BEGIN:VEVENT
DTSTART;TZID=America/Chicago:20220210T100000
DTEND;TZID=America/Chicago:20220210T120000
DTSTAMP:20260424T082058
CREATED:20181210T192900Z
LAST-MODIFIED:20220117T203555Z
UID:4341-1644487200-1644494400@www.golfstlseniors.org
SUMMARY:Special Board Meeting February 10\, 2022
DESCRIPTION:Handicap Committee\nConstitution and By Laws
URL:https://www.golfstlseniors.org/event/january-board-meeting-2020/
LOCATION:Kirkwoood Community Center\, 111 S Geyer Road\, Kirkwood\, MO\, 63122\, United States
CATEGORIES:Board Meetings
END:VEVENT
BEGIN:VEVENT
DTSTART;TZID=America/Chicago:20220110T100000
DTEND;TZID=America/Chicago:20220110T120000
DTSTAMP:20260424T082058
CREATED:20220110T161232Z
LAST-MODIFIED:20211229T222821Z
UID:9378-1641808800-1641816000@www.golfstlseniors.org
SUMMARY:Board Meeting Jan 10 2022
DESCRIPTION:
URL:https://www.golfstlseniors.org/event/board-meeting-jan-10-2022/
LOCATION:Kirkwoood Community Center\, 111 S Geyer Road\, Kirkwood\, MO\, 63122\, United States
CATEGORIES:Board Meetings
ORGANIZER;CN="Dennis B Black":MAILTO:dbbegl@gmail.com
END:VEVENT
BEGIN:VEVENT
DTSTART;TZID=America/Chicago:20210112T100000
DTEND;TZID=America/Chicago:20210112T123000
DTSTAMP:20260424T082058
CREATED:20210103T231444Z
LAST-MODIFIED:20210103T231444Z
UID:8177-1610445600-1610454600@www.golfstlseniors.org
SUMMARY:MSLSGA Board Meeting
DESCRIPTION:Board Meeting
URL:https://www.golfstlseniors.org/event/mslsga-board-meeting/
LOCATION:Kirkwoood Community Center\, 111 S Geyer Road\, Kirkwood\, MO\, 63122\, United States
CATEGORIES:Board Meetings
END:VEVENT
END:VCALENDAR