BEGIN:VCALENDAR
VERSION:2.0
PRODID:-//Metro St. Louis Seniors Golf - ECPv6.15.20//NONSGML v1.0//EN
CALSCALE:GREGORIAN
METHOD:PUBLISH
X-ORIGINAL-URL:https://www.golfstlseniors.org
X-WR-CALDESC:Events for Metro St. Louis Seniors Golf
REFRESH-INTERVAL;VALUE=DURATION:PT1H
X-Robots-Tag:noindex
X-PUBLISHED-TTL:PT1H
BEGIN:VTIMEZONE
TZID:America/Chicago
BEGIN:DAYLIGHT
TZOFFSETFROM:-0600
TZOFFSETTO:-0500
TZNAME:CDT
DTSTART:20240310T080000
END:DAYLIGHT
BEGIN:STANDARD
TZOFFSETFROM:-0500
TZOFFSETTO:-0600
TZNAME:CST
DTSTART:20241103T070000
END:STANDARD
BEGIN:DAYLIGHT
TZOFFSETFROM:-0600
TZOFFSETTO:-0500
TZNAME:CDT
DTSTART:20250309T080000
END:DAYLIGHT
BEGIN:STANDARD
TZOFFSETFROM:-0500
TZOFFSETTO:-0600
TZNAME:CST
DTSTART:20251102T070000
END:STANDARD
BEGIN:DAYLIGHT
TZOFFSETFROM:-0600
TZOFFSETTO:-0500
TZNAME:CDT
DTSTART:20260308T080000
END:DAYLIGHT
BEGIN:STANDARD
TZOFFSETFROM:-0500
TZOFFSETTO:-0600
TZNAME:CST
DTSTART:20261101T070000
END:STANDARD
END:VTIMEZONE
BEGIN:VEVENT
DTSTART;TZID=America/Chicago:20250801T063000
DTEND;TZID=America/Chicago:20250801T063000
DTSTAMP:20260424T012158
CREATED:20250331T205644Z
LAST-MODIFIED:20250331T205644Z
UID:14225-1754029800-1754029800@www.golfstlseniors.org
SUMMARY:D2    WK 16    Falls Golf Club
DESCRIPTION:DIV 2 – WK 16     Split Tee Start     Falls Golf Club    49
URL:https://www.golfstlseniors.org/event/d2-wk-16-falls-golf-club/
LOCATION:Falls Golf Club\, 1170 Turtle Creek Dr\, O'Fallon\, MO\, 63366\, United States
CATEGORIES:DIV 2
END:VEVENT
BEGIN:VEVENT
DTSTART;TZID=America/Chicago:20250808T080000
DTEND;TZID=America/Chicago:20250808T080000
DTSTAMP:20260424T012158
CREATED:20250331T205644Z
LAST-MODIFIED:20250331T205644Z
UID:14226-1754640000-1754640000@www.golfstlseniors.org
SUMMARY:D2    WK 17    The Orchards GC
DESCRIPTION:DIV 2 – WK 17     Split Tee Start     The Orchards GC
URL:https://www.golfstlseniors.org/event/d2-wk-17-the-orchards-gc/
LOCATION:The Orchards GC\, 1490 Golf Course Dr\, Belleville\, IL\, 62220\, United States
CATEGORIES:DIV 2
END:VEVENT
BEGIN:VEVENT
DTSTART;TZID=America/Chicago:20250815T070000
DTEND;TZID=America/Chicago:20250815T070000
DTSTAMP:20260424T012158
CREATED:20250331T205644Z
LAST-MODIFIED:20250331T205644Z
UID:14227-1755241200-1755241200@www.golfstlseniors.org
SUMMARY:D2    WK 18    Tamarack Golf Course
DESCRIPTION:DIV 2 – WK 18     Split Tee Start     Tamarack Golf Course    40
URL:https://www.golfstlseniors.org/event/d2-wk-18-tamarack-golf-course/
LOCATION:Tamarack Golf Course\, 362 Tamarack Ln\, Shiloh\, IL\, 62269\, United States
CATEGORIES:DIV 2
END:VEVENT
BEGIN:VEVENT
DTSTART;TZID=America/Chicago:20250822T070000
DTEND;TZID=America/Chicago:20250822T070000
DTSTAMP:20260424T012158
CREATED:20250331T205645Z
LAST-MODIFIED:20250331T205645Z
UID:14228-1755846000-1755846000@www.golfstlseniors.org
SUMMARY:D2    WK 19    Spencer T Olin Golf Course
DESCRIPTION:DIV 2 – WK 19     Split Tee Start     Spencer T Olin Golf Course    38.95
URL:https://www.golfstlseniors.org/event/d2-wk-19-spencer-t-olin-golf-course/
LOCATION:Spencer T Olin Golf Course\, 4701 College Ave\, Alton\, IL\, 62002\, United States
CATEGORIES:DIV 2
END:VEVENT
BEGIN:VEVENT
DTSTART;TZID=America/Chicago:20250829T073000
DTEND;TZID=America/Chicago:20250829T073000
DTSTAMP:20260424T012158
CREATED:20250331T205654Z
LAST-MODIFIED:20250331T205654Z
UID:14229-1756452600-1756452600@www.golfstlseniors.org
SUMMARY:D2    WK 20    Incline Village Golf Course
DESCRIPTION:DIV 2 – WK 20     Split Tee Start     Incline Village Golf Course    36
URL:https://www.golfstlseniors.org/event/d2-wk-20-incline-village-golf-course/
LOCATION:Incline Village Golf Course\, 10220 Fairway Dr\, Foristell\, MO\, 63348\, United States
CATEGORIES:DIV 2
END:VEVENT
END:VCALENDAR