BEGIN:VCALENDAR
VERSION:2.0
PRODID:-//Metro St. Louis Seniors Golf - ECPv6.15.20//NONSGML v1.0//EN
CALSCALE:GREGORIAN
METHOD:PUBLISH
X-ORIGINAL-URL:https://www.golfstlseniors.org
X-WR-CALDESC:Events for Metro St. Louis Seniors Golf
REFRESH-INTERVAL;VALUE=DURATION:PT1H
X-Robots-Tag:noindex
X-PUBLISHED-TTL:PT1H
BEGIN:VTIMEZONE
TZID:America/Chicago
BEGIN:DAYLIGHT
TZOFFSETFROM:-0600
TZOFFSETTO:-0500
TZNAME:CDT
DTSTART:20240310T080000
END:DAYLIGHT
BEGIN:STANDARD
TZOFFSETFROM:-0500
TZOFFSETTO:-0600
TZNAME:CST
DTSTART:20241103T070000
END:STANDARD
BEGIN:DAYLIGHT
TZOFFSETFROM:-0600
TZOFFSETTO:-0500
TZNAME:CDT
DTSTART:20250309T080000
END:DAYLIGHT
BEGIN:STANDARD
TZOFFSETFROM:-0500
TZOFFSETTO:-0600
TZNAME:CST
DTSTART:20251102T070000
END:STANDARD
BEGIN:DAYLIGHT
TZOFFSETFROM:-0600
TZOFFSETTO:-0500
TZNAME:CDT
DTSTART:20260308T080000
END:DAYLIGHT
BEGIN:STANDARD
TZOFFSETFROM:-0500
TZOFFSETTO:-0600
TZNAME:CST
DTSTART:20261101T070000
END:STANDARD
END:VTIMEZONE
BEGIN:VEVENT
DTSTART;TZID=America/Chicago:20250710T080000
DTEND;TZID=America/Chicago:20250710T080000
DTSTAMP:20260424T023814
CREATED:20250331T205727Z
LAST-MODIFIED:20250331T205727Z
UID:14248-1752134400-1752134400@www.golfstlseniors.org
SUMMARY:D3    WK 13    Cardinal Creek GC
DESCRIPTION:DIV 3 – WK 13     Split Tee Start     Cardinal Creek GC    41
URL:https://www.golfstlseniors.org/event/d3-wk-13-cardinal-creek-gc/
LOCATION:Cardinal Creek GC\, 1192 Golf Course Rd\, Scott AFB\, IL\, 62225\, United States
CATEGORIES:DIV 3
END:VEVENT
BEGIN:VEVENT
DTSTART;TZID=America/Chicago:20250717T070000
DTEND;TZID=America/Chicago:20250717T070000
DTSTAMP:20260424T023814
CREATED:20250331T205735Z
LAST-MODIFIED:20250331T205735Z
UID:14249-1752735600-1752735600@www.golfstlseniors.org
SUMMARY:D3    WK 14    Woods Fort Golf Course
DESCRIPTION:DIV 3 – WK 14     Split Tee Start     Woods Fort Golf Course    $40.00+tx
URL:https://www.golfstlseniors.org/event/d3-wk-14-woods-fort-golf-course/
LOCATION:Woods Fort Golf Course\, 1 Country Club Dr\, Troy\, MO\, 63379\, United States
CATEGORIES:DIV 3
END:VEVENT
BEGIN:VEVENT
DTSTART;TZID=America/Chicago:20250724T070000
DTEND;TZID=America/Chicago:20250724T070000
DTSTAMP:20260424T023814
CREATED:20250331T205735Z
LAST-MODIFIED:20250331T205735Z
UID:14250-1753340400-1753340400@www.golfstlseniors.org
SUMMARY:D3    WK 15    Innsbrook Golf Course
DESCRIPTION:DIV 3 – WK 15     Shotgun Start     Innsbrook Golf Course    45
URL:https://www.golfstlseniors.org/event/d3-wk-15-innsbrook-golf-course/
LOCATION:Innsbrook Golf Course\, 1 Aspen Way Dr\, Innsbrook\, MO\, 63390\, United States
CATEGORIES:DIV 3
END:VEVENT
BEGIN:VEVENT
DTSTART;TZID=America/Chicago:20250731T080000
DTEND;TZID=America/Chicago:20250731T080000
DTSTAMP:20260424T023814
CREATED:20250331T205736Z
LAST-MODIFIED:20250331T205736Z
UID:14251-1753948800-1753948800@www.golfstlseniors.org
SUMMARY:D3    WK 16    Cardinal Creek GC
DESCRIPTION:DIV 3 – WK 16     Split Tee Start     Cardinal Creek GC    41
URL:https://www.golfstlseniors.org/event/d3-wk-16-cardinal-creek-gc/
LOCATION:Cardinal Creek GC\, 1192 Golf Course Rd\, Scott AFB\, IL\, 62225\, United States
CATEGORIES:DIV 3
END:VEVENT
END:VCALENDAR