BEGIN:VCALENDAR
VERSION:2.0
PRODID:-//Metro St. Louis Seniors Golf - ECPv6.15.20//NONSGML v1.0//EN
CALSCALE:GREGORIAN
METHOD:PUBLISH
X-ORIGINAL-URL:https://www.golfstlseniors.org
X-WR-CALDESC:Events for Metro St. Louis Seniors Golf
REFRESH-INTERVAL;VALUE=DURATION:PT1H
X-Robots-Tag:noindex
X-PUBLISHED-TTL:PT1H
BEGIN:VTIMEZONE
TZID:America/Chicago
BEGIN:DAYLIGHT
TZOFFSETFROM:-0600
TZOFFSETTO:-0500
TZNAME:CDT
DTSTART:20240310T080000
END:DAYLIGHT
BEGIN:STANDARD
TZOFFSETFROM:-0500
TZOFFSETTO:-0600
TZNAME:CST
DTSTART:20241103T070000
END:STANDARD
BEGIN:DAYLIGHT
TZOFFSETFROM:-0600
TZOFFSETTO:-0500
TZNAME:CDT
DTSTART:20250309T080000
END:DAYLIGHT
BEGIN:STANDARD
TZOFFSETFROM:-0500
TZOFFSETTO:-0600
TZNAME:CST
DTSTART:20251102T070000
END:STANDARD
BEGIN:DAYLIGHT
TZOFFSETFROM:-0600
TZOFFSETTO:-0500
TZNAME:CDT
DTSTART:20260308T080000
END:DAYLIGHT
BEGIN:STANDARD
TZOFFSETFROM:-0500
TZOFFSETTO:-0600
TZNAME:CST
DTSTART:20261101T070000
END:STANDARD
END:VTIMEZONE
BEGIN:VEVENT
DTSTART;TZID=America/Chicago:20250515T070000
DTEND;TZID=America/Chicago:20250515T070000
DTSTAMP:20260423T154306
CREATED:20250331T205717Z
LAST-MODIFIED:20250331T205717Z
UID:14241-1747292400-1747292400@www.golfstlseniors.org
SUMMARY:D3    WK 6    Golf Club of Wentzville
DESCRIPTION:DIV 3 – WK 6     Split Tee Start     Golf Club of Wentzville
URL:https://www.golfstlseniors.org/event/d3-wk-6-golf-club-of-wentzville/
LOCATION:Golf Club of Wentzville\, 9 Pro Shop Dr\, Wentzville\, MO\, 63385\, United States
CATEGORIES:DIV 3
END:VEVENT
BEGIN:VEVENT
DTSTART;TZID=America/Chicago:20250508T070000
DTEND;TZID=America/Chicago:20250508T070000
DTSTAMP:20260423T154306
CREATED:20250331T205717Z
LAST-MODIFIED:20250331T205717Z
UID:14240-1746687600-1746687600@www.golfstlseniors.org
SUMMARY:D3    WK 5    Acorns Golf Links
DESCRIPTION:DIV 3 – WK 5     Split Tee Start     Acorns Golf Links    34
URL:https://www.golfstlseniors.org/event/d3-wk-5-acorns-golf-links/
LOCATION:Acorns Golf Links\, 3933 Ahne Rd\, Waterloo\, Illinois\, 62298\, United States
CATEGORIES:DIV 3
END:VEVENT
BEGIN:VEVENT
DTSTART;TZID=America/Chicago:20250501T073000
DTEND;TZID=America/Chicago:20250501T073000
DTSTAMP:20260423T154306
CREATED:20250331T205717Z
LAST-MODIFIED:20250331T205717Z
UID:14239-1746084600-1746084600@www.golfstlseniors.org
SUMMARY:D3    WK 4    Incline Village Golf Course
DESCRIPTION:DIV 3 – WK 4     Split Tee Start     Incline Village Golf Course    36
URL:https://www.golfstlseniors.org/event/d3-wk-4-incline-village-golf-course/
LOCATION:Incline Village Golf Course\, 10220 Fairway Dr\, Foristell\, MO\, 63348\, United States
CATEGORIES:DIV 3
END:VEVENT
BEGIN:VEVENT
DTSTART;TZID=America/Chicago:20250424T073000
DTEND;TZID=America/Chicago:20250424T073000
DTSTAMP:20260423T154306
CREATED:20250331T205708Z
LAST-MODIFIED:20250331T205708Z
UID:14238-1745479800-1745479800@www.golfstlseniors.org
SUMMARY:D3    WK 3    Florissant Golf Club
DESCRIPTION:DIV 3 – WK 3     Split Tee Start     Florissant Golf Club    32
URL:https://www.golfstlseniors.org/event/d3-wk-3-florissant-golf-club/
LOCATION:Florissant Golf Club\, 50 Country Club Ln\, Florissant\, MO\, 63033\, United States
CATEGORIES:DIV 3
END:VEVENT
BEGIN:VEVENT
DTSTART;TZID=America/Chicago:20250417T063000
DTEND;TZID=America/Chicago:20250417T063000
DTSTAMP:20260423T154306
CREATED:20250331T205707Z
LAST-MODIFIED:20250331T205707Z
UID:14237-1744871400-1744871400@www.golfstlseniors.org
SUMMARY:D3    WK 2    Bear Creek Golf Club
DESCRIPTION:DIV 3 – WK 2     Split Tee Start     Bear Creek Golf Club
URL:https://www.golfstlseniors.org/event/d3-wk-2-bear-creek-golf-club-2/
LOCATION:Bear Creek Golf Club\, 158 Bear Creek Dr\, Wentzville\, MO\, 63385\, United States
CATEGORIES:DIV 3
END:VEVENT
BEGIN:VEVENT
DTSTART;TZID=America/Chicago:20250410T073000
DTEND;TZID=America/Chicago:20250410T073000
DTSTAMP:20260423T154306
CREATED:20250331T205707Z
LAST-MODIFIED:20250331T205707Z
UID:14236-1744270200-1744270200@www.golfstlseniors.org
SUMMARY:D3    WK 1    Wolf Hollow Golf Club
DESCRIPTION:DIV 3 – WK 1     Split Tee Start     Wolf Hollow Golf Club    39
URL:https://www.golfstlseniors.org/event/d3-wk-1-wolf-hollow-golf-club/
LOCATION:Wolf Hollow Golf Club\, 4504 MO-100\, Labadie\, MO\, 63055\, United States
CATEGORIES:DIV 3
END:VEVENT
END:VCALENDAR