BEGIN:VCALENDAR
VERSION:2.0
PRODID:-//Metro St. Louis Seniors Golf - ECPv6.15.20//NONSGML v1.0//EN
CALSCALE:GREGORIAN
METHOD:PUBLISH
X-ORIGINAL-URL:https://www.golfstlseniors.org
X-WR-CALDESC:Events for Metro St. Louis Seniors Golf
REFRESH-INTERVAL;VALUE=DURATION:PT1H
X-Robots-Tag:noindex
X-PUBLISHED-TTL:PT1H
BEGIN:VTIMEZONE
TZID:America/Chicago
BEGIN:DAYLIGHT
TZOFFSETFROM:-0600
TZOFFSETTO:-0500
TZNAME:CDT
DTSTART:20240310T080000
END:DAYLIGHT
BEGIN:STANDARD
TZOFFSETFROM:-0500
TZOFFSETTO:-0600
TZNAME:CST
DTSTART:20241103T070000
END:STANDARD
BEGIN:DAYLIGHT
TZOFFSETFROM:-0600
TZOFFSETTO:-0500
TZNAME:CDT
DTSTART:20250309T080000
END:DAYLIGHT
BEGIN:STANDARD
TZOFFSETFROM:-0500
TZOFFSETTO:-0600
TZNAME:CST
DTSTART:20251102T070000
END:STANDARD
BEGIN:DAYLIGHT
TZOFFSETFROM:-0600
TZOFFSETTO:-0500
TZNAME:CDT
DTSTART:20260308T080000
END:DAYLIGHT
BEGIN:STANDARD
TZOFFSETFROM:-0500
TZOFFSETTO:-0600
TZNAME:CST
DTSTART:20261101T070000
END:STANDARD
END:VTIMEZONE
BEGIN:VEVENT
DTSTART;TZID=America/Chicago:20251009T080000
DTEND;TZID=America/Chicago:20251009T080000
DTSTAMP:20260423T142051
CREATED:20250331T205914Z
LAST-MODIFIED:20250331T205914Z
UID:14313-1759996800-1759996800@www.golfstlseniors.org
SUMMARY:D5    WK 26    Columbia Golf Club
DESCRIPTION:DIV 5 – WK 26     Shotgun Start     Columbia Golf Club    36
URL:https://www.golfstlseniors.org/event/d5-wk-26-columbia-golf-club/
LOCATION:Columbia Golf Club\, 125 2770 N\, Columbia\, IL\, 62236\, United States
CATEGORIES:DIV 5
END:VEVENT
BEGIN:VEVENT
DTSTART;TZID=America/Chicago:20251002T073000
DTEND;TZID=America/Chicago:20251002T073000
DTSTAMP:20260423T142051
CREATED:20250331T205913Z
LAST-MODIFIED:20250331T205913Z
UID:14312-1759390200-1759390200@www.golfstlseniors.org
SUMMARY:D5    WK 25    Mystic Oaks Golf Course
DESCRIPTION:DIV 5 – WK 25     Split Tee Start     Mystic Oaks Golf Course    34
URL:https://www.golfstlseniors.org/event/d5-wk-25-mystic-oaks-golf-course/
LOCATION:Mystic Oaks Golf Course\, 643 Ridge Rd\, Waterloo\, IL\, 62298\, United States
CATEGORIES:DIV 5
END:VEVENT
BEGIN:VEVENT
DTSTART;TZID=America/Chicago:20250925T073000
DTEND;TZID=America/Chicago:20250925T073000
DTSTAMP:20260423T142051
CREATED:20250331T205913Z
LAST-MODIFIED:20250331T205913Z
UID:14311-1758785400-1758785400@www.golfstlseniors.org
SUMMARY:D5    WK 24    Innsbrook Golf Course
DESCRIPTION:DIV 5 – WK 24     Split Tee Start     Innsbrook Golf Course    45
URL:https://www.golfstlseniors.org/event/d5-wk-24-innsbrook-golf-course/
LOCATION:Innsbrook Golf Course\, 1 Aspen Way Dr\, Innsbrook\, MO\, 63390\, United States
CATEGORIES:DIV 5
END:VEVENT
BEGIN:VEVENT
DTSTART;TZID=America/Chicago:20250918T080000
DTEND;TZID=America/Chicago:20250918T080000
DTSTAMP:20260423T142051
CREATED:20250331T205913Z
LAST-MODIFIED:20250331T205913Z
UID:14310-1758182400-1758182400@www.golfstlseniors.org
SUMMARY:D5    WK 23    Cardinal Creek GC
DESCRIPTION:DIV 5 – WK 23     Shotgun Start     Cardinal Creek GC    41
URL:https://www.golfstlseniors.org/event/d5-wk-23-cardinal-creek-gc/
LOCATION:Cardinal Creek GC\, 1192 Golf Course Rd\, Scott AFB\, IL\, 62225\, United States
CATEGORIES:DIV 5
END:VEVENT
BEGIN:VEVENT
DTSTART;TZID=America/Chicago:20250911T073000
DTEND;TZID=America/Chicago:20250911T073000
DTSTAMP:20260423T142051
CREATED:20250331T205912Z
LAST-MODIFIED:20250331T205912Z
UID:14309-1757575800-1757575800@www.golfstlseniors.org
SUMMARY:D5    WK 22    Woods Fort Golf Course
DESCRIPTION:DIV 5 – WK 22     Split Tee Start     Woods Fort Golf Course    $40.00+tx
URL:https://www.golfstlseniors.org/event/d5-wk-22-woods-fort-golf-course/
LOCATION:Woods Fort Golf Course\, 1 Country Club Dr\, Troy\, MO\, 63379\, United States
CATEGORIES:DIV 5
END:VEVENT
BEGIN:VEVENT
DTSTART;TZID=America/Chicago:20250904T073000
DTEND;TZID=America/Chicago:20250904T073000
DTSTAMP:20260423T142051
CREATED:20250331T205907Z
LAST-MODIFIED:20250331T205907Z
UID:14308-1756971000-1756971000@www.golfstlseniors.org
SUMMARY:D5    WK 21    Links of Dardenne
DESCRIPTION:DIV 5 – WK 21     Shotgun Start     Links of Dardenne    44
URL:https://www.golfstlseniors.org/event/d5-wk-21-links-of-dardenne/
LOCATION:Links of Dardenne\, 7000 Brassel Dr\, O'Fallon\, MO\, 63368\, United States
CATEGORIES:DIV 5
END:VEVENT
BEGIN:VEVENT
DTSTART;TZID=America/Chicago:20250828T073000
DTEND;TZID=America/Chicago:20250828T073000
DTSTAMP:20260423T142051
CREATED:20250331T205907Z
LAST-MODIFIED:20250331T205907Z
UID:14307-1756366200-1756366200@www.golfstlseniors.org
SUMMARY:D5    WK 20    Incline Village Golf Course
DESCRIPTION:DIV 5 – WK 20     Split Tee Start     Incline Village Golf Course    36
URL:https://www.golfstlseniors.org/event/d5-wk-20-incline-village-golf-course/
LOCATION:Incline Village Golf Course\, 10220 Fairway Dr\, Foristell\, MO\, 63348\, United States
CATEGORIES:DIV 5
END:VEVENT
BEGIN:VEVENT
DTSTART;TZID=America/Chicago:20250821T080000
DTEND;TZID=America/Chicago:20250821T080000
DTSTAMP:20260423T142051
CREATED:20250331T205907Z
LAST-MODIFIED:20250331T205907Z
UID:14306-1755763200-1755763200@www.golfstlseniors.org
SUMMARY:D5    WK 19    Cardinal Creek GC
DESCRIPTION:DIV 5 – WK 19     Shotgun Start     Cardinal Creek GC    41
URL:https://www.golfstlseniors.org/event/d5-wk-19-cardinal-creek-gc/
LOCATION:Cardinal Creek GC\, 1192 Golf Course Rd\, Scott AFB\, IL\, 62225\, United States
CATEGORIES:DIV 5
END:VEVENT
BEGIN:VEVENT
DTSTART;TZID=America/Chicago:20250814T063000
DTEND;TZID=America/Chicago:20250814T063000
DTSTAMP:20260423T142051
CREATED:20250331T205907Z
LAST-MODIFIED:20250331T205907Z
UID:14305-1755153000-1755153000@www.golfstlseniors.org
SUMMARY:D5    WK 18    Far Oaks Golf Club
DESCRIPTION:DIV 5 – WK 18     Split Tee Start     Far Oaks Golf Club    45
URL:https://www.golfstlseniors.org/event/d5-wk-18-far-oaks-golf-club/
LOCATION:Far Oaks Golf Club\, 419 Old Collinsville Rd\, Caseyville\, IL\, 62232\, United States
CATEGORIES:DIV 5
END:VEVENT
BEGIN:VEVENT
DTSTART;TZID=America/Chicago:20250807T070000
DTEND;TZID=America/Chicago:20250807T070000
DTSTAMP:20260423T142051
CREATED:20250331T205907Z
LAST-MODIFIED:20250331T205907Z
UID:14304-1754550000-1754550000@www.golfstlseniors.org
SUMMARY:D5    WK 17    Florissant Golf Club
DESCRIPTION:DIV 5 – WK 17     Split Tee Start     Florissant Golf Club    32
URL:https://www.golfstlseniors.org/event/d5-wk-17-florissant-golf-club/
LOCATION:Florissant Golf Club\, 50 Country Club Ln\, Florissant\, MO\, 63033\, United States
CATEGORIES:DIV 5
END:VEVENT
BEGIN:VEVENT
DTSTART;TZID=America/Chicago:20250731T070000
DTEND;TZID=America/Chicago:20250731T070000
DTSTAMP:20260423T142051
CREATED:20250331T205857Z
LAST-MODIFIED:20250331T205857Z
UID:14303-1753945200-1753945200@www.golfstlseniors.org
SUMMARY:D5    WK 16    Eagle Springs Golf Course
DESCRIPTION:DIV 5 – WK 16     Split Tee Start     Eagle Springs Golf Course    28
URL:https://www.golfstlseniors.org/event/d5-wk-16-eagle-springs-golf-course/
LOCATION:Eagle Springs Golf Course\, 2575 Redman Rd\, St. Louis\, MO\, 63136\, United States
CATEGORIES:DIV 5
END:VEVENT
BEGIN:VEVENT
DTSTART;TZID=America/Chicago:20250724T080000
DTEND;TZID=America/Chicago:20250724T080000
DTSTAMP:20260423T142051
CREATED:20250331T205856Z
LAST-MODIFIED:20250331T205856Z
UID:14302-1753344000-1753344000@www.golfstlseniors.org
SUMMARY:D5    WK 15    Crescent Farms
DESCRIPTION:DIV 5 – WK 15     Split Tee Start     Crescent Farms
URL:https://www.golfstlseniors.org/event/d5-wk-15-crescent-farms/
LOCATION:Crescent Farms\, 745 Lewis Rd\, Crescent\, MO\, 63025\, United States
CATEGORIES:DIV 5
END:VEVENT
BEGIN:VEVENT
DTSTART;TZID=America/Chicago:20250717T073000
DTEND;TZID=America/Chicago:20250717T073000
DTSTAMP:20260423T142051
CREATED:20250331T205856Z
LAST-MODIFIED:20250331T205856Z
UID:14301-1752737400-1752737400@www.golfstlseniors.org
SUMMARY:D5    WK 14    Woodlands Golf Club
DESCRIPTION:DIV 5 – WK 14     Split Tee Start     Woodlands Golf Club    29
URL:https://www.golfstlseniors.org/event/d5-wk-14-woodlands-golf-club/
LOCATION:Woodlands Golf Club\, 2839 Harris Ln\, Alton\, IL\, 62002\, United States
CATEGORIES:DIV 5
END:VEVENT
BEGIN:VEVENT
DTSTART;TZID=America/Chicago:20250710T070000
DTEND;TZID=America/Chicago:20250710T070000
DTSTAMP:20260423T142051
CREATED:20250331T205856Z
LAST-MODIFIED:20250331T205856Z
UID:14300-1752130800-1752130800@www.golfstlseniors.org
SUMMARY:D5    WK 13    Belk Park Golf Course
DESCRIPTION:DIV 5 – WK 13     Split Tee Start     Belk Park Golf Course    28
URL:https://www.golfstlseniors.org/event/d5-wk-13-belk-park-golf-course/
LOCATION:Belk Park Golf Course\, 880 Belk Park Rd\, Wood River\, Illinois\, 62095\, United States
CATEGORIES:DIV 5
END:VEVENT
BEGIN:VEVENT
DTSTART;TZID=America/Chicago:20250626T070000
DTEND;TZID=America/Chicago:20250626T070000
DTSTAMP:20260423T142051
CREATED:20250331T205856Z
LAST-MODIFIED:20250331T205856Z
UID:14299-1750921200-1750921200@www.golfstlseniors.org
SUMMARY:D5    WK 12    Golf Club of Wentzville
DESCRIPTION:DIV 5 – WK 12     Split Tee Start     Golf Club of Wentzville
URL:https://www.golfstlseniors.org/event/d5-wk-12-golf-club-of-wentzville/
LOCATION:Golf Club of Wentzville\, 9 Pro Shop Dr\, Wentzville\, MO\, 63385\, United States
CATEGORIES:DIV 5
END:VEVENT
BEGIN:VEVENT
DTSTART;TZID=America/Chicago:20250619T070000
DTEND;TZID=America/Chicago:20250619T070000
DTSTAMP:20260423T142051
CREATED:20250331T205849Z
LAST-MODIFIED:20250331T205849Z
UID:14298-1750316400-1750316400@www.golfstlseniors.org
SUMMARY:D5    WK 11    Oak Valley Golf Course
DESCRIPTION:DIV 5 – WK 11     Split Tee Start     Oak Valley Golf Course    30
URL:https://www.golfstlseniors.org/event/d5-wk-11-oak-valley-golf-course/
LOCATION:Oak Valley Golf Course\, 1230 Abbey Ln\, Pevely\, MO\, 63070\, United States
CATEGORIES:DIV 5
END:VEVENT
BEGIN:VEVENT
DTSTART;TZID=America/Chicago:20250612T073000
DTEND;TZID=America/Chicago:20250612T073000
DTSTAMP:20260423T142051
CREATED:20250331T205849Z
LAST-MODIFIED:20250331T205849Z
UID:14297-1749713400-1749713400@www.golfstlseniors.org
SUMMARY:D5    WK 10    Columbia Bridges Golf Club
DESCRIPTION:DIV 5 – WK 10     Split Tee Start     Columbia Bridges Golf Club    36
URL:https://www.golfstlseniors.org/event/d5-wk-10-columbia-bridges-golf-club/
LOCATION:Columbia Bridges Golf Club\, 1655 Columbia Bridges Rd\, Columbia\, IL\, 62236\, United States
CATEGORIES:DIV 5
END:VEVENT
BEGIN:VEVENT
DTSTART;TZID=America/Chicago:20250605T070000
DTEND;TZID=America/Chicago:20250605T070000
DTSTAMP:20260423T142051
CREATED:20250331T205848Z
LAST-MODIFIED:20250331T205848Z
UID:14296-1749106800-1749106800@www.golfstlseniors.org
SUMMARY:D5    WK 9    Lockhaven Golf Club
DESCRIPTION:DIV 5 – WK 9     Split Tee Start     Lockhaven Golf Club    35
URL:https://www.golfstlseniors.org/event/d5-wk-9-lockhaven-golf-club/
LOCATION:Lockhaven Golf Club\, 10872 Lawrence Keler Dr\, Godfrey\, IL\, 62035\, United States
CATEGORIES:DIV 5
END:VEVENT
BEGIN:VEVENT
DTSTART;TZID=America/Chicago:20250529T070000
DTEND;TZID=America/Chicago:20250529T070000
DTSTAMP:20260423T142051
CREATED:20250331T205848Z
LAST-MODIFIED:20250331T205848Z
UID:14295-1748502000-1748502000@www.golfstlseniors.org
SUMMARY:D5    WK 8    Tamarack Golf Course
DESCRIPTION:DIV 5 – WK 8     Split Tee Start     Tamarack Golf Course    40
URL:https://www.golfstlseniors.org/event/d5-wk-8-tamarack-golf-course/
LOCATION:Tamarack Golf Course\, 362 Tamarack Ln\, Shiloh\, IL\, 62269\, United States
CATEGORIES:DIV 5
END:VEVENT
BEGIN:VEVENT
DTSTART;TZID=America/Chicago:20250522T063000
DTEND;TZID=America/Chicago:20250522T063000
DTSTAMP:20260423T142051
CREATED:20250331T205848Z
LAST-MODIFIED:20250331T205848Z
UID:14294-1747895400-1747895400@www.golfstlseniors.org
SUMMARY:D5    WK 7    Falls Golf Club
DESCRIPTION:DIV 5 – WK 7     Split Tee Start     Falls Golf Club    45
URL:https://www.golfstlseniors.org/event/d5-wk-7-falls-golf-club/
LOCATION:Falls Golf Club\, 1170 Turtle Creek Dr\, O'Fallon\, MO\, 63366\, United States
CATEGORIES:DIV 5
END:VEVENT
BEGIN:VEVENT
DTSTART;TZID=America/Chicago:20250515T070000
DTEND;TZID=America/Chicago:20250515T070000
DTSTAMP:20260423T142051
CREATED:20250331T205838Z
LAST-MODIFIED:20250331T205838Z
UID:14293-1747292400-1747292400@www.golfstlseniors.org
SUMMARY:D5    WK 6    Spencer T Olin Golf Course
DESCRIPTION:DIV 5 – WK 6     Split Tee Start     Spencer T Olin Golf Course    38.95
URL:https://www.golfstlseniors.org/event/d5-wk-6-spencer-t-olin-golf-course/
LOCATION:Spencer T Olin Golf Course\, 4701 College Ave\, Alton\, IL\, 62002\, United States
CATEGORIES:DIV 5
END:VEVENT
BEGIN:VEVENT
DTSTART;TZID=America/Chicago:20250508T070000
DTEND;TZID=America/Chicago:20250508T070000
DTSTAMP:20260423T142051
CREATED:20250331T205838Z
LAST-MODIFIED:20250331T205838Z
UID:14292-1746687600-1746687600@www.golfstlseniors.org
SUMMARY:D5    WK 5    Aberdeen Golf Club
DESCRIPTION:DIV 5 – WK 5     Split Tee Start     Aberdeen Golf Club    40
URL:https://www.golfstlseniors.org/event/d5-wk-5-aberdeen-golf-club/
LOCATION:Aberdeen Golf Club\, 4111 Crescent Rd\, Eureka\, MO\, 63025\, United States
CATEGORIES:DIV 5
END:VEVENT
BEGIN:VEVENT
DTSTART;TZID=America/Chicago:20250501T063000
DTEND;TZID=America/Chicago:20250501T063000
DTSTAMP:20260423T142051
CREATED:20250331T205838Z
LAST-MODIFIED:20250331T205838Z
UID:14291-1746081000-1746081000@www.golfstlseniors.org
SUMMARY:D5    WK 4    Bear Creek Golf Club
DESCRIPTION:DIV 5 – WK 4     Split Tee Start     Bear Creek Golf Club
URL:https://www.golfstlseniors.org/event/d5-wk-4-bear-creek-golf-club/
LOCATION:Bear Creek Golf Club\, 158 Bear Creek Dr\, Wentzville\, MO\, 63385\, United States
CATEGORIES:DIV 5
END:VEVENT
BEGIN:VEVENT
DTSTART;TZID=America/Chicago:20250424T073000
DTEND;TZID=America/Chicago:20250424T073000
DTSTAMP:20260423T142051
CREATED:20250331T205838Z
LAST-MODIFIED:20250331T205838Z
UID:14290-1745479800-1745479800@www.golfstlseniors.org
SUMMARY:D5    WK 3    Wolf Hollow Golf Club
DESCRIPTION:DIV 5 – WK 3     Split Tee Start     Wolf Hollow Golf Club    39
URL:https://www.golfstlseniors.org/event/d5-wk-3-wolf-hollow-golf-club/
LOCATION:Wolf Hollow Golf Club\, 4504 MO-100\, Labadie\, MO\, 63055\, United States
CATEGORIES:DIV 5
END:VEVENT
BEGIN:VEVENT
DTSTART;TZID=America/Chicago:20250417T070000
DTEND;TZID=America/Chicago:20250417T070000
DTSTAMP:20260423T142051
CREATED:20250331T205838Z
LAST-MODIFIED:20250331T205838Z
UID:14289-1744873200-1744873200@www.golfstlseniors.org
SUMMARY:D5    WK 2    Spencer T Olin Golf Course
DESCRIPTION:DIV 5 – WK 2     Split Tee Start     Spencer T Olin Golf Course    38.95
URL:https://www.golfstlseniors.org/event/d5-wk-2-spencer-t-olin-golf-course/
LOCATION:Spencer T Olin Golf Course\, 4701 College Ave\, Alton\, IL\, 62002\, United States
CATEGORIES:DIV 5
END:VEVENT
BEGIN:VEVENT
DTSTART;TZID=America/Chicago:20250410T073000
DTEND;TZID=America/Chicago:20250410T073000
DTSTAMP:20260423T142051
CREATED:20250331T205834Z
LAST-MODIFIED:20250331T205834Z
UID:14288-1744270200-1744270200@www.golfstlseniors.org
SUMMARY:D5    WK 1    Acorns Golf Links
DESCRIPTION:DIV 5 – WK 1     Split Tee Start     Acorns Golf Links    34
URL:https://www.golfstlseniors.org/event/d5-wk-1-acorns-golf-links/
LOCATION:Acorns Golf Links\, 3933 Ahne Rd\, Waterloo\, Illinois\, 62298\, United States
CATEGORIES:DIV 5
END:VEVENT
END:VCALENDAR