BEGIN:VCALENDAR
VERSION:2.0
PRODID:-//Metro St. Louis Seniors Golf - ECPv6.15.20//NONSGML v1.0//EN
CALSCALE:GREGORIAN
METHOD:PUBLISH
X-ORIGINAL-URL:https://www.golfstlseniors.org
X-WR-CALDESC:Events for Metro St. Louis Seniors Golf
REFRESH-INTERVAL;VALUE=DURATION:PT1H
X-Robots-Tag:noindex
X-PUBLISHED-TTL:PT1H
BEGIN:VTIMEZONE
TZID:America/Chicago
BEGIN:DAYLIGHT
TZOFFSETFROM:-0600
TZOFFSETTO:-0500
TZNAME:CDT
DTSTART:20230312T080000
END:DAYLIGHT
BEGIN:STANDARD
TZOFFSETFROM:-0500
TZOFFSETTO:-0600
TZNAME:CST
DTSTART:20231105T070000
END:STANDARD
BEGIN:DAYLIGHT
TZOFFSETFROM:-0600
TZOFFSETTO:-0500
TZNAME:CDT
DTSTART:20240310T080000
END:DAYLIGHT
BEGIN:STANDARD
TZOFFSETFROM:-0500
TZOFFSETTO:-0600
TZNAME:CST
DTSTART:20241103T070000
END:STANDARD
BEGIN:DAYLIGHT
TZOFFSETFROM:-0600
TZOFFSETTO:-0500
TZNAME:CDT
DTSTART:20250309T080000
END:DAYLIGHT
BEGIN:STANDARD
TZOFFSETFROM:-0500
TZOFFSETTO:-0600
TZNAME:CST
DTSTART:20251102T070000
END:STANDARD
END:VTIMEZONE
BEGIN:VEVENT
DTSTART;TZID=America/Chicago:20240906T070000
DTEND;TZID=America/Chicago:20240906T070000
DTSTAMP:20260425T075115
CREATED:20240116T025630Z
LAST-MODIFIED:20240116T025630Z
UID:12897-1725606000-1725606000@www.golfstlseniors.org
SUMMARY:D1  Wk 21    Eagle Springs Golf Course
DESCRIPTION:Div1     – Sep 06    Split Tee Start  Eagle Springs Golf Course    $
URL:https://www.golfstlseniors.org/event/d1-wk-21-eagle-springs-golf-course/
LOCATION:Eagle Springs Golf Course\, 2575 Redman Rd\, St. Louis\, MO\, 63136\, United States
CATEGORIES:Div1
END:VEVENT
BEGIN:VEVENT
DTSTART;TZID=America/Chicago:20240913T080000
DTEND;TZID=America/Chicago:20240913T080000
DTSTAMP:20260425T075115
CREATED:20240116T025630Z
LAST-MODIFIED:20240116T025630Z
UID:12898-1726214400-1726214400@www.golfstlseniors.org
SUMMARY:D1  Wk 22    The Orchards GC
DESCRIPTION:Div1     – Sep 13    Split Tee Start  The Orchards GC    $
URL:https://www.golfstlseniors.org/event/d1-wk-22-the-orchards-gc/
LOCATION:The Orchards GC\, 1490 Golf Course Dr\, Belleville\, IL\, 62220\, United States
CATEGORIES:Div1
END:VEVENT
BEGIN:VEVENT
DTSTART;TZID=America/Chicago:20240920T070000
DTEND;TZID=America/Chicago:20240920T070000
DTSTAMP:20260425T075115
CREATED:20240116T025630Z
LAST-MODIFIED:20240116T025630Z
UID:12899-1726815600-1726815600@www.golfstlseniors.org
SUMMARY:D1  Wk 23    Lockhaven Golf Club
DESCRIPTION:Div1     – Sep 20    Split Tee Start  Lockhaven Golf Club    $
URL:https://www.golfstlseniors.org/event/d1-wk-23-lockhaven-golf-club/
LOCATION:Lockhaven Golf Club\, 10872 Lawrence Keler Dr\, Godfrey\, IL\, 62035\, United States
CATEGORIES:Div1
END:VEVENT
BEGIN:VEVENT
DTSTART;TZID=America/Chicago:20240927T070000
DTEND;TZID=America/Chicago:20240927T070000
DTSTAMP:20260425T075115
CREATED:20240116T025631Z
LAST-MODIFIED:20240116T025631Z
UID:12900-1727420400-1727420400@www.golfstlseniors.org
SUMMARY:D1  Wk 24    Cardinal Creek GC
DESCRIPTION:Div1     – Sep 27    Shotgun Start  Cardinal Creek GC    $37
URL:https://www.golfstlseniors.org/event/d1-wk-24-cardinal-creek-gc/
LOCATION:Cardinal Creek GC\, 1192 Golf Course Rd\, Scott AFB\, IL\, 62225\, United States
CATEGORIES:Div1
END:VEVENT
END:VCALENDAR