BEGIN:VCALENDAR
VERSION:2.0
PRODID:-//Metro St. Louis Seniors Golf - ECPv6.15.20//NONSGML v1.0//EN
CALSCALE:GREGORIAN
METHOD:PUBLISH
X-WR-CALNAME:Metro St. Louis Seniors Golf
X-ORIGINAL-URL:https://www.golfstlseniors.org
X-WR-CALDESC:Events for Metro St. Louis Seniors Golf
REFRESH-INTERVAL;VALUE=DURATION:PT1H
X-Robots-Tag:noindex
X-PUBLISHED-TTL:PT1H
BEGIN:VTIMEZONE
TZID:America/Chicago
BEGIN:DAYLIGHT
TZOFFSETFROM:-0600
TZOFFSETTO:-0500
TZNAME:CDT
DTSTART:20200308T080000
END:DAYLIGHT
BEGIN:STANDARD
TZOFFSETFROM:-0500
TZOFFSETTO:-0600
TZNAME:CST
DTSTART:20201101T070000
END:STANDARD
BEGIN:DAYLIGHT
TZOFFSETFROM:-0600
TZOFFSETTO:-0500
TZNAME:CDT
DTSTART:20210314T080000
END:DAYLIGHT
BEGIN:STANDARD
TZOFFSETFROM:-0500
TZOFFSETTO:-0600
TZNAME:CST
DTSTART:20211107T070000
END:STANDARD
BEGIN:DAYLIGHT
TZOFFSETFROM:-0600
TZOFFSETTO:-0500
TZNAME:CDT
DTSTART:20220313T080000
END:DAYLIGHT
BEGIN:STANDARD
TZOFFSETFROM:-0500
TZOFFSETTO:-0600
TZNAME:CST
DTSTART:20221106T070000
END:STANDARD
BEGIN:DAYLIGHT
TZOFFSETFROM:-0600
TZOFFSETTO:-0500
TZNAME:CDT
DTSTART:20230312T080000
END:DAYLIGHT
BEGIN:STANDARD
TZOFFSETFROM:-0500
TZOFFSETTO:-0600
TZNAME:CST
DTSTART:20231105T070000
END:STANDARD
END:VTIMEZONE
BEGIN:VEVENT
DTSTART;TZID=America/Chicago:20220812T063000
DTEND;TZID=America/Chicago:20220812T063000
DTSTAMP:20260424T065008
CREATED:20220308T212835Z
LAST-MODIFIED:20220308T214928Z
UID:9779-1660285800-1660285800@www.golfstlseniors.org
SUMMARY:D2 Wk 18 BEAR CREEK
DESCRIPTION:Div 2 Wk 18    Split Tee #1 and #10   BEAR CREEK
URL:https://www.golfstlseniors.org/event/d2-wk-18-bear-creek-2/
LOCATION:Bear Creek Golf Club\, 158 Bear Creek Dr\, Wentzville\, MO\, 63385\, United States
CATEGORIES:Div2
END:VEVENT
BEGIN:VEVENT
DTSTART;TZID=America/Chicago:20220805T070000
DTEND;TZID=America/Chicago:20220805T070000
DTSTAMP:20260424T065008
CREATED:20220308T212835Z
LAST-MODIFIED:20220308T214928Z
UID:9778-1659682800-1659682800@www.golfstlseniors.org
SUMMARY:D2 Wk 17 WENTZVILLE
DESCRIPTION:Div 2 Wk 17    Split Tee #1 and #10   WENTZVILLE
URL:https://www.golfstlseniors.org/event/d2-wk-17-wentzville-2/
LOCATION:Golf Club of Wentzville\, 9 Pro Shop Dr\, Wentzville\, MO\, 63385\, United States
CATEGORIES:Div2
END:VEVENT
BEGIN:VEVENT
DTSTART;TZID=America/Chicago:20220729T070000
DTEND;TZID=America/Chicago:20220729T070000
DTSTAMP:20260424T065008
CREATED:20220308T212835Z
LAST-MODIFIED:20220308T214928Z
UID:9777-1659078000-1659078000@www.golfstlseniors.org
SUMMARY:D2 Wk 16 TAMARACK
DESCRIPTION:Div 2 Wk 16    Split Tee #1 and #10   TAMARACK
URL:https://www.golfstlseniors.org/event/d2-wk-16-tamarack/
LOCATION:Tamarack Golf Course\, 362 Tamarack Ln\, Shiloh\, IL\, 62269\, United States
CATEGORIES:Div2
END:VEVENT
BEGIN:VEVENT
DTSTART;TZID=America/Chicago:20220722T070000
DTEND;TZID=America/Chicago:20220722T070000
DTSTAMP:20260424T065008
CREATED:20220308T212835Z
LAST-MODIFIED:20220308T214928Z
UID:9776-1658473200-1658473200@www.golfstlseniors.org
SUMMARY:D2 Wk 15 FLORISSANT
DESCRIPTION:Div 2 Wk 15    Split Tee #1 and #10   FLORISSANT
URL:https://www.golfstlseniors.org/event/d2-wk-15-florissant-2/
LOCATION:Florissant Golf Club\, 50 Country Club Ln\, Florissant\, MO\, 63033\, United States
CATEGORIES:Div2
END:VEVENT
BEGIN:VEVENT
DTSTART;TZID=America/Chicago:20220715T063000
DTEND;TZID=America/Chicago:20220715T063000
DTSTAMP:20260424T065008
CREATED:20220308T212821Z
LAST-MODIFIED:20220308T214913Z
UID:9775-1657866600-1657866600@www.golfstlseniors.org
SUMMARY:D2 Wk 14 ABERDEEN
DESCRIPTION:Div 2 Wk 14    Split Tee #1 and #10   ABERDEEN
URL:https://www.golfstlseniors.org/event/d2-wk-14-aberdeen-2/
LOCATION:Aberdeen Golf Club\, 4111 Crescent Rd\, Eureka\, MO\, 63025\, United States
CATEGORIES:Div2
END:VEVENT
BEGIN:VEVENT
DTSTART;TZID=America/Chicago:20220708T073000
DTEND;TZID=America/Chicago:20220708T073000
DTSTAMP:20260424T065008
CREATED:20220308T212821Z
LAST-MODIFIED:20220308T214913Z
UID:9774-1657265400-1657265400@www.golfstlseniors.org
SUMMARY:D2 Wk 13 LINKS @ DARDENNE
DESCRIPTION:Div 2 Wk 13    Shotgun   LINKS @ DARDENNE
URL:https://www.golfstlseniors.org/event/d2-wk-13-links-dardenne-2/
LOCATION:Links of Dardenne\, 7000 Brassel Dr\, O'Fallon\, MO\, 63368\, United States
CATEGORIES:Div2
END:VEVENT
BEGIN:VEVENT
DTSTART;TZID=America/Chicago:20220624T070000
DTEND;TZID=America/Chicago:20220624T070000
DTSTAMP:20260424T065008
CREATED:20220308T212820Z
LAST-MODIFIED:20220308T214913Z
UID:9773-1656054000-1656054000@www.golfstlseniors.org
SUMMARY:D2 Wk 12 FORE HONOR-deer creek
DESCRIPTION:Div 2 Wk 12    Split Tee #1 and #10   FORE HONOR-deer creek
URL:https://www.golfstlseniors.org/event/d2-wk-12-fore-honor-deer-creek/
LOCATION:MO
CATEGORIES:Div2
END:VEVENT
BEGIN:VEVENT
DTSTART;TZID=America/Chicago:20220617T070000
DTEND;TZID=America/Chicago:20220617T070000
DTSTAMP:20260424T065008
CREATED:20220308T212820Z
LAST-MODIFIED:20220308T214913Z
UID:9772-1655449200-1655449200@www.golfstlseniors.org
SUMMARY:D2 Wk 11 LOCKHAVEN
DESCRIPTION:Div 2 Wk 11    Split Tee #1 and #10   LOCKHAVEN
URL:https://www.golfstlseniors.org/event/d2-wk-11-lockhaven/
LOCATION:Lockhaven Golf Club\, 10872 Lawrence Keler Dr\, Godfrey\, IL\, 62035\, United States
CATEGORIES:Div2
END:VEVENT
BEGIN:VEVENT
DTSTART;TZID=America/Chicago:20220610T070000
DTEND;TZID=America/Chicago:20220610T070000
DTSTAMP:20260424T065008
CREATED:20220308T212820Z
LAST-MODIFIED:20220308T214913Z
UID:9771-1654844400-1654844400@www.golfstlseniors.org
SUMMARY:D2 Wk 10 SPENCER T OLIN #2
DESCRIPTION:Div 2 Wk 10    Split Tee #1 and #10   SPENCER T OLIN #2
URL:https://www.golfstlseniors.org/event/d2-wk-10-spencer-t-olin-2/
LOCATION:Spencer T Olin Golf Course\, 4701 College Ave\, Alton\, IL\, 62002\, United States
CATEGORIES:Div2
END:VEVENT
BEGIN:VEVENT
DTSTART;TZID=America/Chicago:20220603T073000
DTEND;TZID=America/Chicago:20220603T073000
DTSTAMP:20260424T065008
CREATED:20220308T212806Z
LAST-MODIFIED:20220308T214858Z
UID:9770-1654241400-1654241400@www.golfstlseniors.org
SUMMARY:D2 Wk 9 MYSTIC OAKS
DESCRIPTION:Div 2 Wk 9    Split Tee #1 and #10   MYSTIC OAKS
URL:https://www.golfstlseniors.org/event/d2-wk-9-mystic-oaks/
LOCATION:Mystic Oaks Golf Course\, 643 Ridge Rd\, Waterloo\, IL\, 62298\, United States
CATEGORIES:Div2
END:VEVENT
BEGIN:VEVENT
DTSTART;TZID=America/Chicago:20220527T070000
DTEND;TZID=America/Chicago:20220527T070000
DTSTAMP:20260424T065008
CREATED:20220308T212806Z
LAST-MODIFIED:20220308T214858Z
UID:9769-1653634800-1653634800@www.golfstlseniors.org
SUMMARY:D2 Wk 8 SUGSR CREEK
DESCRIPTION:Div 2 Wk 8    Split Tee #1 and #10   LEGACY
URL:https://www.golfstlseniors.org/event/d2-wk-8-sugsr-creek/
LOCATION:Sugar Creek Golf Course\, 4701 College Ave\, Alton\, IL\, 62002\, United States
CATEGORIES:Div2
END:VEVENT
BEGIN:VEVENT
DTSTART;TZID=America/Chicago:20220520T063000
DTEND;TZID=America/Chicago:20220520T063000
DTSTAMP:20260424T065008
CREATED:20220308T212805Z
LAST-MODIFIED:20220308T214858Z
UID:9768-1653028200-1653028200@www.golfstlseniors.org
SUMMARY:D2 Wk 7 FALLS
DESCRIPTION:Div 2 Wk 7    Split Tee #1 and #10   FALLS
URL:https://www.golfstlseniors.org/event/d2-wk-7-falls-2/
LOCATION:Falls Golf Club\, 1170 Turtle Creek Dr\, O'Fallon\, MO\, 63366\, United States
CATEGORIES:Div2
END:VEVENT
BEGIN:VEVENT
DTSTART;TZID=America/Chicago:20220513T070000
DTEND;TZID=America/Chicago:20220513T070000
DTSTAMP:20260424T065008
CREATED:20220308T212805Z
LAST-MODIFIED:20220308T214858Z
UID:9767-1652425200-1652425200@www.golfstlseniors.org
SUMMARY:D2 Wk 6 WOLF HOLLOW
DESCRIPTION:Div 2 Wk 6    Split Tee #1 and #10   WOLF HOLLOW
URL:https://www.golfstlseniors.org/event/d2-wk-6-wolf-hollow-2/
LOCATION:Wolf Hollow Golf Club\, 4504 MO-100\, Labadie\, MO\, 63055\, United States
CATEGORIES:Div2
END:VEVENT
BEGIN:VEVENT
DTSTART;TZID=America/Chicago:20220506T070000
DTEND;TZID=America/Chicago:20220506T070000
DTSTAMP:20260424T065008
CREATED:20220308T212805Z
LAST-MODIFIED:20220308T214857Z
UID:9766-1651820400-1651820400@www.golfstlseniors.org
SUMMARY:D2 Wk 5 EAGLE SPRINGS
DESCRIPTION:Div 2 Wk 5    Split Tee #1 and #10   EAGLE SPRINGS
URL:https://www.golfstlseniors.org/event/d2-wk-5-eagle-springs/
LOCATION:Eagle Springs Golf Course\, 2575 Redman Rd\, St. Louis\, MO\, 63136\, United States
CATEGORIES:Div2
END:VEVENT
BEGIN:VEVENT
DTSTART;TZID=America/Chicago:20220429T080000
DTEND;TZID=America/Chicago:20220429T080000
DTSTAMP:20260424T065008
CREATED:20220308T212751Z
LAST-MODIFIED:20220308T214843Z
UID:9765-1651219200-1651219200@www.golfstlseniors.org
SUMMARY:D2 Wk 4 COLUMBIA
DESCRIPTION:Div 2 Wk 4    Shotgun   COLUMBIA
URL:https://www.golfstlseniors.org/event/d2-wk-4-columbia-2/
LOCATION:Columbia Golf Club\, 125 2770 N\, Columbia\, IL\, 62236\, United States
CATEGORIES:Div2
END:VEVENT
BEGIN:VEVENT
DTSTART;TZID=America/Chicago:20220422T073000
DTEND;TZID=America/Chicago:20220422T073000
DTSTAMP:20260424T065008
CREATED:20220308T212751Z
LAST-MODIFIED:20220308T214843Z
UID:9764-1650612600-1650612600@www.golfstlseniors.org
SUMMARY:D2 Wk 3 SPENCER T OLIN #1
DESCRIPTION:Div 2 Wk 3    Split Tee #1 and #10   SPENCER T OLIN #1
URL:https://www.golfstlseniors.org/event/d2-wk-3-spencer-t-olin-1/
LOCATION:Spencer T Olin Golf Course\, 4701 College Ave\, Alton\, IL\, 62002\, United States
CATEGORIES:Div2
END:VEVENT
BEGIN:VEVENT
DTSTART;TZID=America/Chicago:20220414T080000
DTEND;TZID=America/Chicago:20220414T080000
DTSTAMP:20260424T065008
CREATED:20220308T212751Z
LAST-MODIFIED:20220308T214843Z
UID:9763-1649923200-1649923200@www.golfstlseniors.org
SUMMARY:D2 Wk 2 CRESCENT FARMS
DESCRIPTION:Div 2 Wk 2    Split Tee #1 and #10   CRESCENT FARMS
URL:https://www.golfstlseniors.org/event/d2-wk-2-crescent-farms-2/
LOCATION:Crescent Farms\, 745 Lewis Rd\, Crescent\, MO\, 63025\, United States
CATEGORIES:Div2
END:VEVENT
BEGIN:VEVENT
DTSTART;TZID=America/Chicago:20220408T073000
DTEND;TZID=America/Chicago:20220408T073000
DTSTAMP:20260424T065008
CREATED:20220308T212750Z
LAST-MODIFIED:20220308T214843Z
UID:9762-1649403000-1649403000@www.golfstlseniors.org
SUMMARY:D2 Wk 1 INCLINE VILLAGE
DESCRIPTION:Div 2 Wk 1    Split Tee #1 and #10   INCLINE VILLAGE
URL:https://www.golfstlseniors.org/event/d2-wk-1-incline-village-2/
LOCATION:Incline Village Golf Course\, 10220 Fairway Dr\, Foristell\, MO\, 63348\, United States
CATEGORIES:Div2
END:VEVENT
BEGIN:VEVENT
DTSTART;TZID=America/Chicago:20211008T073000
DTEND;TZID=America/Chicago:20211008T073000
DTSTAMP:20260424T065008
CREATED:20210105T161817Z
LAST-MODIFIED:20210409T215842Z
UID:8238-1633678200-1633678200@www.golfstlseniors.org
SUMMARY:D2 Wk 26 WOODLANDS
DESCRIPTION:Div 2 Wk 26 Split Tee Start WOODLANDS
URL:https://www.golfstlseniors.org/event/d2-wk-26-woodlands-2/
LOCATION:Woodlands Golf Club\, 2839 Harris Ln\, Alton\, IL\, 62002\, United States
CATEGORIES:Div2
END:VEVENT
BEGIN:VEVENT
DTSTART;TZID=America/Chicago:20211001T070000
DTEND;TZID=America/Chicago:20211001T070000
DTSTAMP:20260424T065008
CREATED:20210105T161816Z
LAST-MODIFIED:20210516T005318Z
UID:8237-1633071600-1633071600@www.golfstlseniors.org
SUMMARY:D2 Wk 25 OAK Valley
DESCRIPTION:Div 2 Wk 25 Split Tee #1 and #10 OAK VALLEY
URL:https://www.golfstlseniors.org/event/d2-wk-25-tamarack-2/
LOCATION:Oak Valley Golf Course\, 1230 Abbey Ln\, Pevely\, MO\, 63070\, United States
CATEGORIES:Div2
END:VEVENT
BEGIN:VEVENT
DTSTART;TZID=America/Chicago:20210924T070000
DTEND;TZID=America/Chicago:20210924T070000
DTSTAMP:20260424T065008
CREATED:20210105T161803Z
LAST-MODIFIED:20210114T163331Z
UID:8236-1632466800-1632466800@www.golfstlseniors.org
SUMMARY:D2 Wk 24 SPENCER T OLIN #2
DESCRIPTION:Div 2 Wk 24    Split Tee #1 and #10   SPENCER T OLIN #2
URL:https://www.golfstlseniors.org/event/d2-wk-24-spencer-t-olin-2/
LOCATION:Spencer T Olin Golf Course\, 4701 College Ave\, Alton\, IL\, 62002\, United States
CATEGORIES:Div2
END:VEVENT
BEGIN:VEVENT
DTSTART;TZID=America/Chicago:20210917T073000
DTEND;TZID=America/Chicago:20210917T073000
DTSTAMP:20260424T065008
CREATED:20210105T161802Z
LAST-MODIFIED:20210114T163331Z
UID:8235-1631863800-1631863800@www.golfstlseniors.org
SUMMARY:D2 Wk 23 LOCKHAVEN
DESCRIPTION:Div 2 Wk 23    Split Tee #1 and #10   LOCKHAVEN
URL:https://www.golfstlseniors.org/event/d2-wk-23-lockhaven-2/
LOCATION:Lockhaven Golf Club\, 10872 Lawrence Keler Dr\, Godfrey\, IL\, 62035\, United States
CATEGORIES:Div2
END:VEVENT
BEGIN:VEVENT
DTSTART;TZID=America/Chicago:20210910T073000
DTEND;TZID=America/Chicago:20210910T073000
DTSTAMP:20260424T065008
CREATED:20210105T161802Z
LAST-MODIFIED:20210114T163331Z
UID:8234-1631259000-1631259000@www.golfstlseniors.org
SUMMARY:D2 Wk 22 CRESCENT FARMS
DESCRIPTION:Div 2 Wk 22    Split Tee #1 and #10   CRESCENT FARMS
URL:https://www.golfstlseniors.org/event/d2-wk-22-crescent-farms-2/
LOCATION:Crescent Farms\, 745 Lewis Rd\, Crescent\, MO\, 63025\, United States
CATEGORIES:Div2
END:VEVENT
BEGIN:VEVENT
DTSTART;TZID=America/Chicago:20210903T073000
DTEND;TZID=America/Chicago:20210903T073000
DTSTAMP:20260424T065008
CREATED:20210105T161802Z
LAST-MODIFIED:20210501T215853Z
UID:8233-1630654200-1630654200@www.golfstlseniors.org
SUMMARY:D2 Wk 21 WOLF HOLLOW
DESCRIPTION:Div 2 Wk 21 Split Tee Start WOLF HOLLOW
URL:https://www.golfstlseniors.org/event/d2-wk-21-wolf-hollow-2/
LOCATION:Wolf Hollow Golf Club\, 4504 MO-100\, Labadie\, MO\, 63055\, United States
CATEGORIES:Div2
END:VEVENT
BEGIN:VEVENT
DTSTART;TZID=America/Chicago:20210827T070000
DTEND;TZID=America/Chicago:20210827T070000
DTSTAMP:20260424T065008
CREATED:20210105T161802Z
LAST-MODIFIED:20210114T163331Z
UID:8232-1630047600-1630047600@www.golfstlseniors.org
SUMMARY:D2 Wk 20 SPENCER T OLIN #1
DESCRIPTION:Div 2 Wk 20    Split Tee #1 and #10   SPENCER T OLIN #1
URL:https://www.golfstlseniors.org/event/d2-wk-20-spencer-t-olin-1/
LOCATION:Spencer T Olin Golf Course\, 4701 College Ave\, Alton\, IL\, 62002\, United States
CATEGORIES:Div2
END:VEVENT
BEGIN:VEVENT
DTSTART;TZID=America/Chicago:20210820T073000
DTEND;TZID=America/Chicago:20210820T073000
DTSTAMP:20260424T065008
CREATED:20210105T161747Z
LAST-MODIFIED:20210114T163316Z
UID:8231-1629444600-1629444600@www.golfstlseniors.org
SUMMARY:D2 Wk 19 INCLINE VILLAGE
DESCRIPTION:Div 2 Wk 19    Split Tee #1 and #10   INCLINE VILLAGE
URL:https://www.golfstlseniors.org/event/d2-wk-19-incline-village/
LOCATION:Incline Village Golf Course\, 10220 Fairway Dr\, Foristell\, MO\, 63348\, United States
CATEGORIES:Div2
END:VEVENT
BEGIN:VEVENT
DTSTART;TZID=America/Chicago:20210813T063000
DTEND;TZID=America/Chicago:20210813T063000
DTSTAMP:20260424T065008
CREATED:20210105T161747Z
LAST-MODIFIED:20210122T160907Z
UID:8229-1628836200-1628836200@www.golfstlseniors.org
SUMMARY:D2 Wk 18 FAR OAKS
DESCRIPTION:Div 2 Wk 18 Split Tee #1 and #10 FAR OAKS \nDate revised 1-22-2021
URL:https://www.golfstlseniors.org/event/d2-wk-17-far-oaks-2/
LOCATION:Far Oaks Golf Club\, 419 Old Collinsville Rd\, Caseyville\, IL\, 62232\, United States
CATEGORIES:Div2
END:VEVENT
BEGIN:VEVENT
DTSTART;TZID=America/Chicago:20210806T070000
DTEND;TZID=America/Chicago:20210806T070000
DTSTAMP:20260424T065008
CREATED:20210105T161747Z
LAST-MODIFIED:20210707T125616Z
UID:8230-1628233200-1628233200@www.golfstlseniors.org
SUMMARY:D2 Wk 17 FLORISSANT
DESCRIPTION:Div 2 Wk 17 Split Tee Start FLORISSANT \nDate revised 7-7-2021
URL:https://www.golfstlseniors.org/event/d2-wk-18-florissant-2/
LOCATION:Florissant Golf Club\, 50 Country Club Ln\, Florissant\, MO\, 63033\, United States
CATEGORIES:Div2
END:VEVENT
BEGIN:VEVENT
DTSTART;TZID=America/Chicago:20210730T063000
DTEND;TZID=America/Chicago:20210730T063000
DTSTAMP:20260424T065008
CREATED:20210105T161747Z
LAST-MODIFIED:20210707T125654Z
UID:8228-1627626600-1627626600@www.golfstlseniors.org
SUMMARY:D2 Wk 16 FALLS
DESCRIPTION:Div 2 Wk 16 Split Tee Start FALLS
URL:https://www.golfstlseniors.org/event/d2-wk-16-falls-2/
LOCATION:Falls Golf Club\, 1170 Turtle Creek Dr\, O'Fallon\, MO\, 63366\, United States
CATEGORIES:Div2
END:VEVENT
BEGIN:VEVENT
DTSTART;TZID=America/Chicago:20210723T063000
DTEND;TZID=America/Chicago:20210723T063000
DTSTAMP:20260424T065008
CREATED:20210105T161746Z
LAST-MODIFIED:20210707T125735Z
UID:8227-1627021800-1627021800@www.golfstlseniors.org
SUMMARY:D2 Wk 15 BEAR CREEK
DESCRIPTION:Div 2 Wk 15 Split Tee Start BEAR CREEK
URL:https://www.golfstlseniors.org/event/d2-wk-15-bear-creek-2/
LOCATION:Bear Creek Golf Club\, 158 Bear Creek Dr\, Wentzville\, MO\, 63385\, United States
CATEGORIES:Div2
END:VEVENT
END:VCALENDAR