BEGIN:VCALENDAR
VERSION:2.0
PRODID:-//Metro St. Louis Seniors Golf - ECPv6.15.20//NONSGML v1.0//EN
CALSCALE:GREGORIAN
METHOD:PUBLISH
X-WR-CALNAME:Metro St. Louis Seniors Golf
X-ORIGINAL-URL:https://www.golfstlseniors.org
X-WR-CALDESC:Events for Metro St. Louis Seniors Golf
REFRESH-INTERVAL;VALUE=DURATION:PT1H
X-Robots-Tag:noindex
X-PUBLISHED-TTL:PT1H
BEGIN:VTIMEZONE
TZID:America/Chicago
BEGIN:DAYLIGHT
TZOFFSETFROM:-0600
TZOFFSETTO:-0500
TZNAME:CDT
DTSTART:20190310T080000
END:DAYLIGHT
BEGIN:STANDARD
TZOFFSETFROM:-0500
TZOFFSETTO:-0600
TZNAME:CST
DTSTART:20191103T070000
END:STANDARD
BEGIN:DAYLIGHT
TZOFFSETFROM:-0600
TZOFFSETTO:-0500
TZNAME:CDT
DTSTART:20200308T080000
END:DAYLIGHT
BEGIN:STANDARD
TZOFFSETFROM:-0500
TZOFFSETTO:-0600
TZNAME:CST
DTSTART:20201101T070000
END:STANDARD
BEGIN:DAYLIGHT
TZOFFSETFROM:-0600
TZOFFSETTO:-0500
TZNAME:CDT
DTSTART:20210314T080000
END:DAYLIGHT
BEGIN:STANDARD
TZOFFSETFROM:-0500
TZOFFSETTO:-0600
TZNAME:CST
DTSTART:20211107T070000
END:STANDARD
BEGIN:DAYLIGHT
TZOFFSETFROM:-0600
TZOFFSETTO:-0500
TZNAME:CDT
DTSTART:20220313T080000
END:DAYLIGHT
BEGIN:STANDARD
TZOFFSETFROM:-0500
TZOFFSETTO:-0600
TZNAME:CST
DTSTART:20221106T070000
END:STANDARD
END:VTIMEZONE
BEGIN:VEVENT
DTSTART;TZID=America/Chicago:20210430T070000
DTEND;TZID=America/Chicago:20210430T070000
DTSTAMP:20260424T095307
CREATED:20210105T161703Z
LAST-MODIFIED:20210501T220712Z
UID:8216-1619766000-1619766000@www.golfstlseniors.org
SUMMARY:D2 Wk 4 ACORNS
DESCRIPTION:Div 2 Wk 4 Split Tee Start ACORNS
URL:https://www.golfstlseniors.org/event/d2-wk-4-acorns-2/
LOCATION:Acorns Golf Links\, 3933 Ahne Rd\, Waterloo\, Illinois\, 62298\, United States
CATEGORIES:Div2
END:VEVENT
BEGIN:VEVENT
DTSTART;TZID=America/Chicago:20210423T073000
DTEND;TZID=America/Chicago:20210423T073000
DTSTAMP:20260424T095307
CREATED:20210105T161703Z
LAST-MODIFIED:20210409T230901Z
UID:8215-1619163000-1619163000@www.golfstlseniors.org
SUMMARY:D2 Wk 3 LINKS @ DARDENNE
DESCRIPTION:Div 2 Wk 3 Shotgun Tee Start LINKS @ DARDENNE
URL:https://www.golfstlseniors.org/event/d2-wk-3-links-dardenne-2/
LOCATION:Links of Dardenne\, 7000 Brassel Dr\, O'Fallon\, MO\, 63368\, United States
CATEGORIES:Div2
END:VEVENT
BEGIN:VEVENT
DTSTART;TZID=America/Chicago:20210416T080000
DTEND;TZID=America/Chicago:20210416T080000
DTSTAMP:20260424T095307
CREATED:20210105T161702Z
LAST-MODIFIED:20210114T163232Z
UID:8214-1618560000-1618560000@www.golfstlseniors.org
SUMMARY:D2 Wk 2 COLUMBIA
DESCRIPTION:Div 2 Wk 2    Shotgun   COLUMBIA
URL:https://www.golfstlseniors.org/event/d2-wk-2-columbia-2/
LOCATION:Columbia Golf Club\, 125 2770 N\, Columbia\, IL\, 62236\, United States
CATEGORIES:Div2
END:VEVENT
BEGIN:VEVENT
DTSTART;TZID=America/Chicago:20210409T070000
DTEND;TZID=America/Chicago:20210409T070000
DTSTAMP:20260424T095307
CREATED:20210105T161702Z
LAST-MODIFIED:20210114T163232Z
UID:8213-1617951600-1617951600@www.golfstlseniors.org
SUMMARY:D2 Wk 1 EAGLE SPRINGS
DESCRIPTION:Div 2 Wk 1    Split Tee #1 and #10   EAGLE SPRINGS
URL:https://www.golfstlseniors.org/event/d2-wk-1-eagle-springs-2/
LOCATION:Eagle Springs Golf Course\, 2575 Redman Rd\, St. Louis\, MO\, 63136\, United States
CATEGORIES:Div2
END:VEVENT
BEGIN:VEVENT
DTSTART;TZID=America/Chicago:20200925T073000
DTEND;TZID=America/Chicago:20200925T073000
DTSTAMP:20260424T095307
CREATED:20191108T183800Z
LAST-MODIFIED:20191209T204250Z
UID:6043-1601019000-1601019000@www.golfstlseniors.org
SUMMARY:D2 Wk 24   TAMARACK
DESCRIPTION:Div 2 Wk 24 Split Tee #1 and #10 TAMARACK $30
URL:https://www.golfstlseniors.org/event/d2-wk-24-tamarack/
LOCATION:Tamarack Golf Course\, 362 Tamarack Ln\, Shiloh\, IL\, 62269\, United States
CATEGORIES:Div2
END:VEVENT
BEGIN:VEVENT
DTSTART;TZID=America/Chicago:20200918T073000
DTEND;TZID=America/Chicago:20200918T073000
DTSTAMP:20260424T095307
CREATED:20191108T183730Z
LAST-MODIFIED:20191108T183730Z
UID:5954-1600414200-1600414200@www.golfstlseniors.org
SUMMARY:D2 Wk 23   BELK PARK
DESCRIPTION:Div 2   Wk 23    Split Tee #1 and #10   BELK PARK    $25
URL:https://www.golfstlseniors.org/event/d2-wk-23-belk-park/
LOCATION:Belk Park Golf Course\, 880 Belk Park Rd\, Wood River\, Illinois\, 62095\, United States
CATEGORIES:Div2
END:VEVENT
BEGIN:VEVENT
DTSTART;TZID=America/Chicago:20200911T073000
DTEND;TZID=America/Chicago:20200911T073000
DTSTAMP:20260424T095307
CREATED:20191108T183755Z
LAST-MODIFIED:20191108T183755Z
UID:6029-1599809400-1599809400@www.golfstlseniors.org
SUMMARY:D2 Wk 22   OAK VALLEY
DESCRIPTION:Div 2   Wk 22    Split Tee #1 and #10   OAK VALLEY   $28.32
URL:https://www.golfstlseniors.org/event/d2-wk-22-oak-valley/
LOCATION:Oak Valley Golf Course\, 1230 Abbey Ln\, Pevely\, MO\, 63070\, United States
CATEGORIES:Div2
END:VEVENT
BEGIN:VEVENT
DTSTART;TZID=America/Chicago:20200904T070000
DTEND;TZID=America/Chicago:20200904T070000
DTSTAMP:20260424T095307
CREATED:20191108T183727Z
LAST-MODIFIED:20191108T183727Z
UID:5944-1599202800-1599202800@www.golfstlseniors.org
SUMMARY:D2 Wk 21   ACORNS
DESCRIPTION:Div 2   Wk 21    Split Tee #1 and #10   ACORNS    $25
URL:https://www.golfstlseniors.org/event/d2-wk-21-acorns/
LOCATION:Acorns Golf Links\, 3933 Ahne Rd\, Waterloo\, Illinois\, 62298\, United States
CATEGORIES:Div2
END:VEVENT
BEGIN:VEVENT
DTSTART;TZID=America/Chicago:20200828T070000
DTEND;TZID=America/Chicago:20200828T070000
DTSTAMP:20260424T095307
CREATED:20191108T183805Z
LAST-MODIFIED:20191108T183805Z
UID:6057-1598598000-1598598000@www.golfstlseniors.org
SUMMARY:D2 Wk 20   WOODLANDS
DESCRIPTION:Div 2   Wk 20    Split Tee #1 and #10   WOODLANDS   $26
URL:https://www.golfstlseniors.org/event/d2-wk-20-woodlands/
LOCATION:Woodlands Golf Club\, 2839 Harris Ln\, Alton\, IL\, 62002\, United States
CATEGORIES:Div2
END:VEVENT
BEGIN:VEVENT
DTSTART;TZID=America/Chicago:20200821T063000
DTEND;TZID=America/Chicago:20200821T063000
DTSTAMP:20260424T095307
CREATED:20191108T183743Z
LAST-MODIFIED:20191108T183743Z
UID:5992-1597991400-1597991400@www.golfstlseniors.org
SUMMARY:D2 Wk 19   FAR OAKS
DESCRIPTION:Div 2   Wk 19    Split Tee #1 and #10   FAR OAKS    $32
URL:https://www.golfstlseniors.org/event/d2-wk-19-far-oaks/
LOCATION:Far Oaks Golf Club\, 419 Old Collinsville Rd\, Caseyville\, IL\, 62232\, United States
CATEGORIES:Div2
END:VEVENT
BEGIN:VEVENT
DTSTART;TZID=America/Chicago:20200814T070000
DTEND;TZID=America/Chicago:20200814T070000
DTSTAMP:20260424T095307
CREATED:20191108T183729Z
LAST-MODIFIED:20191108T183729Z
UID:5949-1597388400-1597388400@www.golfstlseniors.org
SUMMARY:D2 Wk 18   BEAR CREEK
DESCRIPTION:Div 2   Wk 18    Split Tee #1 and #10   BEAR CREEK    $33
URL:https://www.golfstlseniors.org/event/d2-wk-18-bear-creek/
LOCATION:Bear Creek Golf Club\, 158 Bear Creek Dr\, Wentzville\, MO\, 63385\, United States
CATEGORIES:Div2
END:VEVENT
BEGIN:VEVENT
DTSTART;TZID=America/Chicago:20200807T070000
DTEND;TZID=America/Chicago:20200807T070000
DTSTAMP:20260424T095307
CREATED:20191108T183802Z
LAST-MODIFIED:20191108T183802Z
UID:6048-1596783600-1596783600@www.golfstlseniors.org
SUMMARY:D2 Wk 17   WENTZVILLE
DESCRIPTION:Div 2   Wk 17    Split Tee #1 and #10   WENTZVILLE   $30
URL:https://www.golfstlseniors.org/event/d2-wk-17-wentzville/
LOCATION:Golf Club of Wentzville\, 9 Pro Shop Dr\, Wentzville\, MO\, 63385\, United States
CATEGORIES:Div2
END:VEVENT
BEGIN:VEVENT
DTSTART;TZID=America/Chicago:20200731T070000
DTEND;TZID=America/Chicago:20200731T070000
DTSTAMP:20260424T095307
CREATED:20191108T183758Z
LAST-MODIFIED:20191108T183758Z
UID:6036-1596178800-1596178800@www.golfstlseniors.org
SUMMARY:D2 Wk 16   STONEWOLF
DESCRIPTION:Div 2   Wk 16    Split Tee #1 and #10   STONEWOLF     $33
URL:https://www.golfstlseniors.org/event/d2-wk-16-stonewolf/
LOCATION:Stonewolf Golf Club\, 1195 Stonewolf Trail\, Fairview Heights\, IL\, 62208\, United States
CATEGORIES:Div2
END:VEVENT
BEGIN:VEVENT
DTSTART;TZID=America/Chicago:20200724T070000
DTEND;TZID=America/Chicago:20200724T070000
DTSTAMP:20260424T095307
CREATED:20191108T183745Z
LAST-MODIFIED:20191108T183745Z
UID:5997-1595574000-1595574000@www.golfstlseniors.org
SUMMARY:D2 Wk 15   FLORISSANT
DESCRIPTION:Div 2   Wk 15    Split Tee #1 and #10   FLORISSANT    $28
URL:https://www.golfstlseniors.org/event/d2-wk-15-florissant/
LOCATION:Florissant Golf Club\, 50 Country Club Ln\, Florissant\, MO\, 63033\, United States
CATEGORIES:Div2
END:VEVENT
BEGIN:VEVENT
DTSTART;TZID=America/Chicago:20200717T063000
DTEND;TZID=America/Chicago:20200717T063000
DTSTAMP:20260424T095307
CREATED:20191108T183724Z
LAST-MODIFIED:20191108T183724Z
UID:5938-1594967400-1594967400@www.golfstlseniors.org
SUMMARY:D2 Wk 14   ABERDEEN
DESCRIPTION:Div 2   Wk 14    Split Tee #1 and #10   ABERDEEN   $32
URL:https://www.golfstlseniors.org/event/d2-wk-14-aberdeen/
LOCATION:Aberdeen Golf Club\, 4111 Crescent Rd\, Eureka\, MO\, 63025\, United States
CATEGORIES:Div2
END:VEVENT
BEGIN:VEVENT
DTSTART;TZID=America/Chicago:20200710T073000
DTEND;TZID=America/Chicago:20200710T073000
DTSTAMP:20260424T095307
CREATED:20191108T183751Z
LAST-MODIFIED:20191108T183751Z
UID:6016-1594366200-1594366200@www.golfstlseniors.org
SUMMARY:D2 Wk 13   LINKS @ DARDENNE *
DESCRIPTION:Div 2   Wk 13    Shotgun   LINKS @ DARDENNE *   $31
URL:https://www.golfstlseniors.org/event/d2-wk-13-links-dardenne/
LOCATION:Links of Dardenne\, 7000 Brassel Dr\, O'Fallon\, MO\, 63368\, United States
CATEGORIES:Div2
END:VEVENT
BEGIN:VEVENT
DTSTART;TZID=America/Chicago:20200626T070000
DTEND;TZID=America/Chicago:20200626T070000
DTSTAMP:20260424T095307
CREATED:20191108T183737Z
LAST-MODIFIED:20200512T000118Z
UID:5976-1593154800-1593154800@www.golfstlseniors.org
SUMMARY:D2 Wk 12   DEER CREEK
DESCRIPTION:Div 2   Wk 12    Split Tee Start #1 and #10   DEER CREEK   $25  56 Players / Carts Max. Reservations Required. 12 min Start Gap.
URL:https://www.golfstlseniors.org/event/d2-wk-12-deer-creek/
LOCATION:Fore Honor – Deer Creek Golf Club\, 5300 Dulin Creek Rd\, House Springs\, MO\, 63051\, United States
CATEGORIES:Div2
END:VEVENT
BEGIN:VEVENT
DTSTART;TZID=America/Chicago:20200619T070000
DTEND;TZID=America/Chicago:20200619T070000
DTSTAMP:20260424T095307
CREATED:20191108T183739Z
LAST-MODIFIED:20200512T000118Z
UID:5982-1592550000-1592550000@www.golfstlseniors.org
SUMMARY:D2 Wk 11   EAGLE SPRINGS
DESCRIPTION:Div 2   Wk 11    Split Tee Start #1 and #10   EAGLE SPRINGS    $27  68 Players / Carts Max. Reservations Required. 10 Min Start Gap
URL:https://www.golfstlseniors.org/event/d2-wk-11-eagle-springs/
LOCATION:Eagle Springs Golf Course\, 2575 Redman Rd\, St. Louis\, MO\, 63136\, United States
CATEGORIES:Div2
END:VEVENT
BEGIN:VEVENT
DTSTART;TZID=America/Chicago:20200612T073000
DTEND;TZID=America/Chicago:20200612T073000
DTSTAMP:20260424T095307
CREATED:20200512T000114Z
LAST-MODIFIED:20200512T000114Z
UID:7206-1591947000-1591947000@www.golfstlseniors.org
SUMMARY:D2 Wk 10   CRESCENT FARMS
DESCRIPTION:Div 2   Wk 10    Tee #1 Start Only  CRESCENT FARMS  $35  72 Players / Carts Max. Reservations Required. 9 Min Start Gap.
URL:https://www.golfstlseniors.org/event/d2-wk-10-crescent-farms/
LOCATION:Crescent Farms\, 745 Lewis Rd\, Crescent\, MO\, 63025\, United States
CATEGORIES:Div2
END:VEVENT
BEGIN:VEVENT
DTSTART;TZID=America/Chicago:20200605T070000
DTEND;TZID=America/Chicago:20200605T070000
DTSTAMP:20260424T095307
CREATED:20191108T183807Z
LAST-MODIFIED:20200512T000118Z
UID:6061-1591340400-1591340400@www.golfstlseniors.org
SUMMARY:D2 Wk 9   WOODS FORT
DESCRIPTION:Div 2   Wk 9    Split Tee Start #1 and #10    WOODS FORT   $28  100 Players / Carts Max. Reservations Required. 10 Minute Start Gap
URL:https://www.golfstlseniors.org/event/d2-wk-9-woods-fort/
LOCATION:Woods Fort Golf Course\, 1 Country Club Dr\, Troy\, MO\, 63379\, United States
CATEGORIES:Div2
END:VEVENT
END:VCALENDAR