BEGIN:VCALENDAR
VERSION:2.0
PRODID:-//Metro St. Louis Seniors Golf - ECPv6.15.20//NONSGML v1.0//EN
CALSCALE:GREGORIAN
METHOD:PUBLISH
X-WR-CALNAME:Metro St. Louis Seniors Golf
X-ORIGINAL-URL:https://www.golfstlseniors.org
X-WR-CALDESC:Events for Metro St. Louis Seniors Golf
REFRESH-INTERVAL;VALUE=DURATION:PT1H
X-Robots-Tag:noindex
X-PUBLISHED-TTL:PT1H
BEGIN:VTIMEZONE
TZID:America/Chicago
BEGIN:DAYLIGHT
TZOFFSETFROM:-0600
TZOFFSETTO:-0500
TZNAME:CDT
DTSTART:20220313T080000
END:DAYLIGHT
BEGIN:STANDARD
TZOFFSETFROM:-0500
TZOFFSETTO:-0600
TZNAME:CST
DTSTART:20221106T070000
END:STANDARD
BEGIN:DAYLIGHT
TZOFFSETFROM:-0600
TZOFFSETTO:-0500
TZNAME:CDT
DTSTART:20230312T080000
END:DAYLIGHT
BEGIN:STANDARD
TZOFFSETFROM:-0500
TZOFFSETTO:-0600
TZNAME:CST
DTSTART:20231105T070000
END:STANDARD
BEGIN:DAYLIGHT
TZOFFSETFROM:-0600
TZOFFSETTO:-0500
TZNAME:CDT
DTSTART:20240310T080000
END:DAYLIGHT
BEGIN:STANDARD
TZOFFSETFROM:-0500
TZOFFSETTO:-0600
TZNAME:CST
DTSTART:20241103T070000
END:STANDARD
BEGIN:DAYLIGHT
TZOFFSETFROM:-0600
TZOFFSETTO:-0500
TZNAME:CDT
DTSTART:20250309T080000
END:DAYLIGHT
BEGIN:STANDARD
TZOFFSETFROM:-0500
TZOFFSETTO:-0600
TZNAME:CST
DTSTART:20251102T070000
END:STANDARD
END:VTIMEZONE
BEGIN:VEVENT
DTSTART;TZID=America/Chicago:20240516T070000
DTEND;TZID=America/Chicago:20240516T070000
DTSTAMP:20260424T023818
CREATED:20240116T025815Z
LAST-MODIFIED:20240116T025815Z
UID:12934-1715842800-1715842800@www.golfstlseniors.org
SUMMARY:D3  Wk 6    Acorns Golf Links
DESCRIPTION:Div3     – May 16    Split Tee Start  Acorns Golf Links    $
URL:https://www.golfstlseniors.org/event/d3-wk-6-acorns-golf-links/
LOCATION:Acorns Golf Links\, 3933 Ahne Rd\, Waterloo\, Illinois\, 62298\, United States
CATEGORIES:Div3
END:VEVENT
BEGIN:VEVENT
DTSTART;TZID=America/Chicago:20240509T073000
DTEND;TZID=America/Chicago:20240509T073000
DTSTAMP:20260424T023818
CREATED:20240116T025815Z
LAST-MODIFIED:20240116T025815Z
UID:12933-1715239800-1715239800@www.golfstlseniors.org
SUMMARY:D3  Wk 5    Incline Village Golf Course
DESCRIPTION:Div3     – May 09    Split Tee Start  Incline Village Golf Course    $34
URL:https://www.golfstlseniors.org/event/d3-wk-5-incline-village-golf-course/
LOCATION:Incline Village Golf Course\, 10220 Fairway Dr\, Foristell\, MO\, 63348\, United States
CATEGORIES:Div3
END:VEVENT
BEGIN:VEVENT
DTSTART;TZID=America/Chicago:20240502T073000
DTEND;TZID=America/Chicago:20240502T073000
DTSTAMP:20260424T023818
CREATED:20240116T025815Z
LAST-MODIFIED:20240116T025815Z
UID:12932-1714635000-1714635000@www.golfstlseniors.org
SUMMARY:D3  Wk 4    Oak Valley Golf Course
DESCRIPTION:Div3     – May 02    Split Tee Start  Oak Valley Golf Course    $
URL:https://www.golfstlseniors.org/event/d3-wk-4-oak-valley-golf-course/
LOCATION:Oak Valley Golf Course\, 1230 Abbey Ln\, Pevely\, MO\, 63070\, United States
CATEGORIES:Div3
END:VEVENT
BEGIN:VEVENT
DTSTART;TZID=America/Chicago:20240425T070000
DTEND;TZID=America/Chicago:20240425T070000
DTSTAMP:20260424T023818
CREATED:20240116T025801Z
LAST-MODIFIED:20240116T025801Z
UID:12931-1714028400-1714028400@www.golfstlseniors.org
SUMMARY:D3  Wk 3    Falls Golf Club
DESCRIPTION:Div3     – Apr 25    Split Tee Start  Falls Golf Club    $42
URL:https://www.golfstlseniors.org/event/d3-wk-3-falls-golf-club/
LOCATION:Falls Golf Club\, 1170 Turtle Creek Dr\, O'Fallon\, MO\, 63366\, United States
CATEGORIES:Div3
END:VEVENT
BEGIN:VEVENT
DTSTART;TZID=America/Chicago:20240418T063000
DTEND;TZID=America/Chicago:20240418T063000
DTSTAMP:20260424T023818
CREATED:20240116T025801Z
LAST-MODIFIED:20240116T025801Z
UID:12930-1713421800-1713421800@www.golfstlseniors.org
SUMMARY:D3  Wk 2    Bear Creek Golf Club
DESCRIPTION:Div3     – Apr 18    Split Tee Start  Bear Creek Golf Club    $
URL:https://www.golfstlseniors.org/event/d3-wk-2-bear-creek-golf-club/
LOCATION:Bear Creek Golf Club\, 158 Bear Creek Dr\, Wentzville\, MO\, 63385\, United States
CATEGORIES:Div3
END:VEVENT
BEGIN:VEVENT
DTSTART;TZID=America/Chicago:20240411T073000
DTEND;TZID=America/Chicago:20240411T073000
DTSTAMP:20260424T023818
CREATED:20240116T025800Z
LAST-MODIFIED:20240116T025800Z
UID:12929-1712820600-1712820600@www.golfstlseniors.org
SUMMARY:D3  Wk 1    Belk Park Golf Course
DESCRIPTION:Div3     – Apr 11    Split Tee Start  Belk Park Golf Course    $27
URL:https://www.golfstlseniors.org/event/d3-wk-1-belk-park-golf-course/
LOCATION:Belk Park Golf Course\, 880 Belk Park Rd\, Wood River\, Illinois\, 62095\, United States
CATEGORIES:Div3
END:VEVENT
BEGIN:VEVENT
DTSTART;TZID=America/Chicago:20231005T073000
DTEND;TZID=America/Chicago:20231005T073000
DTSTAMP:20260424T023818
CREATED:20230308T182723Z
LAST-MODIFIED:20230308T184744Z
UID:11501-1696491000-1696491000@www.golfstlseniors.org
SUMMARY:D3 Wk 26 WOODLANDS
DESCRIPTION:Div 3 Wk 26    Split Tee #1 and #87    WOODLANDS  $27
URL:https://www.golfstlseniors.org/event/d3-wk-26-woodlands-3/
LOCATION:Woodlands Golf Club\, 2839 Harris Ln\, Alton\, IL\, 62002\, United States
CATEGORIES:Div3
END:VEVENT
BEGIN:VEVENT
DTSTART;TZID=America/Chicago:20230928T070000
DTEND;TZID=America/Chicago:20230928T070000
DTSTAMP:20260424T023818
CREATED:20230308T182723Z
LAST-MODIFIED:20230308T184744Z
UID:11500-1695884400-1695884400@www.golfstlseniors.org
SUMMARY:D3 Wk 25 EAGLE SPRINGS
DESCRIPTION:Div 3 Wk 25    Split Tee #1 and #86    EAGLE SPRINGS  $27
URL:https://www.golfstlseniors.org/event/d3-wk-25-eagle-springs-3/
LOCATION:Eagle Springs Golf Course\, 2575 Redman Rd\, St. Louis\, MO\, 63136\, United States
CATEGORIES:Div3
END:VEVENT
BEGIN:VEVENT
DTSTART;TZID=America/Chicago:20230921T073000
DTEND;TZID=America/Chicago:20230921T073000
DTSTAMP:20260424T023818
CREATED:20230308T182723Z
LAST-MODIFIED:20230308T184744Z
UID:11499-1695281400-1695281400@www.golfstlseniors.org
SUMMARY:D3 Wk 24 SPENCER T OLIN #1
DESCRIPTION:Div 3 Wk 24    Split Tee #1 and #85    SPENCER T OLIN #1  $35.95
URL:https://www.golfstlseniors.org/event/d3-wk-24-spencer-t-olin-1/
LOCATION:Spencer T Olin Golf Course\, 4701 College Ave\, Alton\, IL\, 62002\, United States
CATEGORIES:Div3
END:VEVENT
BEGIN:VEVENT
DTSTART;TZID=America/Chicago:20230914T070000
DTEND;TZID=America/Chicago:20230914T070000
DTSTAMP:20260424T023818
CREATED:20230308T182708Z
LAST-MODIFIED:20230308T184729Z
UID:11498-1694674800-1694674800@www.golfstlseniors.org
SUMMARY:D3 Wk 23 ABERDEEN
DESCRIPTION:Div 3 Wk 23    Split Tee #1 and #84    ABERDEEN  $38
URL:https://www.golfstlseniors.org/event/d3-wk-23-aberdeen-3/
LOCATION:Aberdeen Golf Club\, 4111 Crescent Rd\, Eureka\, MO\, 63025\, United States
CATEGORIES:Div3
END:VEVENT
BEGIN:VEVENT
DTSTART;TZID=America/Chicago:20230907T070000
DTEND;TZID=America/Chicago:20230907T070000
DTSTAMP:20260424T023818
CREATED:20230308T182708Z
LAST-MODIFIED:20230308T184729Z
UID:11497-1694070000-1694070000@www.golfstlseniors.org
SUMMARY:D3 Wk 22 COLUMBIA   (Shotgun Start)
DESCRIPTION:Div 3 Wk 22    Shotgun    COLUMBIA   (Shotgun Start)  $31
URL:https://www.golfstlseniors.org/event/d3-wk-22-columbia-shotgun-start/
LOCATION:Columbia Golf Club\, 125 2770 N\, Columbia\, IL\, 62236\, United States
CATEGORIES:Div3
END:VEVENT
BEGIN:VEVENT
DTSTART;TZID=America/Chicago:20230831T070000
DTEND;TZID=America/Chicago:20230831T070000
DTSTAMP:20260424T023818
CREATED:20230308T182708Z
LAST-MODIFIED:20230308T184729Z
UID:11496-1693465200-1693465200@www.golfstlseniors.org
SUMMARY:D3 Wk 21 OAK VALLEY
DESCRIPTION:Div 3 Wk 21    Split Tee #1 and #82    OAK VALLEY  $29
URL:https://www.golfstlseniors.org/event/d3-wk-21-oak-valley-3/
LOCATION:Oak Valley Golf Course\, 1230 Abbey Ln\, Pevely\, MO\, 63070\, United States
CATEGORIES:Div3
END:VEVENT
BEGIN:VEVENT
DTSTART;TZID=America/Chicago:20230824T063000
DTEND;TZID=America/Chicago:20230824T063000
DTSTAMP:20260424T023818
CREATED:20230308T182708Z
LAST-MODIFIED:20230308T184729Z
UID:11495-1692858600-1692858600@www.golfstlseniors.org
SUMMARY:D3 Wk 20 FAR OAKS
DESCRIPTION:Div 3 Wk 20    Split Tee #1 and #81    FAR OAKS  $38
URL:https://www.golfstlseniors.org/event/d3-wk-20-far-oaks-3/
LOCATION:Far Oaks Golf Club\, 419 Old Collinsville Rd\, Caseyville\, IL\, 62232\, United States
CATEGORIES:Div3
END:VEVENT
BEGIN:VEVENT
DTSTART;TZID=America/Chicago:20230817T080000
DTEND;TZID=America/Chicago:20230817T080000
DTSTAMP:20260424T023818
CREATED:20230308T182708Z
LAST-MODIFIED:20230308T184729Z
UID:11494-1692259200-1692259200@www.golfstlseniors.org
SUMMARY:D3 Wk 19 CRESCENT FARMS
DESCRIPTION:Div 3 Wk 19    Split Tee #1 and #80    CRESCENT FARMS  $50
URL:https://www.golfstlseniors.org/event/d3-wk-19-crescent-farms-3/
LOCATION:Crescent Farms\, 745 Lewis Rd\, Crescent\, MO\, 63025\, United States
CATEGORIES:Div3
END:VEVENT
BEGIN:VEVENT
DTSTART;TZID=America/Chicago:20230810T073000
DTEND;TZID=America/Chicago:20230810T073000
DTSTAMP:20260424T023818
CREATED:20230308T182654Z
LAST-MODIFIED:20230308T184714Z
UID:11493-1691652600-1691652600@www.golfstlseniors.org
SUMMARY:D3 Wk 18 LINKS @ DARDENNE (Shotgun Start)
DESCRIPTION:Div 3 Wk 18    Shotgun    LINKS @ DARDENNE (Shotgun Start)  $37
URL:https://www.golfstlseniors.org/event/d3-wk-18-links-dardenne-shotgun-start/
LOCATION:Links of Dardenne\, 7000 Brassel Dr\, O'Fallon\, MO\, 63368\, United States
CATEGORIES:Div3
END:VEVENT
BEGIN:VEVENT
DTSTART;TZID=America/Chicago:20230803T073000
DTEND;TZID=America/Chicago:20230803T073000
DTSTAMP:20260424T023818
CREATED:20230308T182653Z
LAST-MODIFIED:20230308T184714Z
UID:11492-1691047800-1691047800@www.golfstlseniors.org
SUMMARY:D3 Wk 17 MYSTIC OAKS
DESCRIPTION:Div 3 Wk 17    Split Tee #1 and #78    MYSTIC OAKS  $28
URL:https://www.golfstlseniors.org/event/d3-wk-17-mystic-oaks-2/
LOCATION:Mystic Oaks Golf Course\, 643 Ridge Rd\, Waterloo\, IL\, 62298\, United States
CATEGORIES:Div3
END:VEVENT
BEGIN:VEVENT
DTSTART;TZID=America/Chicago:20230727T070000
DTEND;TZID=America/Chicago:20230727T070000
DTSTAMP:20260424T023818
CREATED:20230308T182653Z
LAST-MODIFIED:20230308T184714Z
UID:11491-1690441200-1690441200@www.golfstlseniors.org
SUMMARY:D3 Wk 16 SUGAR CREEK
DESCRIPTION:Div 3 Wk 16    Split Tee #1 and #77    SUGAR CREEK  $26
URL:https://www.golfstlseniors.org/event/d3-wk-16-sugar-creek/
LOCATION:Sugar Creek Golf Course\, 4701 College Ave\, Alton\, IL\, 62002\, United States
CATEGORIES:Div3
END:VEVENT
BEGIN:VEVENT
DTSTART;TZID=America/Chicago:20230720T070000
DTEND;TZID=America/Chicago:20230720T070000
DTSTAMP:20260424T023818
CREATED:20230308T182653Z
LAST-MODIFIED:20230308T184714Z
UID:11490-1689836400-1689836400@www.golfstlseniors.org
SUMMARY:D3 Wk 15 INNSBROOK
DESCRIPTION:Div 3 Wk 15    Split Tee #1 and #76    INNSBROOK  $39
URL:https://www.golfstlseniors.org/event/d3-wk-15-innsbrook-3/
LOCATION:Innsbrook Golf Course\, 1 Aspen Way Dr\, Innsbrook\, MO\, 63390\, United States
CATEGORIES:Div3
END:VEVENT
BEGIN:VEVENT
DTSTART;TZID=America/Chicago:20230713T073000
DTEND;TZID=America/Chicago:20230713T073000
DTSTAMP:20260424T023818
CREATED:20230308T182653Z
LAST-MODIFIED:20230308T184714Z
UID:11489-1689233400-1689233400@www.golfstlseniors.org
SUMMARY:D3 Wk 14 WOODS FORT
DESCRIPTION:Div 3 Wk 14    Split Tee #1 and #75    WOODS FORT  $34
URL:https://www.golfstlseniors.org/event/d3-wk-14-woods-fort-3/
LOCATION:Woods Fort Golf Course\, 1 Country Club Dr\, Troy\, MO\, 63379\, United States
CATEGORIES:Div3
END:VEVENT
BEGIN:VEVENT
DTSTART;TZID=America/Chicago:20230706T070000
DTEND;TZID=America/Chicago:20230706T070000
DTSTAMP:20260424T023818
CREATED:20230308T182638Z
LAST-MODIFIED:20230308T184659Z
UID:11488-1688626800-1688626800@www.golfstlseniors.org
SUMMARY:D3 Wk 13 QUAIL CREEK
DESCRIPTION:Div 3 Wk 13    Split Tee #1 and #74    QUAIL CREEK  $30
URL:https://www.golfstlseniors.org/event/d3-wk-13-quail-creek/
LOCATION:Quail Creek GC\, 6022 Wells Rd\, St. Louis\, MO\, 63128\, United States
CATEGORIES:Div3
END:VEVENT
BEGIN:VEVENT
DTSTART;TZID=America/Chicago:20230629T073000
DTEND;TZID=America/Chicago:20230629T073000
DTSTAMP:20260424T023818
CREATED:20230308T182638Z
LAST-MODIFIED:20230308T184659Z
UID:11487-1688023800-1688023800@www.golfstlseniors.org
SUMMARY:D3 Wk 12 COLUMBIA BRIDGES
DESCRIPTION:Div 3 Wk 12    Split Tee #1 and #73    COLUMBIA BRIDGES  $31
URL:https://www.golfstlseniors.org/event/d3-wk-12-columbia-bridges/
LOCATION:Columbia Bridges Golf Club\, 1655 Columbia Bridges Rd\, Columbia\, IL\, 62236\, United States
CATEGORIES:Div3
END:VEVENT
BEGIN:VEVENT
DTSTART;TZID=America/Chicago:20230622T063000
DTEND;TZID=America/Chicago:20230622T063000
DTSTAMP:20260424T023818
CREATED:20230308T182638Z
LAST-MODIFIED:20230308T184659Z
UID:11486-1687415400-1687415400@www.golfstlseniors.org
SUMMARY:D3 Wk 11 FALLS
DESCRIPTION:Div 3 Wk 11    Split Tee #1 and #72    FALLS  $39
URL:https://www.golfstlseniors.org/event/d3-wk-11-falls/
LOCATION:Falls Golf Club\, 1170 Turtle Creek Dr\, O'Fallon\, MO\, 63366\, United States
CATEGORIES:Div3
END:VEVENT
BEGIN:VEVENT
DTSTART;TZID=America/Chicago:20230615T070000
DTEND;TZID=America/Chicago:20230615T070000
DTSTAMP:20260424T023818
CREATED:20230308T182638Z
LAST-MODIFIED:20230308T184659Z
UID:11485-1686812400-1686812400@www.golfstlseniors.org
SUMMARY:D3 Wk 10 TAMARACK
DESCRIPTION:Div 3 Wk 10    Split Tee #1 and #71    TAMARACK  $38
URL:https://www.golfstlseniors.org/event/d3-wk-10-tamarack/
LOCATION:Tamarack Golf Course\, 362 Tamarack Ln\, Shiloh\, IL\, 62269\, United States
CATEGORIES:Div3
END:VEVENT
BEGIN:VEVENT
DTSTART;TZID=America/Chicago:20230608T070000
DTEND;TZID=America/Chicago:20230608T070000
DTSTAMP:20260424T023818
CREATED:20230308T182638Z
LAST-MODIFIED:20230308T184659Z
UID:11484-1686207600-1686207600@www.golfstlseniors.org
SUMMARY:D3 Wk 9 BEAR CREEK
DESCRIPTION:Div 3 Wk 9    Split Tee #1 and #70    BEAR CREEK  $38
URL:https://www.golfstlseniors.org/event/d3-wk-9-bear-creek/
LOCATION:Bear Creek Golf Club\, 158 Bear Creek Dr\, Wentzville\, MO\, 63385\, United States
CATEGORIES:Div3
END:VEVENT
BEGIN:VEVENT
DTSTART;TZID=America/Chicago:20230601T070000
DTEND;TZID=America/Chicago:20230601T070000
DTSTAMP:20260424T023818
CREATED:20230308T182624Z
LAST-MODIFIED:20230308T184644Z
UID:11483-1685602800-1685602800@www.golfstlseniors.org
SUMMARY:D3 Wk 8 SPENCER T OLIN #2
DESCRIPTION:Div 3 Wk 8    Split Tee #1 and #69    SPENCER T OLIN #2  $35.95
URL:https://www.golfstlseniors.org/event/d3-wk-8-spencer-t-olin-2/
LOCATION:Spencer T Olin Golf Course\, 4701 College Ave\, Alton\, IL\, 62002\, United States
CATEGORIES:Div3
END:VEVENT
BEGIN:VEVENT
DTSTART;TZID=America/Chicago:20230525T070000
DTEND;TZID=America/Chicago:20230525T070000
DTSTAMP:20260424T023818
CREATED:20230308T182623Z
LAST-MODIFIED:20230308T184644Z
UID:11482-1684998000-1684998000@www.golfstlseniors.org
SUMMARY:D3 Wk 7 BELK PARK
DESCRIPTION:Div 3 Wk 7    Split Tee #1 and #68    BELK PARK  $26
URL:https://www.golfstlseniors.org/event/d3-wk-7-belk-park/
LOCATION:Belk Park Golf Course\, 880 Belk Park Rd\, Wood River\, Illinois\, 62095\, United States
CATEGORIES:Div3
END:VEVENT
BEGIN:VEVENT
DTSTART;TZID=America/Chicago:20230518T070000
DTEND;TZID=America/Chicago:20230518T070000
DTSTAMP:20260424T023818
CREATED:20230308T182623Z
LAST-MODIFIED:20230308T184644Z
UID:11481-1684393200-1684393200@www.golfstlseniors.org
SUMMARY:D3 Wk 6 WENTZVILLE
DESCRIPTION:Div 3 Wk 6    Split Tee #1 and #67    WENTZVILLE  $39
URL:https://www.golfstlseniors.org/event/d3-wk-6-wentzville/
LOCATION:Golf Club of Wentzville\, 9 Pro Shop Dr\, Wentzville\, MO\, 63385\, United States
CATEGORIES:Div3
END:VEVENT
BEGIN:VEVENT
DTSTART;TZID=America/Chicago:20230511T070000
DTEND;TZID=America/Chicago:20230511T070000
DTSTAMP:20260424T023818
CREATED:20230308T182623Z
LAST-MODIFIED:20230308T184644Z
UID:11480-1683788400-1683788400@www.golfstlseniors.org
SUMMARY:D3 Wk 5 ACORNS
DESCRIPTION:Div 3 Wk 5    Split Tee #1 and #66    ACORNS  $30
URL:https://www.golfstlseniors.org/event/d3-wk-5-acorns/
LOCATION:Acorns Golf Links\, 3933 Ahne Rd\, Waterloo\, Illinois\, 62298\, United States
CATEGORIES:Div3
END:VEVENT
BEGIN:VEVENT
DTSTART;TZID=America/Chicago:20230504T073000
DTEND;TZID=America/Chicago:20230504T073000
DTSTAMP:20260424T023818
CREATED:20230308T182623Z
LAST-MODIFIED:20230308T184644Z
UID:11479-1683185400-1683185400@www.golfstlseniors.org
SUMMARY:D3 Wk 4 INCLINE VILLAGE
DESCRIPTION:Div 3 Wk 4    Split Tee #1 and #65    INCLINE VILLAGE  $32
URL:https://www.golfstlseniors.org/event/d3-wk-4-incline-village/
LOCATION:Incline Village Golf Course\, 10220 Fairway Dr\, Foristell\, MO\, 63348\, United States
CATEGORIES:Div3
END:VEVENT
BEGIN:VEVENT
DTSTART;TZID=America/Chicago:20230427T073000
DTEND;TZID=America/Chicago:20230427T073000
DTSTAMP:20260424T023818
CREATED:20230308T182608Z
LAST-MODIFIED:20230308T184629Z
UID:11478-1682580600-1682580600@www.golfstlseniors.org
SUMMARY:D3 Wk 3 FLORISSANT
DESCRIPTION:Div 3 Wk 3    Split Tee #1 and #64    FLORISSANT  $28
URL:https://www.golfstlseniors.org/event/d3-wk-3-florissant/
LOCATION:Florissant Golf Club\, 50 Country Club Ln\, Florissant\, MO\, 63033\, United States
CATEGORIES:Div3
END:VEVENT
END:VCALENDAR