BEGIN:VCALENDAR
VERSION:2.0
PRODID:-//Metro St. Louis Seniors Golf - ECPv6.15.20//NONSGML v1.0//EN
CALSCALE:GREGORIAN
METHOD:PUBLISH
X-WR-CALNAME:Metro St. Louis Seniors Golf
X-ORIGINAL-URL:https://www.golfstlseniors.org
X-WR-CALDESC:Events for Metro St. Louis Seniors Golf
REFRESH-INTERVAL;VALUE=DURATION:PT1H
X-Robots-Tag:noindex
X-PUBLISHED-TTL:PT1H
BEGIN:VTIMEZONE
TZID:America/Chicago
BEGIN:DAYLIGHT
TZOFFSETFROM:-0600
TZOFFSETTO:-0500
TZNAME:CDT
DTSTART:20190310T080000
END:DAYLIGHT
BEGIN:STANDARD
TZOFFSETFROM:-0500
TZOFFSETTO:-0600
TZNAME:CST
DTSTART:20191103T070000
END:STANDARD
BEGIN:DAYLIGHT
TZOFFSETFROM:-0600
TZOFFSETTO:-0500
TZNAME:CDT
DTSTART:20200308T080000
END:DAYLIGHT
BEGIN:STANDARD
TZOFFSETFROM:-0500
TZOFFSETTO:-0600
TZNAME:CST
DTSTART:20201101T070000
END:STANDARD
BEGIN:DAYLIGHT
TZOFFSETFROM:-0600
TZOFFSETTO:-0500
TZNAME:CDT
DTSTART:20210314T080000
END:DAYLIGHT
BEGIN:STANDARD
TZOFFSETFROM:-0500
TZOFFSETTO:-0600
TZNAME:CST
DTSTART:20211107T070000
END:STANDARD
BEGIN:DAYLIGHT
TZOFFSETFROM:-0600
TZOFFSETTO:-0500
TZNAME:CDT
DTSTART:20220313T080000
END:DAYLIGHT
BEGIN:STANDARD
TZOFFSETFROM:-0500
TZOFFSETTO:-0600
TZNAME:CST
DTSTART:20221106T070000
END:STANDARD
END:VTIMEZONE
BEGIN:VEVENT
DTSTART;TZID=America/Chicago:20210923T080000
DTEND;TZID=America/Chicago:20210923T080000
DTSTAMP:20260424T070316
CREATED:20210105T161932Z
LAST-MODIFIED:20210114T163502Z
UID:8262-1632384000-1632384000@www.golfstlseniors.org
SUMMARY:D3 Wk 24 LEGACY
DESCRIPTION:Div 3 Wk 24    Split Tee #1 and #10   LEGACY
URL:https://www.golfstlseniors.org/event/d3-wk-24-legacy-2/
LOCATION:Legacy Golf Course\, 3500 Cargill Rd\, Granite City\, IL\, 62040\, United States
CATEGORIES:Div3
END:VEVENT
BEGIN:VEVENT
DTSTART;TZID=America/Chicago:20210916T070000
DTEND;TZID=America/Chicago:20210916T070000
DTSTAMP:20260424T070316
CREATED:20210105T161917Z
LAST-MODIFIED:20210114T163447Z
UID:8261-1631775600-1631775600@www.golfstlseniors.org
SUMMARY:D3 Wk 23 ABERDEEN
DESCRIPTION:Div 3 Wk 23    Split Tee #1 and #10   ABERDEEN
URL:https://www.golfstlseniors.org/event/d3-wk-23-aberdeen-2/
LOCATION:Aberdeen Golf Club\, 4111 Crescent Rd\, Eureka\, MO\, 63025\, United States
CATEGORIES:Div3
END:VEVENT
BEGIN:VEVENT
DTSTART;TZID=America/Chicago:20210909T080000
DTEND;TZID=America/Chicago:20210909T080000
DTSTAMP:20260424T070316
CREATED:20210105T161917Z
LAST-MODIFIED:20210114T163447Z
UID:8260-1631174400-1631174400@www.golfstlseniors.org
SUMMARY:D3 Wk 22 COLUMBIA
DESCRIPTION:Div 3 Wk 22    Shotgun   COLUMBIA
URL:https://www.golfstlseniors.org/event/d3-wk-22-columbia-2/
LOCATION:Columbia Golf Club\, 125 2770 N\, Columbia\, IL\, 62236\, United States
CATEGORIES:Div3
END:VEVENT
BEGIN:VEVENT
DTSTART;TZID=America/Chicago:20210902T073000
DTEND;TZID=America/Chicago:20210902T073000
DTSTAMP:20260424T070316
CREATED:20210105T161917Z
LAST-MODIFIED:20210114T163446Z
UID:8259-1630567800-1630567800@www.golfstlseniors.org
SUMMARY:D3 Wk 21 OAK VALLEY
DESCRIPTION:Div 3 Wk 21    Split Tee #1 and #10   OAK VALLEY
URL:https://www.golfstlseniors.org/event/d3-wk-21-oak-valley-2/
LOCATION:Oak Valley Golf Course\, 1230 Abbey Ln\, Pevely\, MO\, 63070\, United States
CATEGORIES:Div3
END:VEVENT
BEGIN:VEVENT
DTSTART;TZID=America/Chicago:20210826T063000
DTEND;TZID=America/Chicago:20210826T063000
DTSTAMP:20260424T070316
CREATED:20210105T161917Z
LAST-MODIFIED:20210114T163446Z
UID:8258-1629959400-1629959400@www.golfstlseniors.org
SUMMARY:D3 Wk 20 FAR OAKS
DESCRIPTION:Div 3 Wk 20    Split Tee #1 and #10   FAR OAKS
URL:https://www.golfstlseniors.org/event/d3-wk-20-far-oaks-2/
LOCATION:Far Oaks Golf Club\, 419 Old Collinsville Rd\, Caseyville\, IL\, 62232\, United States
CATEGORIES:Div3
END:VEVENT
BEGIN:VEVENT
DTSTART;TZID=America/Chicago:20210819T073000
DTEND;TZID=America/Chicago:20210819T073000
DTSTAMP:20260424T070316
CREATED:20210105T161916Z
LAST-MODIFIED:20210114T163446Z
UID:8257-1629358200-1629358200@www.golfstlseniors.org
SUMMARY:D3 Wk 19 CRESCENT FARMS
DESCRIPTION:Div 3 Wk 19    Split Tee #1 and #10   CRESCENT FARMS
URL:https://www.golfstlseniors.org/event/d3-wk-19-crescent-farms-2/
LOCATION:Crescent Farms\, 745 Lewis Rd\, Crescent\, MO\, 63025\, United States
CATEGORIES:Div3
END:VEVENT
BEGIN:VEVENT
DTSTART;TZID=America/Chicago:20210812T073000
DTEND;TZID=America/Chicago:20210812T073000
DTSTAMP:20260424T070316
CREATED:20210105T161902Z
LAST-MODIFIED:20210409T231139Z
UID:8256-1628753400-1628753400@www.golfstlseniors.org
SUMMARY:D3 Wk 18 LINKS @ DARDENNE
DESCRIPTION:Div 3 Wk 18 Shotgun Tee Start LINKS @ DARDENNE
URL:https://www.golfstlseniors.org/event/d3-wk-18-links-dardenne-2/
LOCATION:Links of Dardenne\, 7000 Brassel Dr\, O'Fallon\, MO\, 63368\, United States
CATEGORIES:Div3
END:VEVENT
BEGIN:VEVENT
DTSTART;TZID=America/Chicago:20210805T070000
DTEND;TZID=America/Chicago:20210805T070000
DTSTAMP:20260424T070316
CREATED:20210105T161902Z
LAST-MODIFIED:20210114T163431Z
UID:8255-1628146800-1628146800@www.golfstlseniors.org
SUMMARY:D3 Wk 17 MYSTIC OAKS
DESCRIPTION:Div 3 Wk 17    Split Tee #1 and #10   MYSTIC OAKS
URL:https://www.golfstlseniors.org/event/d3-wk-17-mystic-oaks/
LOCATION:Mystic Oaks Golf Course\, 643 Ridge Rd\, Waterloo\, IL\, 62298\, United States
CATEGORIES:Div3
END:VEVENT
BEGIN:VEVENT
DTSTART;TZID=America/Chicago:20210729T070000
DTEND;TZID=America/Chicago:20210729T070000
DTSTAMP:20260424T070316
CREATED:20210105T161902Z
LAST-MODIFIED:20210114T163431Z
UID:8254-1627542000-1627542000@www.golfstlseniors.org
SUMMARY:D3 Wk 16 SPENCER T OLIN #1
DESCRIPTION:Div 3 Wk 16    Split Tee #1 and #10   SPENCER T OLIN #1
URL:https://www.golfstlseniors.org/event/d3-wk-16-spencer-t-olin-1/
LOCATION:Spencer T Olin Golf Course\, 4701 College Ave\, Alton\, IL\, 62002\, United States
CATEGORIES:Div3
END:VEVENT
BEGIN:VEVENT
DTSTART;TZID=America/Chicago:20210722T070000
DTEND;TZID=America/Chicago:20210722T070000
DTSTAMP:20260424T070316
CREATED:20210105T161902Z
LAST-MODIFIED:20210114T163431Z
UID:8253-1626937200-1626937200@www.golfstlseniors.org
SUMMARY:D3 Wk 15 INNSBROOK
DESCRIPTION:Div 3 Wk 15    Split Tee #1 and #10   INNSBROOK
URL:https://www.golfstlseniors.org/event/d3-wk-15-innsbrook-2/
LOCATION:Innsbrook Golf Course\, 1 Aspen Way Dr\, Innsbrook\, MO\, 63390\, United States
CATEGORIES:Div3
END:VEVENT
BEGIN:VEVENT
DTSTART;TZID=America/Chicago:20210715T070000
DTEND;TZID=America/Chicago:20210715T070000
DTSTAMP:20260424T070316
CREATED:20210105T161901Z
LAST-MODIFIED:20210114T163431Z
UID:8252-1626332400-1626332400@www.golfstlseniors.org
SUMMARY:D3 Wk 14 WOODS FORT
DESCRIPTION:Div 3 Wk 14    Split Tee #1 and #10   WOODS FORT
URL:https://www.golfstlseniors.org/event/d3-wk-14-woods-fort-2/
LOCATION:Woods Fort Golf Course\, 1 Country Club Dr\, Troy\, MO\, 63379\, United States
CATEGORIES:Div3
END:VEVENT
BEGIN:VEVENT
DTSTART;TZID=America/Chicago:20210708T070000
DTEND;TZID=America/Chicago:20210708T070000
DTSTAMP:20260424T070316
CREATED:20210105T161848Z
LAST-MODIFIED:20210307T173059Z
UID:8251-1625727600-1625727600@www.golfstlseniors.org
SUMMARY:D3 Wk 13 FORE HONOR-deer creek
DESCRIPTION:Div 3 Wk 13 Split Tee #1 and #10 FORE HONOR-deer creek
URL:https://www.golfstlseniors.org/event/d3-wk-13-fore-honor-deer-creek/
LOCATION:Fore Honor – Deer Creek Golf Club\, 5300 Dulin Creek Rd\, House Springs\, MO\, 63051\, United States
CATEGORIES:Div3
END:VEVENT
BEGIN:VEVENT
DTSTART;TZID=America/Chicago:20210624T063000
DTEND;TZID=America/Chicago:20210624T063000
DTSTAMP:20260424T070316
CREATED:20210105T161847Z
LAST-MODIFIED:20210415T001211Z
UID:8250-1624516200-1624516200@www.golfstlseniors.org
SUMMARY:D3 Wk 12 FALLS
DESCRIPTION:Div 3 Wk 12 Split Tee Start FALLS
URL:https://www.golfstlseniors.org/event/d3-wk-12-falls-2/
LOCATION:Falls Golf Club\, 1170 Turtle Creek Dr\, O'Fallon\, MO\, 63366\, United States
CATEGORIES:Div3
END:VEVENT
BEGIN:VEVENT
DTSTART;TZID=America/Chicago:20210617T070000
DTEND;TZID=America/Chicago:20210617T070000
DTSTAMP:20260424T070316
CREATED:20210105T161847Z
LAST-MODIFIED:20210114T163416Z
UID:8249-1623913200-1623913200@www.golfstlseniors.org
SUMMARY:D3 Wk 11 TAMARACK
DESCRIPTION:Div 3 Wk 11    Split Tee #1 and #10   TAMARACK
URL:https://www.golfstlseniors.org/event/d3-wk-11-tamarack-2/
LOCATION:Tamarack Golf Course\, 362 Tamarack Ln\, Shiloh\, IL\, 62269\, United States
CATEGORIES:Div3
END:VEVENT
BEGIN:VEVENT
DTSTART;TZID=America/Chicago:20210610T063000
DTEND;TZID=America/Chicago:20210610T063000
DTSTAMP:20260424T070316
CREATED:20210105T161847Z
LAST-MODIFIED:20210409T220121Z
UID:8248-1623306600-1623306600@www.golfstlseniors.org
SUMMARY:D3 Wk 10 BEAR CREEK
DESCRIPTION:Div 3 Wk 10 Split Tee Start BEAR CREEK
URL:https://www.golfstlseniors.org/event/d3-wk-10-bear-creek-2/
LOCATION:Bear Creek Golf Club\, 158 Bear Creek Dr\, Wentzville\, MO\, 63385\, United States
CATEGORIES:Div3
END:VEVENT
BEGIN:VEVENT
DTSTART;TZID=America/Chicago:20210603T070000
DTEND;TZID=America/Chicago:20210603T070000
DTSTAMP:20260424T070316
CREATED:20210105T161847Z
LAST-MODIFIED:20210114T163416Z
UID:8247-1622703600-1622703600@www.golfstlseniors.org
SUMMARY:D3 Wk 9 SPENCER T OLIN #2
DESCRIPTION:Div 3 Wk 9    Split Tee #1 and #10   SPENCER T OLIN #2
URL:https://www.golfstlseniors.org/event/d3-wk-9-spencer-t-olin-2/
LOCATION:Spencer T Olin Golf Course\, 4701 College Ave\, Alton\, IL\, 62002\, United States
CATEGORIES:Div3
END:VEVENT
BEGIN:VEVENT
DTSTART;TZID=America/Chicago:20210527T070000
DTEND;TZID=America/Chicago:20210527T070000
DTSTAMP:20260424T070316
CREATED:20210105T161832Z
LAST-MODIFIED:20210114T163402Z
UID:8246-1622098800-1622098800@www.golfstlseniors.org
SUMMARY:D3 Wk 8 BELK PARK
DESCRIPTION:Div 3 Wk 8    Split Tee #1 and #10   BELK PARK
URL:https://www.golfstlseniors.org/event/d3-wk-8-belk-park-2/
LOCATION:Belk Park Golf Course\, 880 Belk Park Rd\, Wood River\, Illinois\, 62095\, United States
CATEGORIES:Div3
END:VEVENT
BEGIN:VEVENT
DTSTART;TZID=America/Chicago:20210520T070000
DTEND;TZID=America/Chicago:20210520T070000
DTSTAMP:20260424T070316
CREATED:20210105T161832Z
LAST-MODIFIED:20210114T163402Z
UID:8245-1621494000-1621494000@www.golfstlseniors.org
SUMMARY:D3 Wk 7 WENTZVILLE
DESCRIPTION:Div 3 Wk 7    Split Tee #1 and #10   WENTZVILLE
URL:https://www.golfstlseniors.org/event/d3-wk-7-wentzville-2/
LOCATION:Golf Club of Wentzville\, 9 Pro Shop Dr\, Wentzville\, MO\, 63385\, United States
CATEGORIES:Div3
END:VEVENT
BEGIN:VEVENT
DTSTART;TZID=America/Chicago:20210513T070000
DTEND;TZID=America/Chicago:20210513T070000
DTSTAMP:20260424T070316
CREATED:20210105T161832Z
LAST-MODIFIED:20210409T220308Z
UID:8244-1620889200-1620889200@www.golfstlseniors.org
SUMMARY:D3 Wk 6 ACORNS
DESCRIPTION:Div 3 Wk 6 Split Tee Start ACORNS
URL:https://www.golfstlseniors.org/event/d3-wk-6-acorns-2/
LOCATION:Acorns Golf Links\, 3933 Ahne Rd\, Waterloo\, Illinois\, 62298\, United States
CATEGORIES:Div3
END:VEVENT
BEGIN:VEVENT
DTSTART;TZID=America/Chicago:20210506T073000
DTEND;TZID=America/Chicago:20210506T073000
DTSTAMP:20260424T070316
CREATED:20210105T161832Z
LAST-MODIFIED:20210114T163402Z
UID:8243-1620286200-1620286200@www.golfstlseniors.org
SUMMARY:D3 Wk 5 INCLINE VILLAGE
DESCRIPTION:Div 3 Wk 5    Split Tee #1 and #10   INCLINE VILLAGE
URL:https://www.golfstlseniors.org/event/d3-wk-5-incline-village-2/
LOCATION:Incline Village Golf Course\, 10220 Fairway Dr\, Foristell\, MO\, 63348\, United States
CATEGORIES:Div3
END:VEVENT
BEGIN:VEVENT
DTSTART;TZID=America/Chicago:20210429T070000
DTEND;TZID=America/Chicago:20210429T070000
DTSTAMP:20260424T070316
CREATED:20210105T161831Z
LAST-MODIFIED:20210415T000929Z
UID:8242-1619679600-1619679600@www.golfstlseniors.org
SUMMARY:D3 Wk 4 FLORISSANT
DESCRIPTION:Div 3 Wk 4 Split Tee Start FLORISSANT
URL:https://www.golfstlseniors.org/event/d3-wk-4-florissant-2/
LOCATION:Florissant Golf Club\, 50 Country Club Ln\, Florissant\, MO\, 63033\, United States
CATEGORIES:Div3
END:VEVENT
BEGIN:VEVENT
DTSTART;TZID=America/Chicago:20210422T070000
DTEND;TZID=America/Chicago:20210422T070000
DTSTAMP:20260424T070316
CREATED:20210105T161817Z
LAST-MODIFIED:20210114T163346Z
UID:8241-1619074800-1619074800@www.golfstlseniors.org
SUMMARY:D3 Wk 3 LOCKHAVEN
DESCRIPTION:Div 3 Wk 3    Split Tee #1 and #10   LOCKHAVEN
URL:https://www.golfstlseniors.org/event/d3-wk-3-lockhaven-2/
LOCATION:Lockhaven Golf Club\, 10872 Lawrence Keler Dr\, Godfrey\, IL\, 62035\, United States
CATEGORIES:Div3
END:VEVENT
BEGIN:VEVENT
DTSTART;TZID=America/Chicago:20210415T080000
DTEND;TZID=America/Chicago:20210415T080000
DTSTAMP:20260424T070316
CREATED:20210105T161817Z
LAST-MODIFIED:20210114T163346Z
UID:8240-1618473600-1618473600@www.golfstlseniors.org
SUMMARY:D3 Wk 2 COLUMBIA BRIDGES
DESCRIPTION:Div 3 Wk 2    Split Tee #1 and #10   COLUMBIA BRIDGES
URL:https://www.golfstlseniors.org/event/d3-wk-2-columbia-bridges-2/
LOCATION:Columbia Bridges Golf Club\, 1655 Columbia Bridges Rd\, Columbia\, IL\, 62236\, United States
CATEGORIES:Div3
END:VEVENT
BEGIN:VEVENT
DTSTART;TZID=America/Chicago:20210408T070000
DTEND;TZID=America/Chicago:20210408T070000
DTSTAMP:20260424T070316
CREATED:20210105T161817Z
LAST-MODIFIED:20210320T015035Z
UID:8239-1617865200-1617865200@www.golfstlseniors.org
SUMMARY:D3 Wk 1 WOLF HOLLOW
DESCRIPTION:Div 3 Wk 1 Split Tee Start WOLF HOLLOW
URL:https://www.golfstlseniors.org/event/d3-wk-1-wolf-hollow-2/
LOCATION:Wolf Hollow Golf Club\, 4504 MO-100\, Labadie\, MO\, 63055\, United States
CATEGORIES:Div3
END:VEVENT
BEGIN:VEVENT
DTSTART;TZID=America/Chicago:20200924T073000
DTEND;TZID=America/Chicago:20200924T073000
DTSTAMP:20260424T070316
CREATED:20191108T183748Z
LAST-MODIFIED:20191108T183748Z
UID:6008-1600932600-1600932600@www.golfstlseniors.org
SUMMARY:D3 Wk 24   INNSBROOK
DESCRIPTION:Div 3   Wk 24    Split Tee #1 and #10   INNSBROOK   $30
URL:https://www.golfstlseniors.org/event/d3-wk-24-innsbrook/
LOCATION:Innsbrook Golf Course\, 1 Aspen Way Dr\, Innsbrook\, MO\, 63390\, United States
CATEGORIES:Div3
END:VEVENT
BEGIN:VEVENT
DTSTART;TZID=America/Chicago:20200917T073000
DTEND;TZID=America/Chicago:20200917T073000
DTSTAMP:20260424T070316
CREATED:20191108T183753Z
LAST-MODIFIED:20191209T204026Z
UID:6023-1600327800-1600327800@www.golfstlseniors.org
SUMMARY:D3 Wk 23   LOCKHAVEN
DESCRIPTION:Div 3 Wk 23 Split Tee #1 and #10 LOCKHAVEN $29
URL:https://www.golfstlseniors.org/event/d3-wk-23-lockhaven/
LOCATION:Lockhaven Golf Club\, 10872 Lawrence Keler Dr\, Godfrey\, IL\, 62035\, United States
CATEGORIES:Div3
END:VEVENT
BEGIN:VEVENT
DTSTART;TZID=America/Chicago:20200910T073000
DTEND;TZID=America/Chicago:20200910T073000
DTSTAMP:20260424T070316
CREATED:20191108T183807Z
LAST-MODIFIED:20191108T183807Z
UID:6064-1599723000-1599723000@www.golfstlseniors.org
SUMMARY:D3 Wk 22   WOODS FORT
DESCRIPTION:Div 3   Wk 22    Split Tee #1 and #10   WOODS FORT   $28
URL:https://www.golfstlseniors.org/event/d3-wk-22-woods-fort/
LOCATION:Woods Fort Golf Course\, 1 Country Club Dr\, Troy\, MO\, 63379\, United States
CATEGORIES:Div3
END:VEVENT
BEGIN:VEVENT
DTSTART;TZID=America/Chicago:20200903T073000
DTEND;TZID=America/Chicago:20200903T073000
DTSTAMP:20260424T070316
CREATED:20191108T183737Z
LAST-MODIFIED:20191108T183737Z
UID:5978-1599118200-1599118200@www.golfstlseniors.org
SUMMARY:D3 Wk 21   DEER CREEK
DESCRIPTION:Div 3   Wk 21    Split Tee #1 and #10   DEER CREEK   $25
URL:https://www.golfstlseniors.org/event/d3-wk-21-deer-creek/
LOCATION:Fore Honor – Deer Creek Golf Club\, 5300 Dulin Creek Rd\, House Springs\, MO\, 63051\, United States
CATEGORIES:Div3
END:VEVENT
BEGIN:VEVENT
DTSTART;TZID=America/Chicago:20200827T073000
DTEND;TZID=America/Chicago:20200827T073000
DTSTAMP:20260424T070316
CREATED:20191108T183746Z
LAST-MODIFIED:20191108T183746Z
UID:6004-1598513400-1598513400@www.golfstlseniors.org
SUMMARY:D3 Wk 20   INCLINE VILLAGE
DESCRIPTION:Div 3   Wk 20    Split Tee #1 and #10   INCLINE VILLAGE   $25
URL:https://www.golfstlseniors.org/event/d3-wk-20-incline-village/
LOCATION:Incline Village Golf Course\, 10220 Fairway Dr\, Foristell\, MO\, 63348\, United States
CATEGORIES:Div3
END:VEVENT
BEGIN:VEVENT
DTSTART;TZID=America/Chicago:20200820T070000
DTEND;TZID=America/Chicago:20200820T070000
DTSTAMP:20260424T070316
CREATED:20191108T183750Z
LAST-MODIFIED:20191108T183750Z
UID:6013-1597906800-1597906800@www.golfstlseniors.org
SUMMARY:D3 Wk 19   LEGACY
DESCRIPTION:Div 3   Wk 19    Split Tee #1 and #10   LEGACY    $23
URL:https://www.golfstlseniors.org/event/d3-wk-19-legacy/
LOCATION:Legacy Golf Course\, 3500 Cargill Rd\, Granite City\, IL\, 62040\, United States
CATEGORIES:Div3
END:VEVENT
END:VCALENDAR