BEGIN:VCALENDAR
VERSION:2.0
PRODID:-//Metro St. Louis Seniors Golf - ECPv6.15.20//NONSGML v1.0//EN
CALSCALE:GREGORIAN
METHOD:PUBLISH
X-ORIGINAL-URL:https://www.golfstlseniors.org
X-WR-CALDESC:Events for Metro St. Louis Seniors Golf
REFRESH-INTERVAL;VALUE=DURATION:PT1H
X-Robots-Tag:noindex
X-PUBLISHED-TTL:PT1H
BEGIN:VTIMEZONE
TZID:America/Chicago
BEGIN:DAYLIGHT
TZOFFSETFROM:-0600
TZOFFSETTO:-0500
TZNAME:CDT
DTSTART:20200308T080000
END:DAYLIGHT
BEGIN:STANDARD
TZOFFSETFROM:-0500
TZOFFSETTO:-0600
TZNAME:CST
DTSTART:20201101T070000
END:STANDARD
BEGIN:DAYLIGHT
TZOFFSETFROM:-0600
TZOFFSETTO:-0500
TZNAME:CDT
DTSTART:20210314T080000
END:DAYLIGHT
BEGIN:STANDARD
TZOFFSETFROM:-0500
TZOFFSETTO:-0600
TZNAME:CST
DTSTART:20211107T070000
END:STANDARD
BEGIN:DAYLIGHT
TZOFFSETFROM:-0600
TZOFFSETTO:-0500
TZNAME:CDT
DTSTART:20220313T080000
END:DAYLIGHT
BEGIN:STANDARD
TZOFFSETFROM:-0500
TZOFFSETTO:-0600
TZNAME:CST
DTSTART:20221106T070000
END:STANDARD
BEGIN:DAYLIGHT
TZOFFSETFROM:-0600
TZOFFSETTO:-0500
TZNAME:CDT
DTSTART:20230312T080000
END:DAYLIGHT
BEGIN:STANDARD
TZOFFSETFROM:-0500
TZOFFSETTO:-0600
TZNAME:CST
DTSTART:20231105T070000
END:STANDARD
END:VTIMEZONE
BEGIN:VEVENT
DTSTART;TZID=America/Chicago:20220811T073000
DTEND;TZID=America/Chicago:20220811T073000
DTSTAMP:20260424T053234
CREATED:20220308T213122Z
LAST-MODIFIED:20220308T215213Z
UID:9831-1660203000-1660203000@www.golfstlseniors.org
SUMMARY:D4 Wk 18 LINKS @ DARDENNE
DESCRIPTION:Div 4 Wk 18    Shotgunt   LINKS @ DARDENNE
URL:https://www.golfstlseniors.org/event/d4-wk-18-links-dardenne-2/
LOCATION:Links of Dardenne\, 7000 Brassel Dr\, O'Fallon\, MO\, 63368\, United States
CATEGORIES:Div4
END:VEVENT
BEGIN:VEVENT
DTSTART;TZID=America/Chicago:20220804T073000
DTEND;TZID=America/Chicago:20220804T073000
DTSTAMP:20260424T053234
CREATED:20220308T213105Z
LAST-MODIFIED:20220308T215159Z
UID:9830-1659598200-1659598200@www.golfstlseniors.org
SUMMARY:D4 Wk 17 MYSTIC OAKS
DESCRIPTION:Div 4 Wk 17    Split Tee #1 and #10   MYSTIC OAKS
URL:https://www.golfstlseniors.org/event/d4-wk-17-mystic-oaks/
LOCATION:Mystic Oaks Golf Course\, 643 Ridge Rd\, Waterloo\, IL\, 62298\, United States
CATEGORIES:Div4
END:VEVENT
BEGIN:VEVENT
DTSTART;TZID=America/Chicago:20220728T070000
DTEND;TZID=America/Chicago:20220728T070000
DTSTAMP:20260424T053234
CREATED:20220308T215159Z
LAST-MODIFIED:20220308T215159Z
UID:9961-1658991600-1658991600@www.golfstlseniors.org
SUMMARY:D4 Wk 16 SUGAR CREEK
DESCRIPTION:Div 4 Wk 16    Split Tee #1 and #10   LEGACY
URL:https://www.golfstlseniors.org/event/d4-wk-16-sugar-creek-2/
LOCATION:Sugar Creek Golf Course\, 4701 College Ave\, Alton\, IL\, 62002\, United States
CATEGORIES:Div4
END:VEVENT
BEGIN:VEVENT
DTSTART;TZID=America/Chicago:20220721T070000
DTEND;TZID=America/Chicago:20220721T070000
DTSTAMP:20260424T053234
CREATED:20220308T213105Z
LAST-MODIFIED:20220308T215159Z
UID:9828-1658386800-1658386800@www.golfstlseniors.org
SUMMARY:D4 Wk 15 INNSBROOK
DESCRIPTION:Div 4 Wk 15    Split Tee #1 and #10   INNSBROOK
URL:https://www.golfstlseniors.org/event/d4-wk-15-innsbrook-2/
LOCATION:Innsbrook Golf Course\, 1 Aspen Way Dr\, Innsbrook\, MO\, 63390\, United States
CATEGORIES:Div4
END:VEVENT
BEGIN:VEVENT
DTSTART;TZID=America/Chicago:20220714T070000
DTEND;TZID=America/Chicago:20220714T070000
DTSTAMP:20260424T053234
CREATED:20220308T213105Z
LAST-MODIFIED:20220308T215159Z
UID:9827-1657782000-1657782000@www.golfstlseniors.org
SUMMARY:D4 Wk 14 WOODS FORT
DESCRIPTION:Div 4 Wk 14    Split Tee #1 and #10   WOODS FORT
URL:https://www.golfstlseniors.org/event/d4-wk-14-woods-fort-2/
LOCATION:Woods Fort Golf Course\, 1 Country Club Dr\, Troy\, MO\, 63379\, United States
CATEGORIES:Div4
END:VEVENT
BEGIN:VEVENT
DTSTART;TZID=America/Chicago:20220707T070000
DTEND;TZID=America/Chicago:20220707T070000
DTSTAMP:20260424T053234
CREATED:20220308T213105Z
LAST-MODIFIED:20220308T215159Z
UID:9826-1657177200-1657177200@www.golfstlseniors.org
SUMMARY:D4 Wk 13 FORE HONOR-deer creek
DESCRIPTION:Div 4 Wk 13    Split Tee #1 and #10   FORE HONOR-deer creek
URL:https://www.golfstlseniors.org/event/d4-wk-13-fore-honor-deer-creek/
LOCATION:MO
CATEGORIES:Div4
END:VEVENT
BEGIN:VEVENT
DTSTART;TZID=America/Chicago:20220623T063000
DTEND;TZID=America/Chicago:20220623T063000
DTSTAMP:20260424T053234
CREATED:20220308T213050Z
LAST-MODIFIED:20220308T215145Z
UID:9825-1655965800-1655965800@www.golfstlseniors.org
SUMMARY:D4 Wk 12 FALLS
DESCRIPTION:Div 4 Wk 12    Split Tee #1 and #10   FALLS
URL:https://www.golfstlseniors.org/event/d4-wk-12-falls-2/
LOCATION:Falls Golf Club\, 1170 Turtle Creek Dr\, O'Fallon\, MO\, 63366\, United States
CATEGORIES:Div4
END:VEVENT
BEGIN:VEVENT
DTSTART;TZID=America/Chicago:20220616T070000
DTEND;TZID=America/Chicago:20220616T070000
DTSTAMP:20260424T053234
CREATED:20220308T213050Z
LAST-MODIFIED:20220308T215145Z
UID:9824-1655362800-1655362800@www.golfstlseniors.org
SUMMARY:D4 Wk 11 TAMARACK
DESCRIPTION:Div 4 Wk 11    Split Tee #1 and #10   TAMARACK
URL:https://www.golfstlseniors.org/event/d4-wk-11-tamarack-2/
LOCATION:Tamarack Golf Course\, 362 Tamarack Ln\, Shiloh\, IL\, 62269\, United States
CATEGORIES:Div4
END:VEVENT
BEGIN:VEVENT
DTSTART;TZID=America/Chicago:20220609T063000
DTEND;TZID=America/Chicago:20220609T063000
DTSTAMP:20260424T053234
CREATED:20220308T213050Z
LAST-MODIFIED:20220308T215145Z
UID:9823-1654756200-1654756200@www.golfstlseniors.org
SUMMARY:D4 Wk 10 BEAR CREEK
DESCRIPTION:Div 4 Wk 10    Split Tee #1 and #10   BEAR CREEK
URL:https://www.golfstlseniors.org/event/d4-wk-10-bear-creek-2/
LOCATION:Bear Creek Golf Club\, 158 Bear Creek Dr\, Wentzville\, MO\, 63385\, United States
CATEGORIES:Div4
END:VEVENT
BEGIN:VEVENT
DTSTART;TZID=America/Chicago:20220602T070000
DTEND;TZID=America/Chicago:20220602T070000
DTSTAMP:20260424T053234
CREATED:20220308T213049Z
LAST-MODIFIED:20220308T215145Z
UID:9822-1654153200-1654153200@www.golfstlseniors.org
SUMMARY:D4 Wk 9 SPENCER T OLIN #2
DESCRIPTION:Div 4 Wk 9    Split Tee #1 and #10   SPENCER T OLIN #2
URL:https://www.golfstlseniors.org/event/d4-wk-9-spencer-t-olin-2/
LOCATION:Spencer T Olin Golf Course\, 4701 College Ave\, Alton\, IL\, 62002\, United States
CATEGORIES:Div4
END:VEVENT
BEGIN:VEVENT
DTSTART;TZID=America/Chicago:20220526T070000
DTEND;TZID=America/Chicago:20220526T070000
DTSTAMP:20260424T053234
CREATED:20220308T213049Z
LAST-MODIFIED:20220308T215144Z
UID:9821-1653548400-1653548400@www.golfstlseniors.org
SUMMARY:D4 Wk 8 BELK PARK
DESCRIPTION:Div 4 Wk 8    Split Tee #1 and #10   BELK PARK
URL:https://www.golfstlseniors.org/event/d4-wk-8-belk-park-2/
LOCATION:Belk Park Golf Course\, 880 Belk Park Rd\, Wood River\, Illinois\, 62095\, United States
CATEGORIES:Div4
END:VEVENT
BEGIN:VEVENT
DTSTART;TZID=America/Chicago:20220519T070000
DTEND;TZID=America/Chicago:20220519T070000
DTSTAMP:20260424T053234
CREATED:20220308T213036Z
LAST-MODIFIED:20220308T215128Z
UID:9820-1652943600-1652943600@www.golfstlseniors.org
SUMMARY:D4 Wk 7 WENTZVILLE
DESCRIPTION:Div 4 Wk 7    Split Tee #1 and #10   WENTZVILLE
URL:https://www.golfstlseniors.org/event/d4-wk-7-wentzville-2/
LOCATION:Golf Club of Wentzville\, 9 Pro Shop Dr\, Wentzville\, MO\, 63385\, United States
CATEGORIES:Div4
END:VEVENT
BEGIN:VEVENT
DTSTART;TZID=America/Chicago:20220512T070000
DTEND;TZID=America/Chicago:20220512T070000
DTSTAMP:20260424T053234
CREATED:20220308T213036Z
LAST-MODIFIED:20220308T215128Z
UID:9819-1652338800-1652338800@www.golfstlseniors.org
SUMMARY:D4 Wk 6 ACORNS
DESCRIPTION:Div 4 Wk 6    Split Tee #1 and #10   ACORNS
URL:https://www.golfstlseniors.org/event/d4-wk-6-acorns-2/
LOCATION:Acorns Golf Links\, 3933 Ahne Rd\, Waterloo\, Illinois\, 62298\, United States
CATEGORIES:Div4
END:VEVENT
BEGIN:VEVENT
DTSTART;TZID=America/Chicago:20220505T073000
DTEND;TZID=America/Chicago:20220505T073000
DTSTAMP:20260424T053234
CREATED:20220308T213036Z
LAST-MODIFIED:20220308T215128Z
UID:9818-1651735800-1651735800@www.golfstlseniors.org
SUMMARY:D4 Wk 5 INCLINE VILLAGE
DESCRIPTION:Div 4 Wk 5    Split Tee #1 and #10   INCLINE VILLAGE
URL:https://www.golfstlseniors.org/event/d4-wk-5-incline-village-2/
LOCATION:Incline Village Golf Course\, 10220 Fairway Dr\, Foristell\, MO\, 63348\, United States
CATEGORIES:Div4
END:VEVENT
BEGIN:VEVENT
DTSTART;TZID=America/Chicago:20220428T073000
DTEND;TZID=America/Chicago:20220428T073000
DTSTAMP:20260424T053234
CREATED:20220308T213035Z
LAST-MODIFIED:20220308T215128Z
UID:9817-1651131000-1651131000@www.golfstlseniors.org
SUMMARY:D4 Wk 4 FLORISSANT
DESCRIPTION:Div 4 Wk 4    Split Tee #1 and #10   FLORISSANT
URL:https://www.golfstlseniors.org/event/d4-wk-4-florissant-2/
LOCATION:Florissant Golf Club\, 50 Country Club Ln\, Florissant\, MO\, 63033\, United States
CATEGORIES:Div4
END:VEVENT
BEGIN:VEVENT
DTSTART;TZID=America/Chicago:20220421T070000
DTEND;TZID=America/Chicago:20220421T070000
DTSTAMP:20260424T053234
CREATED:20220308T213035Z
LAST-MODIFIED:20220308T215128Z
UID:9816-1650524400-1650524400@www.golfstlseniors.org
SUMMARY:D4 Wk 3 LOCKHAVEN
DESCRIPTION:Div 4 Wk 3    Split Tee #1 and #10   LOCKHAVEN
URL:https://www.golfstlseniors.org/event/d4-wk-3-lockhaven-2/
LOCATION:Lockhaven Golf Club\, 10872 Lawrence Keler Dr\, Godfrey\, IL\, 62035\, United States
CATEGORIES:Div4
END:VEVENT
BEGIN:VEVENT
DTSTART;TZID=America/Chicago:20220414T080000
DTEND;TZID=America/Chicago:20220414T080000
DTSTAMP:20260424T053234
CREATED:20220308T213021Z
LAST-MODIFIED:20220308T215113Z
UID:9815-1649923200-1649923200@www.golfstlseniors.org
SUMMARY:D4 Wk 2 COLUMBIA BRIDGES
DESCRIPTION:Div 4 Wk 2    Split Tee #1 and #10   COLUMBIA BRIDGES
URL:https://www.golfstlseniors.org/event/d4-wk-2-columbia-bridges-2/
LOCATION:Columbia Bridges Golf Club\, 1655 Columbia Bridges Rd\, Columbia\, IL\, 62236\, United States
CATEGORIES:Div4
END:VEVENT
BEGIN:VEVENT
DTSTART;TZID=America/Chicago:20220407T073000
DTEND;TZID=America/Chicago:20220407T073000
DTSTAMP:20260424T053234
CREATED:20220308T213020Z
LAST-MODIFIED:20220308T215113Z
UID:9814-1649316600-1649316600@www.golfstlseniors.org
SUMMARY:D4 Wk 1 WOLF HOLLOW
DESCRIPTION:Div 4 Wk 1    Split Tee #1 and #10   WOLF HOLLOW
URL:https://www.golfstlseniors.org/event/d4-wk-1-wolf-hollow-2/
LOCATION:Wolf Hollow Golf Club\, 4504 MO-100\, Labadie\, MO\, 63055\, United States
CATEGORIES:Div4
END:VEVENT
BEGIN:VEVENT
DTSTART;TZID=America/Chicago:20211007T073000
DTEND;TZID=America/Chicago:20211007T073000
DTSTAMP:20260424T053234
CREATED:20210105T162504Z
LAST-MODIFIED:20220308T154555Z
UID:8290-1633591800-1633591800@www.golfstlseniors.org
SUMMARY:D4 Wk 26 LINKS @ DARDENNE
DESCRIPTION:Div 4 Wk 26 Shotgun Tee Start LINKS @ DARDENNE
URL:https://www.golfstlseniors.org/event/d4-wk-26-links-dardenne-2/
LOCATION:Links of Dardenne\, 7000 Brassel Dr\, O'Fallon\, MO\, 63368\, United States
CATEGORIES:Div4
END:VEVENT
BEGIN:VEVENT
DTSTART;TZID=America/Chicago:20210930T073000
DTEND;TZID=America/Chicago:20210930T073000
DTSTAMP:20260424T053234
CREATED:20210105T162504Z
LAST-MODIFIED:20210114T163620Z
UID:8289-1632987000-1632987000@www.golfstlseniors.org
SUMMARY:D4 Wk 25 WENTZVILLE
DESCRIPTION:Div 4 Wk 25    Split Tee #1 and #10   WENTZVILLE
URL:https://www.golfstlseniors.org/event/d4-wk-25-wentzville-2/
LOCATION:Golf Club of Wentzville\, 9 Pro Shop Dr\, Wentzville\, MO\, 63385\, United States
CATEGORIES:Div4
END:VEVENT
BEGIN:VEVENT
DTSTART;TZID=America/Chicago:20210923T070000
DTEND;TZID=America/Chicago:20210923T070000
DTSTAMP:20260424T053234
CREATED:20210105T162504Z
LAST-MODIFIED:20210114T163620Z
UID:8288-1632380400-1632380400@www.golfstlseniors.org
SUMMARY:D4 Wk 24 FAR OAKS
DESCRIPTION:Div 4 Wk 24    Split Tee #1 and #10   FAR OAKS
URL:https://www.golfstlseniors.org/event/d4-wk-24-far-oaks/
LOCATION:Far Oaks Golf Club\, 419 Old Collinsville Rd\, Caseyville\, IL\, 62232\, United States
CATEGORIES:Div4
END:VEVENT
BEGIN:VEVENT
DTSTART;TZID=America/Chicago:20210916T073000
DTEND;TZID=America/Chicago:20210916T073000
DTSTAMP:20260424T053234
CREATED:20210105T162504Z
LAST-MODIFIED:20210114T163620Z
UID:8287-1631777400-1631777400@www.golfstlseniors.org
SUMMARY:D4 Wk 23 COLUMBIA BRIDGES
DESCRIPTION:Div 4 Wk 23    Split Tee #1 and #10   COLUMBIA BRIDGES
URL:https://www.golfstlseniors.org/event/d4-wk-23-columbia-bridges/
LOCATION:Columbia Bridges Golf Club\, 1655 Columbia Bridges Rd\, Columbia\, IL\, 62236\, United States
CATEGORIES:Div4
END:VEVENT
BEGIN:VEVENT
DTSTART;TZID=America/Chicago:20210909T073000
DTEND;TZID=America/Chicago:20210909T073000
DTSTAMP:20260424T053234
CREATED:20210105T162304Z
LAST-MODIFIED:20210307T173410Z
UID:8286-1631172600-1631172600@www.golfstlseniors.org
SUMMARY:D4 Wk 22 FORE HONOR-deer creek
DESCRIPTION:Div 4 Wk 22 Split Tee #1 and #10 FORE HONOR-deer creek
URL:https://www.golfstlseniors.org/event/d4-wk-22-fore-honor-deer-creek/
LOCATION:Fore Honor – Deer Creek Golf Club\, 5300 Dulin Creek Rd\, House Springs\, MO\, 63051\, United States
CATEGORIES:Div4
END:VEVENT
BEGIN:VEVENT
DTSTART;TZID=America/Chicago:20210902T073000
DTEND;TZID=America/Chicago:20210902T073000
DTSTAMP:20260424T053234
CREATED:20210105T162304Z
LAST-MODIFIED:20210114T163602Z
UID:8285-1630567800-1630567800@www.golfstlseniors.org
SUMMARY:D4 Wk 21 INNSBROOK
DESCRIPTION:Div 4 Wk 21    Split Tee #1 and #10   INNSBROOK
URL:https://www.golfstlseniors.org/event/d4-wk-21-innsbrook-2/
LOCATION:Innsbrook Golf Course\, 1 Aspen Way Dr\, Innsbrook\, MO\, 63390\, United States
CATEGORIES:Div4
END:VEVENT
BEGIN:VEVENT
DTSTART;TZID=America/Chicago:20210826T070000
DTEND;TZID=America/Chicago:20210826T070000
DTSTAMP:20260424T053234
CREATED:20210105T162304Z
LAST-MODIFIED:20210114T163602Z
UID:8284-1629961200-1629961200@www.golfstlseniors.org
SUMMARY:D4 Wk 20 SPENCER T OLIN #1
DESCRIPTION:Div 4 Wk 20    Split Tee #1 and #10   SPENCER T OLIN #1
URL:https://www.golfstlseniors.org/event/d4-wk-20-spencer-t-olin-1/
LOCATION:Spencer T Olin Golf Course\, 4701 College Ave\, Alton\, IL\, 62002\, United States
CATEGORIES:Div4
END:VEVENT
BEGIN:VEVENT
DTSTART;TZID=America/Chicago:20210819T080000
DTEND;TZID=America/Chicago:20210819T080000
DTSTAMP:20260424T053234
CREATED:20210105T162304Z
LAST-MODIFIED:20210114T163602Z
UID:8283-1629360000-1629360000@www.golfstlseniors.org
SUMMARY:D4 Wk 19 COLUMBIA
DESCRIPTION:Div 4 Wk 19    Shotgun   COLUMBIA
URL:https://www.golfstlseniors.org/event/d4-wk-19-columbia-2/
LOCATION:Columbia Golf Club\, 125 2770 N\, Columbia\, IL\, 62236\, United States
CATEGORIES:Div4
END:VEVENT
BEGIN:VEVENT
DTSTART;TZID=America/Chicago:20210812T070000
DTEND;TZID=America/Chicago:20210812T070000
DTSTAMP:20260424T053234
CREATED:20210105T162304Z
LAST-MODIFIED:20210114T163601Z
UID:8282-1628751600-1628751600@www.golfstlseniors.org
SUMMARY:D4 Wk 18 MYSTIC OAKS
DESCRIPTION:Div 4 Wk 18    Split Tee #1 and #10   MYSTIC OAKS
URL:https://www.golfstlseniors.org/event/d4-wk-18-mystic-oaks/
LOCATION:Mystic Oaks Golf Course\, 643 Ridge Rd\, Waterloo\, IL\, 62298\, United States
CATEGORIES:Div4
END:VEVENT
BEGIN:VEVENT
DTSTART;TZID=America/Chicago:20210805T073000
DTEND;TZID=America/Chicago:20210805T073000
DTSTAMP:20260424T053234
CREATED:20210105T162249Z
LAST-MODIFIED:20210114T163547Z
UID:8281-1628148600-1628148600@www.golfstlseniors.org
SUMMARY:D4 Wk 17 CRESCENT FARMS
DESCRIPTION:Div 4 Wk 17    Split Tee #1 and #10   CRESCENT FARMS
URL:https://www.golfstlseniors.org/event/d4-wk-17-crescent-farms-2/
LOCATION:Crescent Farms\, 745 Lewis Rd\, Crescent\, MO\, 63025\, United States
CATEGORIES:Div4
END:VEVENT
BEGIN:VEVENT
DTSTART;TZID=America/Chicago:20210729T070000
DTEND;TZID=America/Chicago:20210729T070000
DTSTAMP:20260424T053234
CREATED:20210105T162249Z
LAST-MODIFIED:20210320T014953Z
UID:8280-1627542000-1627542000@www.golfstlseniors.org
SUMMARY:D4 Wk 16 WOLF HOLLOW
DESCRIPTION:Div 4 Wk 16 Split Tee Start WOLF HOLLOW
URL:https://www.golfstlseniors.org/event/d4-wk-16-wolf-hollow-2/
LOCATION:Wolf Hollow Golf Club\, 4504 MO-100\, Labadie\, MO\, 63055\, United States
CATEGORIES:Div4
END:VEVENT
BEGIN:VEVENT
DTSTART;TZID=America/Chicago:20210722T070000
DTEND;TZID=America/Chicago:20210722T070000
DTSTAMP:20260424T053234
CREATED:20210105T162249Z
LAST-MODIFIED:20210114T163546Z
UID:8279-1626937200-1626937200@www.golfstlseniors.org
SUMMARY:D4 Wk 15 SPENCER T OLIN #2
DESCRIPTION:Div 4 Wk 15    Split Tee #1 and #10   SPENCER T OLIN #2
URL:https://www.golfstlseniors.org/event/d4-wk-15-spencer-t-olin-2/
LOCATION:Spencer T Olin Golf Course\, 4701 College Ave\, Alton\, IL\, 62002\, United States
CATEGORIES:Div4
END:VEVENT
END:VCALENDAR