BEGIN:VCALENDAR
VERSION:2.0
PRODID:-//Metro St. Louis Seniors Golf - ECPv6.15.20//NONSGML v1.0//EN
CALSCALE:GREGORIAN
METHOD:PUBLISH
X-WR-CALNAME:Metro St. Louis Seniors Golf
X-ORIGINAL-URL:https://www.golfstlseniors.org
X-WR-CALDESC:Events for Metro St. Louis Seniors Golf
REFRESH-INTERVAL;VALUE=DURATION:PT1H
X-Robots-Tag:noindex
X-PUBLISHED-TTL:PT1H
BEGIN:VTIMEZONE
TZID:America/Chicago
BEGIN:DAYLIGHT
TZOFFSETFROM:-0600
TZOFFSETTO:-0500
TZNAME:CDT
DTSTART:20190310T080000
END:DAYLIGHT
BEGIN:STANDARD
TZOFFSETFROM:-0500
TZOFFSETTO:-0600
TZNAME:CST
DTSTART:20191103T070000
END:STANDARD
BEGIN:DAYLIGHT
TZOFFSETFROM:-0600
TZOFFSETTO:-0500
TZNAME:CDT
DTSTART:20200308T080000
END:DAYLIGHT
BEGIN:STANDARD
TZOFFSETFROM:-0500
TZOFFSETTO:-0600
TZNAME:CST
DTSTART:20201101T070000
END:STANDARD
BEGIN:DAYLIGHT
TZOFFSETFROM:-0600
TZOFFSETTO:-0500
TZNAME:CDT
DTSTART:20210314T080000
END:DAYLIGHT
BEGIN:STANDARD
TZOFFSETFROM:-0500
TZOFFSETTO:-0600
TZNAME:CST
DTSTART:20211107T070000
END:STANDARD
BEGIN:DAYLIGHT
TZOFFSETFROM:-0600
TZOFFSETTO:-0500
TZNAME:CDT
DTSTART:20220313T080000
END:DAYLIGHT
BEGIN:STANDARD
TZOFFSETFROM:-0500
TZOFFSETTO:-0600
TZNAME:CST
DTSTART:20221106T070000
END:STANDARD
END:VTIMEZONE
BEGIN:VEVENT
DTSTART;TZID=America/Chicago:20210429T063000
DTEND;TZID=America/Chicago:20210429T063000
DTSTAMP:20260424T083346
CREATED:20210105T162032Z
LAST-MODIFIED:20210415T000830Z
UID:8268-1619677800-1619677800@www.golfstlseniors.org
SUMMARY:D4 Wk 4 FALLS
DESCRIPTION:Div 4 Wk 4 Split Tee Start FALLS
URL:https://www.golfstlseniors.org/event/d4-wk-4-falls-2/
LOCATION:Falls Golf Club\, 1170 Turtle Creek Dr\, O'Fallon\, MO\, 63366\, United States
CATEGORIES:Div4
END:VEVENT
BEGIN:VEVENT
DTSTART;TZID=America/Chicago:20210422T063000
DTEND;TZID=America/Chicago:20210422T063000
DTSTAMP:20260424T083346
CREATED:20210105T162032Z
LAST-MODIFIED:20210409T215934Z
UID:8267-1619073000-1619073000@www.golfstlseniors.org
SUMMARY:D4 Wk 3 BEAR CREEK
DESCRIPTION:Div 4 Wk 3 Split Tee Start BEAR CREEK
URL:https://www.golfstlseniors.org/event/d4-wk-3-bear-creek-2/
LOCATION:Bear Creek Golf Club\, 158 Bear Creek Dr\, Wentzville\, MO\, 63385\, United States
CATEGORIES:Div4
END:VEVENT
BEGIN:VEVENT
DTSTART;TZID=America/Chicago:20210415T070000
DTEND;TZID=America/Chicago:20210415T070000
DTSTAMP:20260424T083346
CREATED:20210105T161933Z
LAST-MODIFIED:20210114T163502Z
UID:8266-1618470000-1618470000@www.golfstlseniors.org
SUMMARY:D4 Wk 2 BELK PARK
DESCRIPTION:Div 4 Wk 2    Split Tee #1 and #10   BELK PARK
URL:https://www.golfstlseniors.org/event/d4-wk-2-belk-park-2/
LOCATION:Belk Park Golf Course\, 880 Belk Park Rd\, Wood River\, Illinois\, 62095\, United States
CATEGORIES:Div4
END:VEVENT
BEGIN:VEVENT
DTSTART;TZID=America/Chicago:20210408T070000
DTEND;TZID=America/Chicago:20210408T070000
DTSTAMP:20260424T083346
CREATED:20210105T161933Z
LAST-MODIFIED:20210114T163502Z
UID:8265-1617865200-1617865200@www.golfstlseniors.org
SUMMARY:D4 Wk 1 ABERDEEN
DESCRIPTION:Div 4 Wk 1    Split Tee #1 and #10   ABERDEEN
URL:https://www.golfstlseniors.org/event/d4-wk-1-aberdeen-2/
LOCATION:Aberdeen Golf Club\, 4111 Crescent Rd\, Eureka\, MO\, 63025\, United States
CATEGORIES:Div4
END:VEVENT
BEGIN:VEVENT
DTSTART;TZID=America/Chicago:20200924T083000
DTEND;TZID=America/Chicago:20200924T083000
DTSTAMP:20260424T083346
CREATED:20191108T183750Z
LAST-MODIFIED:20191108T183750Z
UID:6014-1600936200-1600936200@www.golfstlseniors.org
SUMMARY:D4 Wk 24   LEGACY
DESCRIPTION:Div 4   Wk 24    Split Tee #1 and #10   LEGACY    $23
URL:https://www.golfstlseniors.org/event/d4-wk-24-legacy/
LOCATION:Legacy Golf Course\, 3500 Cargill Rd\, Granite City\, IL\, 62040\, United States
CATEGORIES:Div4
END:VEVENT
BEGIN:VEVENT
DTSTART;TZID=America/Chicago:20200917T073000
DTEND;TZID=America/Chicago:20200917T073000
DTSTAMP:20260424T083346
CREATED:20191108T183724Z
LAST-MODIFIED:20191108T183724Z
UID:5939-1600327800-1600327800@www.golfstlseniors.org
SUMMARY:D4 Wk 23   ABERDEEN
DESCRIPTION:Div 4   Wk 23    Split Tee #1 and #10   ABERDEEN   $32
URL:https://www.golfstlseniors.org/event/d4-wk-23-aberdeen/
LOCATION:Aberdeen Golf Club\, 4111 Crescent Rd\, Eureka\, MO\, 63025\, United States
CATEGORIES:Div4
END:VEVENT
BEGIN:VEVENT
DTSTART;TZID=America/Chicago:20200910T073000
DTEND;TZID=America/Chicago:20200910T073000
DTSTAMP:20260424T083346
CREATED:20191108T183732Z
LAST-MODIFIED:20191209T203845Z
UID:5958-1599723000-1599723000@www.golfstlseniors.org
SUMMARY:D4 Wk 22   COLUMBIA  *
DESCRIPTION:Div 4 Wk 22 Shotgun COLUMBIA * $28
URL:https://www.golfstlseniors.org/event/d4-wk-22-columbia/
LOCATION:Columbia Golf Club\, 125 2770 N\, Columbia\, IL\, 62236\, United States
CATEGORIES:Div4
END:VEVENT
BEGIN:VEVENT
DTSTART;TZID=America/Chicago:20200903T073000
DTEND;TZID=America/Chicago:20200903T073000
DTSTAMP:20260424T083346
CREATED:20191108T183755Z
LAST-MODIFIED:20191120T023415Z
UID:6028-1599118200-1599118200@www.golfstlseniors.org
SUMMARY:D4 Wk 21   OAK VALLEY
DESCRIPTION:Div 4 Wk 21 Split Tee #1 and #10 OAK VALLEY $28.32
URL:https://www.golfstlseniors.org/event/d4-wk-21-oak-valley/
LOCATION:Oak Valley Golf Course\, 1230 Abbey Ln\, Pevely\, MO\, 63070\, United States
CATEGORIES:Div4
END:VEVENT
BEGIN:VEVENT
DTSTART;TZID=America/Chicago:20200827T063000
DTEND;TZID=America/Chicago:20200827T063000
DTSTAMP:20260424T083346
CREATED:20191108T183743Z
LAST-MODIFIED:20191108T183743Z
UID:5993-1598509800-1598509800@www.golfstlseniors.org
SUMMARY:D4 Wk 20   FAR OAKS
DESCRIPTION:Div 4   Wk 20    Split Tee #1 and #10   FAR OAKS    $32
URL:https://www.golfstlseniors.org/event/d4-wk-20-far-oaks/
LOCATION:Far Oaks Golf Club\, 419 Old Collinsville Rd\, Caseyville\, IL\, 62232\, United States
CATEGORIES:Div4
END:VEVENT
BEGIN:VEVENT
DTSTART;TZID=America/Chicago:20200820T073000
DTEND;TZID=America/Chicago:20200820T073000
DTSTAMP:20260424T083346
CREATED:20191108T183734Z
LAST-MODIFIED:20191108T183734Z
UID:5968-1597908600-1597908600@www.golfstlseniors.org
SUMMARY:D4 Wk 19   CRESCENT FARMS
DESCRIPTION:Div 4   Wk 19    Split Tee #1 and #10   CRESCENT FARMS    $35
URL:https://www.golfstlseniors.org/event/d4-wk-19-crescent-farms/
LOCATION:Crescent Farms\, 745 Lewis Rd\, Crescent\, MO\, 63025\, United States
CATEGORIES:Div4
END:VEVENT
BEGIN:VEVENT
DTSTART;TZID=America/Chicago:20200813T073000
DTEND;TZID=America/Chicago:20200813T073000
DTSTAMP:20260424T083346
CREATED:20191108T183751Z
LAST-MODIFIED:20191108T183751Z
UID:6018-1597303800-1597303800@www.golfstlseniors.org
SUMMARY:D4 Wk 18   LINKS @ DARDENNE *
DESCRIPTION:Div 4   Wk 18    Shotgun   LINKS @ DARDENNE *   $31
URL:https://www.golfstlseniors.org/event/d4-wk-18-links-dardenne/
LOCATION:Links of Dardenne\, 7000 Brassel Dr\, O'Fallon\, MO\, 63368\, United States
CATEGORIES:Div4
END:VEVENT
BEGIN:VEVENT
DTSTART;TZID=America/Chicago:20200806T070000
DTEND;TZID=America/Chicago:20200806T070000
DTSTAMP:20260424T083346
CREATED:20191108T183758Z
LAST-MODIFIED:20191108T183758Z
UID:6037-1596697200-1596697200@www.golfstlseniors.org
SUMMARY:D4 Wk 17   STONEWOLF
DESCRIPTION:Div 4   Wk 17    Split Tee #1 and #10   STONEWOLF     $33
URL:https://www.golfstlseniors.org/event/d4-wk-17-stonewolf/
LOCATION:Stonewolf Golf Club\, 1195 Stonewolf Trail\, Fairview Heights\, IL\, 62208\, United States
CATEGORIES:Div4
END:VEVENT
BEGIN:VEVENT
DTSTART;TZID=America/Chicago:20200730T070000
DTEND;TZID=America/Chicago:20200730T070000
DTSTAMP:20260424T083346
CREATED:20191108T183756Z
LAST-MODIFIED:20191108T183756Z
UID:6032-1596092400-1596092400@www.golfstlseniors.org
SUMMARY:D4 Wk 16   SPENCER T OLIN
DESCRIPTION:Div 4   Wk 16    Split Tee #1 and #10   SPENCER T OLIN    $27.95
URL:https://www.golfstlseniors.org/event/d4-wk-16-spencer-t-olin/
LOCATION:Spencer T Olin Golf Course\, 4701 College Ave\, Alton\, IL\, 62002\, United States
CATEGORIES:Div4
END:VEVENT
BEGIN:VEVENT
DTSTART;TZID=America/Chicago:20200723T070000
DTEND;TZID=America/Chicago:20200723T070000
DTSTAMP:20260424T083346
CREATED:20191108T183748Z
LAST-MODIFIED:20191108T183748Z
UID:6006-1595487600-1595487600@www.golfstlseniors.org
SUMMARY:D4 Wk 15   INNSBROOK
DESCRIPTION:Div 4   Wk 15    Split Tee #1 and #10   INNSBROOK   $30
URL:https://www.golfstlseniors.org/event/d4-wk-15-innsbrook/
LOCATION:Innsbrook Golf Course\, 1 Aspen Way Dr\, Innsbrook\, MO\, 63390\, United States
CATEGORIES:Div4
END:VEVENT
BEGIN:VEVENT
DTSTART;TZID=America/Chicago:20200716T070000
DTEND;TZID=America/Chicago:20200716T070000
DTSTAMP:20260424T083346
CREATED:20191108T183807Z
LAST-MODIFIED:20191108T183807Z
UID:6063-1594882800-1594882800@www.golfstlseniors.org
SUMMARY:D4 Wk 14   WOODS FORT
DESCRIPTION:Div 4   Wk 14    Split Tee #1 and #10   WOODS FORT   $28
URL:https://www.golfstlseniors.org/event/d4-wk-14-woods-fort/
LOCATION:Woods Fort Golf Course\, 1 Country Club Dr\, Troy\, MO\, 63379\, United States
CATEGORIES:Div4
END:VEVENT
BEGIN:VEVENT
DTSTART;TZID=America/Chicago:20200709T070000
DTEND;TZID=America/Chicago:20200709T070000
DTSTAMP:20260424T083346
CREATED:20191108T183737Z
LAST-MODIFIED:20191108T183737Z
UID:5977-1594278000-1594278000@www.golfstlseniors.org
SUMMARY:D4 Wk 13   DEER CREEK
DESCRIPTION:Div 4   Wk 13    Split Tee #1 and #10   DEER CREEK   $25
URL:https://www.golfstlseniors.org/event/d4-wk-13-deer-creek/
LOCATION:Fore Honor – Deer Creek Golf Club\, 5300 Dulin Creek Rd\, House Springs\, MO\, 63051\, United States
CATEGORIES:Div4
END:VEVENT
BEGIN:VEVENT
DTSTART;TZID=America/Chicago:20200625T063000
DTEND;TZID=America/Chicago:20200625T063000
DTSTAMP:20260424T083346
CREATED:20191108T183741Z
LAST-MODIFIED:20200512T000121Z
UID:5988-1593066600-1593066600@www.golfstlseniors.org
SUMMARY:D4 Wk 12   FALLS
DESCRIPTION:Div 4   Wk 12    Split Tee Start #1 and #10   FALLS   $33  96 Players / Carts Max. Reservations Required. 8 Min Start Gap.
URL:https://www.golfstlseniors.org/event/d4-wk-12-falls/
LOCATION:Falls Golf Club\, 1170 Turtle Creek Dr\, O'Fallon\, MO\, 63366\, United States
CATEGORIES:Div4
END:VEVENT
BEGIN:VEVENT
DTSTART;TZID=America/Chicago:20200618T080000
DTEND;TZID=America/Chicago:20200618T080000
DTSTAMP:20260424T083346
CREATED:20200512T000120Z
LAST-MODIFIED:20200512T000120Z
UID:7215-1592467200-1592467200@www.golfstlseniors.org
SUMMARY:D4 Wk 11   INCLINE VILLAGE
DESCRIPTION:Div 4   Wk 11    Split Tee Start #1 and #10   INCLINE VILLAGE  $25   72 Players / Carts Max. Reservations Required. 10 Min Start Gap
URL:https://www.golfstlseniors.org/event/d4-wk-11-incline-village/
LOCATION:Incline Village Golf Course\, 10220 Fairway Dr\, Foristell\, MO\, 63348\, United States
CATEGORIES:Div4
END:VEVENT
BEGIN:VEVENT
DTSTART;TZID=America/Chicago:20200611T063000
DTEND;TZID=America/Chicago:20200611T063000
DTSTAMP:20260424T083346
CREATED:20191108T183729Z
LAST-MODIFIED:20200512T000120Z
UID:5947-1591857000-1591857000@www.golfstlseniors.org
SUMMARY:D4 Wk 10   BEAR CREEK
DESCRIPTION:Div 4   Wk 10    Split Tee Start #1 and #10   BEAR CREEK    $33  88 Players / Carts Max.  Reservations Required.  8 Min Start Gap
URL:https://www.golfstlseniors.org/event/d4-wk-10-bear-creek/
LOCATION:Bear Creek Golf Club\, 158 Bear Creek Dr\, Wentzville\, MO\, 63385\, United States
CATEGORIES:Div4
END:VEVENT
BEGIN:VEVENT
DTSTART;TZID=America/Chicago:20200604T070000
DTEND;TZID=America/Chicago:20200604T070000
DTSTAMP:20260424T083346
CREATED:20200512T000122Z
LAST-MODIFIED:20200512T000122Z
UID:7217-1591254000-1591254000@www.golfstlseniors.org
SUMMARY:D4 Wk 9   FLORISSANT
DESCRIPTION:Div 4   Wk 9    TEE START #1 ONLY   FLORISSANT    $28  72 Players / Carts Max. Reservations Required. 10 Min Start Gap.
URL:https://www.golfstlseniors.org/event/d4-wk-9-florissant/
LOCATION:Florissant Golf Club\, 50 Country Club Ln\, Florissant\, MO\, 63033\, United States
CATEGORIES:Div4
END:VEVENT
END:VCALENDAR