BEGIN:VCALENDAR
VERSION:2.0
PRODID:-//Metro St. Louis Seniors Golf - ECPv6.15.20//NONSGML v1.0//EN
CALSCALE:GREGORIAN
METHOD:PUBLISH
X-ORIGINAL-URL:https://www.golfstlseniors.org
X-WR-CALDESC:Events for Metro St. Louis Seniors Golf
REFRESH-INTERVAL;VALUE=DURATION:PT1H
X-Robots-Tag:noindex
X-PUBLISHED-TTL:PT1H
BEGIN:VTIMEZONE
TZID:America/Chicago
BEGIN:DAYLIGHT
TZOFFSETFROM:-0600
TZOFFSETTO:-0500
TZNAME:CDT
DTSTART:20230312T080000
END:DAYLIGHT
BEGIN:STANDARD
TZOFFSETFROM:-0500
TZOFFSETTO:-0600
TZNAME:CST
DTSTART:20231105T070000
END:STANDARD
BEGIN:DAYLIGHT
TZOFFSETFROM:-0600
TZOFFSETTO:-0500
TZNAME:CDT
DTSTART:20240310T080000
END:DAYLIGHT
BEGIN:STANDARD
TZOFFSETFROM:-0500
TZOFFSETTO:-0600
TZNAME:CST
DTSTART:20241103T070000
END:STANDARD
BEGIN:DAYLIGHT
TZOFFSETFROM:-0600
TZOFFSETTO:-0500
TZNAME:CDT
DTSTART:20250309T080000
END:DAYLIGHT
BEGIN:STANDARD
TZOFFSETFROM:-0500
TZOFFSETTO:-0600
TZNAME:CST
DTSTART:20251102T070000
END:STANDARD
END:VTIMEZONE
BEGIN:VEVENT
DTSTART;TZID=America/Chicago:20240523T070000
DTEND;TZID=America/Chicago:20240523T070000
DTSTAMP:20260425T150252
CREATED:20240116T030100Z
LAST-MODIFIED:20240116T030100Z
UID:12987-1716447600-1716447600@www.golfstlseniors.org
SUMMARY:D5  Wk 7    Belk Park Golf Course
DESCRIPTION:Div5     – May 23    Split Tee Start  Belk Park Golf Course    $27
URL:https://www.golfstlseniors.org/event/d5-wk-7-belk-park-golf-course/
LOCATION:Belk Park Golf Course\, 880 Belk Park Rd\, Wood River\, Illinois\, 62095\, United States
CATEGORIES:Div5
END:VEVENT
END:VCALENDAR