BEGIN:VCALENDAR
VERSION:2.0
PRODID:-//Metro St. Louis Seniors Golf - ECPv6.15.20//NONSGML v1.0//EN
CALSCALE:GREGORIAN
METHOD:PUBLISH
X-ORIGINAL-URL:https://www.golfstlseniors.org
X-WR-CALDESC:Events for Metro St. Louis Seniors Golf
REFRESH-INTERVAL;VALUE=DURATION:PT1H
X-Robots-Tag:noindex
X-PUBLISHED-TTL:PT1H
BEGIN:VTIMEZONE
TZID:America/Chicago
BEGIN:DAYLIGHT
TZOFFSETFROM:-0600
TZOFFSETTO:-0500
TZNAME:CDT
DTSTART:20190310T080000
END:DAYLIGHT
BEGIN:STANDARD
TZOFFSETFROM:-0500
TZOFFSETTO:-0600
TZNAME:CST
DTSTART:20191103T070000
END:STANDARD
BEGIN:DAYLIGHT
TZOFFSETFROM:-0600
TZOFFSETTO:-0500
TZNAME:CDT
DTSTART:20200308T080000
END:DAYLIGHT
BEGIN:STANDARD
TZOFFSETFROM:-0500
TZOFFSETTO:-0600
TZNAME:CST
DTSTART:20201101T070000
END:STANDARD
BEGIN:DAYLIGHT
TZOFFSETFROM:-0600
TZOFFSETTO:-0500
TZNAME:CDT
DTSTART:20210314T080000
END:DAYLIGHT
BEGIN:STANDARD
TZOFFSETFROM:-0500
TZOFFSETTO:-0600
TZNAME:CST
DTSTART:20211107T070000
END:STANDARD
BEGIN:DAYLIGHT
TZOFFSETFROM:-0600
TZOFFSETTO:-0500
TZNAME:CDT
DTSTART:20220313T080000
END:DAYLIGHT
BEGIN:STANDARD
TZOFFSETFROM:-0500
TZOFFSETTO:-0600
TZNAME:CST
DTSTART:20221106T070000
END:STANDARD
END:VTIMEZONE
BEGIN:VEVENT
DTSTART;TZID=America/Chicago:20210923T073000
DTEND;TZID=America/Chicago:20210923T073000
DTSTAMP:20260424T070453
CREATED:20210114T163732Z
LAST-MODIFIED:20210114T163732Z
UID:8460-1632382200-1632382200@www.golfstlseniors.org
SUMMARY:D5 Wk 24 INNSBROOK
DESCRIPTION:Div 5 Wk 24    Split Tee #1 and #10   INNSBROOK
URL:https://www.golfstlseniors.org/event/d5-wk-24-innsbrook/
LOCATION:Innsbrook Golf Course\, 1 Aspen Way Dr\, Innsbrook\, MO\, 63390\, United States
CATEGORIES:Div5
END:VEVENT
BEGIN:VEVENT
DTSTART;TZID=America/Chicago:20210916T073000
DTEND;TZID=America/Chicago:20210916T073000
DTSTAMP:20260424T070453
CREATED:20210114T163732Z
LAST-MODIFIED:20210114T163732Z
UID:8459-1631777400-1631777400@www.golfstlseniors.org
SUMMARY:D5 Wk 23 LOCKHAVEN
DESCRIPTION:Div 5 Wk 23    Split Tee #1 and #10   LOCKHAVEN
URL:https://www.golfstlseniors.org/event/d5-wk-23-lockhaven/
LOCATION:Lockhaven Golf Club\, 10872 Lawrence Keler Dr\, Godfrey\, IL\, 62035\, United States
CATEGORIES:Div5
END:VEVENT
BEGIN:VEVENT
DTSTART;TZID=America/Chicago:20210909T073000
DTEND;TZID=America/Chicago:20210909T073000
DTSTAMP:20260424T070453
CREATED:20210114T163732Z
LAST-MODIFIED:20210114T163732Z
UID:8458-1631172600-1631172600@www.golfstlseniors.org
SUMMARY:D5 Wk 22 WOODS FORT
DESCRIPTION:Div 5 Wk 22    Split Tee #1 and #10   WOODS FORT
URL:https://www.golfstlseniors.org/event/d5-wk-22-woods-fort/
LOCATION:Woods Fort Golf Course\, 1 Country Club Dr\, Troy\, MO\, 63379\, United States
CATEGORIES:Div5
END:VEVENT
BEGIN:VEVENT
DTSTART;TZID=America/Chicago:20210902T073000
DTEND;TZID=America/Chicago:20210902T073000
DTSTAMP:20260424T070453
CREATED:20210114T163717Z
LAST-MODIFIED:20210307T173251Z
UID:8457-1630567800-1630567800@www.golfstlseniors.org
SUMMARY:D5 Wk 21 FORE HONOR-deer creek
DESCRIPTION:Div 5 Wk 21 Split Tee #1 and #10 FORE HONOR-deer creek
URL:https://www.golfstlseniors.org/event/d5-wk-21-fore-honor-deer-creek/
LOCATION:Fore Honor – Deer Creek Golf Club\, 5300 Dulin Creek Rd\, House Springs\, MO\, 63051\, United States
CATEGORIES:Div5
END:VEVENT
BEGIN:VEVENT
DTSTART;TZID=America/Chicago:20210826T073000
DTEND;TZID=America/Chicago:20210826T073000
DTSTAMP:20260424T070453
CREATED:20210114T163717Z
LAST-MODIFIED:20210114T163717Z
UID:8456-1629963000-1629963000@www.golfstlseniors.org
SUMMARY:D5 Wk 20 INCLINE VILLAGE
DESCRIPTION:Div 5 Wk 20    Split Tee #1 and #10   INCLINE VILLAGE
URL:https://www.golfstlseniors.org/event/d5-wk-20-incline-village/
LOCATION:Incline Village Golf Course\, 10220 Fairway Dr\, Foristell\, MO\, 63348\, United States
CATEGORIES:Div5
END:VEVENT
BEGIN:VEVENT
DTSTART;TZID=America/Chicago:20210819T070000
DTEND;TZID=America/Chicago:20210819T070000
DTSTAMP:20260424T070453
CREATED:20210114T163716Z
LAST-MODIFIED:20210114T163716Z
UID:8455-1629356400-1629356400@www.golfstlseniors.org
SUMMARY:D5 Wk 19 LEGACY
DESCRIPTION:Div 5 Wk 19    Split Tee #1 and #10   LEGACY
URL:https://www.golfstlseniors.org/event/d5-wk-19-legacy/
LOCATION:Legacy Golf Course\, 3500 Cargill Rd\, Granite City\, IL\, 62040\, United States
CATEGORIES:Div5
END:VEVENT
BEGIN:VEVENT
DTSTART;TZID=America/Chicago:20210812T063000
DTEND;TZID=America/Chicago:20210812T063000
DTSTAMP:20260424T070453
CREATED:20210114T163716Z
LAST-MODIFIED:20210114T163716Z
UID:8454-1628749800-1628749800@www.golfstlseniors.org
SUMMARY:D5 Wk 18 FAR OAKS
DESCRIPTION:Div 5 Wk 18    Split Tee #1 and #10   FAR OAKS
URL:https://www.golfstlseniors.org/event/d5-wk-18-far-oaks/
LOCATION:Far Oaks Golf Club\, 419 Old Collinsville Rd\, Caseyville\, IL\, 62232\, United States
CATEGORIES:Div5
END:VEVENT
BEGIN:VEVENT
DTSTART;TZID=America/Chicago:20210805T070000
DTEND;TZID=America/Chicago:20210805T070000
DTSTAMP:20260424T070453
CREATED:20210114T163716Z
LAST-MODIFIED:20210415T001303Z
UID:8453-1628146800-1628146800@www.golfstlseniors.org
SUMMARY:D5 Wk 17 FLORISSANT
DESCRIPTION:Div 5 Wk 17 Split Tee Start FLORISSANT
URL:https://www.golfstlseniors.org/event/d5-wk-17-florissant/
LOCATION:Florissant Golf Club\, 50 Country Club Ln\, Florissant\, MO\, 63033\, United States
CATEGORIES:Div5
END:VEVENT
BEGIN:VEVENT
DTSTART;TZID=America/Chicago:20210729T070000
DTEND;TZID=America/Chicago:20210729T070000
DTSTAMP:20260424T070453
CREATED:20210114T163703Z
LAST-MODIFIED:20210114T163703Z
UID:8452-1627542000-1627542000@www.golfstlseniors.org
SUMMARY:D5 Wk 16 EAGLE SPRINGS
DESCRIPTION:Div 5 Wk 16    Split Tee #1 and #10   EAGLE SPRINGS
URL:https://www.golfstlseniors.org/event/d5-wk-16-eagle-springs/
LOCATION:Eagle Springs Golf Course\, 2575 Redman Rd\, St. Louis\, MO\, 63136\, United States
CATEGORIES:Div5
END:VEVENT
BEGIN:VEVENT
DTSTART;TZID=America/Chicago:20210722T073000
DTEND;TZID=America/Chicago:20210722T073000
DTSTAMP:20260424T070453
CREATED:20210114T163703Z
LAST-MODIFIED:20210114T163703Z
UID:8451-1626939000-1626939000@www.golfstlseniors.org
SUMMARY:D5 Wk 15 COLUMBIA BRIDGES
DESCRIPTION:Div 5 Wk 15    Split Tee #1 and #10   COLUMBIA BRIDGES
URL:https://www.golfstlseniors.org/event/d5-wk-15-columbia-bridges/
LOCATION:Columbia Bridges Golf Club\, 1655 Columbia Bridges Rd\, Columbia\, IL\, 62236\, United States
CATEGORIES:Div5
END:VEVENT
BEGIN:VEVENT
DTSTART;TZID=America/Chicago:20210715T073000
DTEND;TZID=America/Chicago:20210715T073000
DTSTAMP:20260424T070453
CREATED:20210114T163702Z
LAST-MODIFIED:20210409T231045Z
UID:8450-1626334200-1626334200@www.golfstlseniors.org
SUMMARY:D5 Wk 14 LINKS @ DARDENNE
DESCRIPTION:Div 5 Wk 14 Shotgun Tee Start LINKS @ DARDENNE
URL:https://www.golfstlseniors.org/event/d5-wk-14-links-dardenne/
LOCATION:Links of Dardenne\, 7000 Brassel Dr\, O'Fallon\, MO\, 63368\, United States
CATEGORIES:Div5
END:VEVENT
BEGIN:VEVENT
DTSTART;TZID=America/Chicago:20210708T070000
DTEND;TZID=America/Chicago:20210708T070000
DTSTAMP:20260424T070453
CREATED:20210114T163702Z
LAST-MODIFIED:20210114T163702Z
UID:8449-1625727600-1625727600@www.golfstlseniors.org
SUMMARY:D5 Wk 13 OAK VALLEY
DESCRIPTION:Div 5 Wk 13    Split Tee #1 and #10   OAK VALLEY
URL:https://www.golfstlseniors.org/event/d5-wk-13-oak-valley/
LOCATION:Oak Valley Golf Course\, 1230 Abbey Ln\, Pevely\, MO\, 63070\, United States
CATEGORIES:Div5
END:VEVENT
BEGIN:VEVENT
DTSTART;TZID=America/Chicago:20210624T070000
DTEND;TZID=America/Chicago:20210624T070000
DTSTAMP:20260424T070453
CREATED:20210114T163701Z
LAST-MODIFIED:20210114T163701Z
UID:8448-1624518000-1624518000@www.golfstlseniors.org
SUMMARY:D5 Wk 12 BELK PARK
DESCRIPTION:Div 5 Wk 12    Split Tee #1 and #10   BELK PARK
URL:https://www.golfstlseniors.org/event/d5-wk-12-belk-park/
LOCATION:Belk Park Golf Course\, 880 Belk Park Rd\, Wood River\, Illinois\, 62095\, United States
CATEGORIES:Div5
END:VEVENT
BEGIN:VEVENT
DTSTART;TZID=America/Chicago:20210617T073000
DTEND;TZID=America/Chicago:20210617T073000
DTSTAMP:20260424T070453
CREATED:20210105T162545Z
LAST-MODIFIED:20210114T163647Z
UID:8301-1623915000-1623915000@www.golfstlseniors.org
SUMMARY:D5 Wk 11 CRESCENT FARMS
DESCRIPTION:Div 5 Wk 11    Split Tee #1 and #10   CRESCENT FARMS
URL:https://www.golfstlseniors.org/event/d5-wk-11-crescent-farms/
LOCATION:Crescent Farms\, 745 Lewis Rd\, Crescent\, MO\, 63025\, United States
CATEGORIES:Div5
END:VEVENT
BEGIN:VEVENT
DTSTART;TZID=America/Chicago:20210610T070000
DTEND;TZID=America/Chicago:20210610T070000
DTSTAMP:20260424T070453
CREATED:20210105T162544Z
LAST-MODIFIED:20210409T215500Z
UID:8300-1623308400-1623308400@www.golfstlseniors.org
SUMMARY:D5 Wk 10 WOODLANDS
DESCRIPTION:Div 5 Wk 10 Split Tee Start WOODLANDS
URL:https://www.golfstlseniors.org/event/d5-wk-10-woodlands/
LOCATION:Woodlands Golf Club\, 2839 Harris Ln\, Alton\, IL\, 62002\, United States
CATEGORIES:Div5
END:VEVENT
BEGIN:VEVENT
DTSTART;TZID=America/Chicago:20210603T070000
DTEND;TZID=America/Chicago:20210603T070000
DTSTAMP:20260424T070453
CREATED:20210105T162544Z
LAST-MODIFIED:20210114T163647Z
UID:8299-1622703600-1622703600@www.golfstlseniors.org
SUMMARY:D5 Wk 9 TAMARACK
DESCRIPTION:Div 5 Wk 9    Split Tee #1 and #10   TAMARACK
URL:https://www.golfstlseniors.org/event/d5-wk-9-tamarack/
LOCATION:Tamarack Golf Course\, 362 Tamarack Ln\, Shiloh\, IL\, 62269\, United States
CATEGORIES:Div5
END:VEVENT
BEGIN:VEVENT
DTSTART;TZID=America/Chicago:20210527T063000
DTEND;TZID=America/Chicago:20210527T063000
DTSTAMP:20260424T070453
CREATED:20210105T162544Z
LAST-MODIFIED:20210415T001037Z
UID:8298-1622097000-1622097000@www.golfstlseniors.org
SUMMARY:D5 Wk 8 FALLS
DESCRIPTION:Div 5 Wk 8 Split Tee Start FALLS
URL:https://www.golfstlseniors.org/event/d5-wk-8-falls/
LOCATION:Falls Golf Club\, 1170 Turtle Creek Dr\, O'Fallon\, MO\, 63366\, United States
CATEGORIES:Div5
END:VEVENT
BEGIN:VEVENT
DTSTART;TZID=America/Chicago:20210520T070000
DTEND;TZID=America/Chicago:20210520T070000
DTSTAMP:20260424T070453
CREATED:20210105T162544Z
LAST-MODIFIED:20210114T163647Z
UID:8297-1621494000-1621494000@www.golfstlseniors.org
SUMMARY:D5 Wk 7 SPENCER T OLIN #1
DESCRIPTION:Div 5 Wk 7    Split Tee #1 and #10   SPENCER T OLIN #1
URL:https://www.golfstlseniors.org/event/d5-wk-7-spencer-t-olin-1/
LOCATION:Spencer T Olin Golf Course\, 4701 College Ave\, Alton\, IL\, 62002\, United States
CATEGORIES:Div5
END:VEVENT
BEGIN:VEVENT
DTSTART;TZID=America/Chicago:20210513T063000
DTEND;TZID=America/Chicago:20210513T063000
DTSTAMP:20260424T070453
CREATED:20210105T162529Z
LAST-MODIFIED:20210114T163634Z
UID:8296-1620887400-1620887400@www.golfstlseniors.org
SUMMARY:D5 Wk 6 ABERDEEN
DESCRIPTION:Div 5 Wk 6    Split Tee #1 and #10   ABERDEEN
URL:https://www.golfstlseniors.org/event/d5-wk-6-aberdeen/
LOCATION:Aberdeen Golf Club\, 4111 Crescent Rd\, Eureka\, MO\, 63025\, United States
CATEGORIES:Div5
END:VEVENT
BEGIN:VEVENT
DTSTART;TZID=America/Chicago:20210506T063000
DTEND;TZID=America/Chicago:20210506T063000
DTSTAMP:20260424T070453
CREATED:20210105T162529Z
LAST-MODIFIED:20210409T220025Z
UID:8295-1620282600-1620282600@www.golfstlseniors.org
SUMMARY:D5 Wk 5 BEAR CREEK
DESCRIPTION:Div 5 Wk 5 Split Tee Start BEAR CREEK
URL:https://www.golfstlseniors.org/event/d5-wk-5-bear-creek/
LOCATION:Bear Creek Golf Club\, 158 Bear Creek Dr\, Wentzville\, MO\, 63385\, United States
CATEGORIES:Div5
END:VEVENT
BEGIN:VEVENT
DTSTART;TZID=America/Chicago:20210429T070000
DTEND;TZID=America/Chicago:20210429T070000
DTSTAMP:20260424T070453
CREATED:20210105T162529Z
LAST-MODIFIED:20210320T014828Z
UID:8294-1619679600-1619679600@www.golfstlseniors.org
SUMMARY:D5 Wk 4 WOLF HOLLOW
DESCRIPTION:Div 5 Wk 4 Split Tee Start WOLF HOLLOW
URL:https://www.golfstlseniors.org/event/d5-wk-4-wolf-hollow/
LOCATION:Wolf Hollow Golf Club\, 4504 MO-100\, Labadie\, MO\, 63055\, United States
CATEGORIES:Div5
END:VEVENT
BEGIN:VEVENT
DTSTART;TZID=America/Chicago:20210422T070000
DTEND;TZID=America/Chicago:20210422T070000
DTSTAMP:20260424T070453
CREATED:20210105T162529Z
LAST-MODIFIED:20210114T163633Z
UID:8293-1619074800-1619074800@www.golfstlseniors.org
SUMMARY:D5 Wk 3 SPENCER T OLIN #2
DESCRIPTION:Div 5 Wk 3    Split Tee #1 and #10   SPENCER T OLIN #2
URL:https://www.golfstlseniors.org/event/d5-wk-3-spencer-t-olin-2/
LOCATION:Spencer T Olin Golf Course\, 4701 College Ave\, Alton\, IL\, 62002\, United States
CATEGORIES:Div5
END:VEVENT
BEGIN:VEVENT
DTSTART;TZID=America/Chicago:20210415T070000
DTEND;TZID=America/Chicago:20210415T070000
DTSTAMP:20260424T070453
CREATED:20210105T162529Z
LAST-MODIFIED:20210409T220218Z
UID:8292-1618470000-1618470000@www.golfstlseniors.org
SUMMARY:D5 Wk 2 ACORNS
DESCRIPTION:Div 5 Wk 2 Split Tee Start ACORNS
URL:https://www.golfstlseniors.org/event/d5-wk-2-acorns/
LOCATION:Acorns Golf Links\, 3933 Ahne Rd\, Waterloo\, Illinois\, 62298\, United States
CATEGORIES:Div5
END:VEVENT
BEGIN:VEVENT
DTSTART;TZID=America/Chicago:20210408T070000
DTEND;TZID=America/Chicago:20210408T070000
DTSTAMP:20260424T070453
CREATED:20210105T162505Z
LAST-MODIFIED:20210114T163621Z
UID:8291-1617865200-1617865200@www.golfstlseniors.org
SUMMARY:D5 Wk 1 WENTZVILLE
DESCRIPTION:Div 5 Wk 1    Split Tee #1 and #10   WENTZVILLE
URL:https://www.golfstlseniors.org/event/d5-wk-1-wentzville/
LOCATION:Golf Club of Wentzville\, 9 Pro Shop Dr\, Wentzville\, MO\, 63385\, United States
CATEGORIES:Div5
END:VEVENT
BEGIN:VEVENT
DTSTART;TZID=America/Chicago:20200924T073000
DTEND;TZID=America/Chicago:20200924T073000
DTSTAMP:20260424T070453
CREATED:20191108T183733Z
LAST-MODIFIED:20191209T204154Z
UID:5963-1600932600-1600932600@www.golfstlseniors.org
SUMMARY:D5 Wk 24   COLUMBIA BRIDGES *
DESCRIPTION:Div 5 Wk 24 Shotgun COLUMBIA BRIDGES * $28
URL:https://www.golfstlseniors.org/event/d5-wk-24-columbia-bridges/
LOCATION:Columbia Bridges Golf Club\, 1655 Columbia Bridges Rd\, Columbia\, IL\, 62236\, United States
CATEGORIES:Div5
END:VEVENT
BEGIN:VEVENT
DTSTART;TZID=America/Chicago:20200917T070000
DTEND;TZID=America/Chicago:20200917T070000
DTSTAMP:20260424T070453
CREATED:20191108T183743Z
LAST-MODIFIED:20191108T183743Z
UID:5994-1600326000-1600326000@www.golfstlseniors.org
SUMMARY:D5 Wk 23   FAR OAKS
DESCRIPTION:Div 5   Wk 23    Split Tee #1 and #10   FAR OAKS    $32
URL:https://www.golfstlseniors.org/event/d5-wk-23-far-oaks/
LOCATION:Far Oaks Golf Club\, 419 Old Collinsville Rd\, Caseyville\, IL\, 62232\, United States
CATEGORIES:Div5
END:VEVENT
BEGIN:VEVENT
DTSTART;TZID=America/Chicago:20200910T073000
DTEND;TZID=America/Chicago:20200910T073000
DTSTAMP:20260424T070453
CREATED:20191108T183737Z
LAST-MODIFIED:20191108T183737Z
UID:5979-1599723000-1599723000@www.golfstlseniors.org
SUMMARY:D5 Wk 22   DEER CREEK
DESCRIPTION:Div 5   Wk 22    Split Tee #1 and #10   DEER CREEK   $25
URL:https://www.golfstlseniors.org/event/d5-wk-22-deer-creek/
LOCATION:Fore Honor – Deer Creek Golf Club\, 5300 Dulin Creek Rd\, House Springs\, MO\, 63051\, United States
CATEGORIES:Div5
END:VEVENT
BEGIN:VEVENT
DTSTART;TZID=America/Chicago:20200903T073000
DTEND;TZID=America/Chicago:20200903T073000
DTSTAMP:20260424T070453
CREATED:20191108T183748Z
LAST-MODIFIED:20191108T183748Z
UID:6007-1599118200-1599118200@www.golfstlseniors.org
SUMMARY:D5 Wk 21   INNSBROOK
DESCRIPTION:Div 5   Wk 21    Split Tee #1 and #10   INNSBROOK   $30
URL:https://www.golfstlseniors.org/event/d5-wk-21-innsbrook/
LOCATION:Innsbrook Golf Course\, 1 Aspen Way Dr\, Innsbrook\, MO\, 63390\, United States
CATEGORIES:Div5
END:VEVENT
BEGIN:VEVENT
DTSTART;TZID=America/Chicago:20200827T070000
DTEND;TZID=America/Chicago:20200827T070000
DTSTAMP:20260424T070453
CREATED:20191108T183757Z
LAST-MODIFIED:20191108T183757Z
UID:6033-1598511600-1598511600@www.golfstlseniors.org
SUMMARY:D5 Wk 20   SPENCER T OLIN
DESCRIPTION:Div 5   Wk 20    Split Tee #1 and #10   SPENCER T OLIN    $27.95
URL:https://www.golfstlseniors.org/event/d5-wk-20-spencer-t-olin/
LOCATION:Spencer T Olin Golf Course\, 4701 College Ave\, Alton\, IL\, 62002\, United States
CATEGORIES:Div5
END:VEVENT
BEGIN:VEVENT
DTSTART;TZID=America/Chicago:20200820T073000
DTEND;TZID=America/Chicago:20200820T073000
DTSTAMP:20260424T070453
CREATED:20191108T183732Z
LAST-MODIFIED:20191209T203745Z
UID:5957-1597908600-1597908600@www.golfstlseniors.org
SUMMARY:D5 Wk 19   COLUMBIA  *
DESCRIPTION:Div 5 Wk 19 Shotgun COLUMBIA * $28
URL:https://www.golfstlseniors.org/event/d5-wk-19-columbia/
LOCATION:Columbia Golf Club\, 125 2770 N\, Columbia\, IL\, 62236\, United States
CATEGORIES:Div5
END:VEVENT
END:VCALENDAR