BEGIN:VCALENDAR
VERSION:2.0
PRODID:-//Metro St. Louis Seniors Golf - ECPv6.15.20//NONSGML v1.0//EN
CALSCALE:GREGORIAN
METHOD:PUBLISH
X-WR-CALNAME:Metro St. Louis Seniors Golf
X-ORIGINAL-URL:https://www.golfstlseniors.org
X-WR-CALDESC:Events for Metro St. Louis Seniors Golf
REFRESH-INTERVAL;VALUE=DURATION:PT1H
X-Robots-Tag:noindex
X-PUBLISHED-TTL:PT1H
BEGIN:VTIMEZONE
TZID:America/Chicago
BEGIN:DAYLIGHT
TZOFFSETFROM:-0600
TZOFFSETTO:-0500
TZNAME:CDT
DTSTART:19690427T080000
END:DAYLIGHT
BEGIN:STANDARD
TZOFFSETFROM:-0500
TZOFFSETTO:-0600
TZNAME:CST
DTSTART:19691026T070000
END:STANDARD
BEGIN:DAYLIGHT
TZOFFSETFROM:-0600
TZOFFSETTO:-0500
TZNAME:CDT
DTSTART:19700426T080000
END:DAYLIGHT
BEGIN:STANDARD
TZOFFSETFROM:-0500
TZOFFSETTO:-0600
TZNAME:CST
DTSTART:19701025T070000
END:STANDARD
BEGIN:DAYLIGHT
TZOFFSETFROM:-0600
TZOFFSETTO:-0500
TZNAME:CDT
DTSTART:19710425T080000
END:DAYLIGHT
BEGIN:STANDARD
TZOFFSETFROM:-0500
TZOFFSETTO:-0600
TZNAME:CST
DTSTART:19711031T070000
END:STANDARD
BEGIN:DAYLIGHT
TZOFFSETFROM:-0600
TZOFFSETTO:-0500
TZNAME:CDT
DTSTART:19720430T080000
END:DAYLIGHT
BEGIN:STANDARD
TZOFFSETFROM:-0500
TZOFFSETTO:-0600
TZNAME:CST
DTSTART:19721029T070000
END:STANDARD
BEGIN:DAYLIGHT
TZOFFSETFROM:-0600
TZOFFSETTO:-0500
TZNAME:CDT
DTSTART:19730429T080000
END:DAYLIGHT
BEGIN:STANDARD
TZOFFSETFROM:-0500
TZOFFSETTO:-0600
TZNAME:CST
DTSTART:19731028T070000
END:STANDARD
BEGIN:DAYLIGHT
TZOFFSETFROM:-0600
TZOFFSETTO:-0500
TZNAME:CDT
DTSTART:19740106T080000
END:DAYLIGHT
BEGIN:STANDARD
TZOFFSETFROM:-0500
TZOFFSETTO:-0600
TZNAME:CST
DTSTART:19741027T070000
END:STANDARD
BEGIN:DAYLIGHT
TZOFFSETFROM:-0600
TZOFFSETTO:-0500
TZNAME:CDT
DTSTART:19750223T080000
END:DAYLIGHT
BEGIN:STANDARD
TZOFFSETFROM:-0500
TZOFFSETTO:-0600
TZNAME:CST
DTSTART:19751026T070000
END:STANDARD
BEGIN:DAYLIGHT
TZOFFSETFROM:-0600
TZOFFSETTO:-0500
TZNAME:CDT
DTSTART:19760425T080000
END:DAYLIGHT
BEGIN:STANDARD
TZOFFSETFROM:-0500
TZOFFSETTO:-0600
TZNAME:CST
DTSTART:19761031T070000
END:STANDARD
BEGIN:DAYLIGHT
TZOFFSETFROM:-0600
TZOFFSETTO:-0500
TZNAME:CDT
DTSTART:19770424T080000
END:DAYLIGHT
BEGIN:STANDARD
TZOFFSETFROM:-0500
TZOFFSETTO:-0600
TZNAME:CST
DTSTART:19771030T070000
END:STANDARD
BEGIN:DAYLIGHT
TZOFFSETFROM:-0600
TZOFFSETTO:-0500
TZNAME:CDT
DTSTART:19780430T080000
END:DAYLIGHT
BEGIN:STANDARD
TZOFFSETFROM:-0500
TZOFFSETTO:-0600
TZNAME:CST
DTSTART:19781029T070000
END:STANDARD
BEGIN:DAYLIGHT
TZOFFSETFROM:-0600
TZOFFSETTO:-0500
TZNAME:CDT
DTSTART:19790429T080000
END:DAYLIGHT
BEGIN:STANDARD
TZOFFSETFROM:-0500
TZOFFSETTO:-0600
TZNAME:CST
DTSTART:19791028T070000
END:STANDARD
BEGIN:DAYLIGHT
TZOFFSETFROM:-0600
TZOFFSETTO:-0500
TZNAME:CDT
DTSTART:19800427T080000
END:DAYLIGHT
BEGIN:STANDARD
TZOFFSETFROM:-0500
TZOFFSETTO:-0600
TZNAME:CST
DTSTART:19801026T070000
END:STANDARD
BEGIN:DAYLIGHT
TZOFFSETFROM:-0600
TZOFFSETTO:-0500
TZNAME:CDT
DTSTART:19810426T080000
END:DAYLIGHT
BEGIN:STANDARD
TZOFFSETFROM:-0500
TZOFFSETTO:-0600
TZNAME:CST
DTSTART:19811025T070000
END:STANDARD
BEGIN:DAYLIGHT
TZOFFSETFROM:-0600
TZOFFSETTO:-0500
TZNAME:CDT
DTSTART:19820425T080000
END:DAYLIGHT
BEGIN:STANDARD
TZOFFSETFROM:-0500
TZOFFSETTO:-0600
TZNAME:CST
DTSTART:19821031T070000
END:STANDARD
BEGIN:DAYLIGHT
TZOFFSETFROM:-0600
TZOFFSETTO:-0500
TZNAME:CDT
DTSTART:19830424T080000
END:DAYLIGHT
BEGIN:STANDARD
TZOFFSETFROM:-0500
TZOFFSETTO:-0600
TZNAME:CST
DTSTART:19831030T070000
END:STANDARD
BEGIN:DAYLIGHT
TZOFFSETFROM:-0600
TZOFFSETTO:-0500
TZNAME:CDT
DTSTART:19840429T080000
END:DAYLIGHT
BEGIN:STANDARD
TZOFFSETFROM:-0500
TZOFFSETTO:-0600
TZNAME:CST
DTSTART:19841028T070000
END:STANDARD
BEGIN:DAYLIGHT
TZOFFSETFROM:-0600
TZOFFSETTO:-0500
TZNAME:CDT
DTSTART:19850428T080000
END:DAYLIGHT
BEGIN:STANDARD
TZOFFSETFROM:-0500
TZOFFSETTO:-0600
TZNAME:CST
DTSTART:19851027T070000
END:STANDARD
BEGIN:DAYLIGHT
TZOFFSETFROM:-0600
TZOFFSETTO:-0500
TZNAME:CDT
DTSTART:19860427T080000
END:DAYLIGHT
BEGIN:STANDARD
TZOFFSETFROM:-0500
TZOFFSETTO:-0600
TZNAME:CST
DTSTART:19861026T070000
END:STANDARD
BEGIN:DAYLIGHT
TZOFFSETFROM:-0600
TZOFFSETTO:-0500
TZNAME:CDT
DTSTART:19870405T080000
END:DAYLIGHT
BEGIN:STANDARD
TZOFFSETFROM:-0500
TZOFFSETTO:-0600
TZNAME:CST
DTSTART:19871025T070000
END:STANDARD
BEGIN:DAYLIGHT
TZOFFSETFROM:-0600
TZOFFSETTO:-0500
TZNAME:CDT
DTSTART:19880403T080000
END:DAYLIGHT
BEGIN:STANDARD
TZOFFSETFROM:-0500
TZOFFSETTO:-0600
TZNAME:CST
DTSTART:19881030T070000
END:STANDARD
BEGIN:DAYLIGHT
TZOFFSETFROM:-0600
TZOFFSETTO:-0500
TZNAME:CDT
DTSTART:19890402T080000
END:DAYLIGHT
BEGIN:STANDARD
TZOFFSETFROM:-0500
TZOFFSETTO:-0600
TZNAME:CST
DTSTART:19891029T070000
END:STANDARD
BEGIN:DAYLIGHT
TZOFFSETFROM:-0600
TZOFFSETTO:-0500
TZNAME:CDT
DTSTART:19900401T080000
END:DAYLIGHT
BEGIN:STANDARD
TZOFFSETFROM:-0500
TZOFFSETTO:-0600
TZNAME:CST
DTSTART:19901028T070000
END:STANDARD
BEGIN:DAYLIGHT
TZOFFSETFROM:-0600
TZOFFSETTO:-0500
TZNAME:CDT
DTSTART:19910407T080000
END:DAYLIGHT
BEGIN:STANDARD
TZOFFSETFROM:-0500
TZOFFSETTO:-0600
TZNAME:CST
DTSTART:19911027T070000
END:STANDARD
BEGIN:DAYLIGHT
TZOFFSETFROM:-0600
TZOFFSETTO:-0500
TZNAME:CDT
DTSTART:19920405T080000
END:DAYLIGHT
BEGIN:STANDARD
TZOFFSETFROM:-0500
TZOFFSETTO:-0600
TZNAME:CST
DTSTART:19921025T070000
END:STANDARD
BEGIN:DAYLIGHT
TZOFFSETFROM:-0600
TZOFFSETTO:-0500
TZNAME:CDT
DTSTART:19930404T080000
END:DAYLIGHT
BEGIN:STANDARD
TZOFFSETFROM:-0500
TZOFFSETTO:-0600
TZNAME:CST
DTSTART:19931031T070000
END:STANDARD
BEGIN:DAYLIGHT
TZOFFSETFROM:-0600
TZOFFSETTO:-0500
TZNAME:CDT
DTSTART:19940403T080000
END:DAYLIGHT
BEGIN:STANDARD
TZOFFSETFROM:-0500
TZOFFSETTO:-0600
TZNAME:CST
DTSTART:19941030T070000
END:STANDARD
BEGIN:DAYLIGHT
TZOFFSETFROM:-0600
TZOFFSETTO:-0500
TZNAME:CDT
DTSTART:19950402T080000
END:DAYLIGHT
BEGIN:STANDARD
TZOFFSETFROM:-0500
TZOFFSETTO:-0600
TZNAME:CST
DTSTART:19951029T070000
END:STANDARD
BEGIN:DAYLIGHT
TZOFFSETFROM:-0600
TZOFFSETTO:-0500
TZNAME:CDT
DTSTART:19960407T080000
END:DAYLIGHT
BEGIN:STANDARD
TZOFFSETFROM:-0500
TZOFFSETTO:-0600
TZNAME:CST
DTSTART:19961027T070000
END:STANDARD
BEGIN:DAYLIGHT
TZOFFSETFROM:-0600
TZOFFSETTO:-0500
TZNAME:CDT
DTSTART:19970406T080000
END:DAYLIGHT
BEGIN:STANDARD
TZOFFSETFROM:-0500
TZOFFSETTO:-0600
TZNAME:CST
DTSTART:19971026T070000
END:STANDARD
BEGIN:DAYLIGHT
TZOFFSETFROM:-0600
TZOFFSETTO:-0500
TZNAME:CDT
DTSTART:19980405T080000
END:DAYLIGHT
BEGIN:STANDARD
TZOFFSETFROM:-0500
TZOFFSETTO:-0600
TZNAME:CST
DTSTART:19981025T070000
END:STANDARD
BEGIN:DAYLIGHT
TZOFFSETFROM:-0600
TZOFFSETTO:-0500
TZNAME:CDT
DTSTART:19990404T080000
END:DAYLIGHT
BEGIN:STANDARD
TZOFFSETFROM:-0500
TZOFFSETTO:-0600
TZNAME:CST
DTSTART:19991031T070000
END:STANDARD
BEGIN:DAYLIGHT
TZOFFSETFROM:-0600
TZOFFSETTO:-0500
TZNAME:CDT
DTSTART:20000402T080000
END:DAYLIGHT
BEGIN:STANDARD
TZOFFSETFROM:-0500
TZOFFSETTO:-0600
TZNAME:CST
DTSTART:20001029T070000
END:STANDARD
BEGIN:DAYLIGHT
TZOFFSETFROM:-0600
TZOFFSETTO:-0500
TZNAME:CDT
DTSTART:20010401T080000
END:DAYLIGHT
BEGIN:STANDARD
TZOFFSETFROM:-0500
TZOFFSETTO:-0600
TZNAME:CST
DTSTART:20011028T070000
END:STANDARD
BEGIN:DAYLIGHT
TZOFFSETFROM:-0600
TZOFFSETTO:-0500
TZNAME:CDT
DTSTART:20020407T080000
END:DAYLIGHT
BEGIN:STANDARD
TZOFFSETFROM:-0500
TZOFFSETTO:-0600
TZNAME:CST
DTSTART:20021027T070000
END:STANDARD
BEGIN:DAYLIGHT
TZOFFSETFROM:-0600
TZOFFSETTO:-0500
TZNAME:CDT
DTSTART:20030406T080000
END:DAYLIGHT
BEGIN:STANDARD
TZOFFSETFROM:-0500
TZOFFSETTO:-0600
TZNAME:CST
DTSTART:20031026T070000
END:STANDARD
BEGIN:DAYLIGHT
TZOFFSETFROM:-0600
TZOFFSETTO:-0500
TZNAME:CDT
DTSTART:20040404T080000
END:DAYLIGHT
BEGIN:STANDARD
TZOFFSETFROM:-0500
TZOFFSETTO:-0600
TZNAME:CST
DTSTART:20041031T070000
END:STANDARD
BEGIN:DAYLIGHT
TZOFFSETFROM:-0600
TZOFFSETTO:-0500
TZNAME:CDT
DTSTART:20050403T080000
END:DAYLIGHT
BEGIN:STANDARD
TZOFFSETFROM:-0500
TZOFFSETTO:-0600
TZNAME:CST
DTSTART:20051030T070000
END:STANDARD
BEGIN:DAYLIGHT
TZOFFSETFROM:-0600
TZOFFSETTO:-0500
TZNAME:CDT
DTSTART:20060402T080000
END:DAYLIGHT
BEGIN:STANDARD
TZOFFSETFROM:-0500
TZOFFSETTO:-0600
TZNAME:CST
DTSTART:20061029T070000
END:STANDARD
BEGIN:DAYLIGHT
TZOFFSETFROM:-0600
TZOFFSETTO:-0500
TZNAME:CDT
DTSTART:20070311T080000
END:DAYLIGHT
BEGIN:STANDARD
TZOFFSETFROM:-0500
TZOFFSETTO:-0600
TZNAME:CST
DTSTART:20071104T070000
END:STANDARD
BEGIN:DAYLIGHT
TZOFFSETFROM:-0600
TZOFFSETTO:-0500
TZNAME:CDT
DTSTART:20080309T080000
END:DAYLIGHT
BEGIN:STANDARD
TZOFFSETFROM:-0500
TZOFFSETTO:-0600
TZNAME:CST
DTSTART:20081102T070000
END:STANDARD
BEGIN:DAYLIGHT
TZOFFSETFROM:-0600
TZOFFSETTO:-0500
TZNAME:CDT
DTSTART:20090308T080000
END:DAYLIGHT
BEGIN:STANDARD
TZOFFSETFROM:-0500
TZOFFSETTO:-0600
TZNAME:CST
DTSTART:20091101T070000
END:STANDARD
BEGIN:DAYLIGHT
TZOFFSETFROM:-0600
TZOFFSETTO:-0500
TZNAME:CDT
DTSTART:20100314T080000
END:DAYLIGHT
BEGIN:STANDARD
TZOFFSETFROM:-0500
TZOFFSETTO:-0600
TZNAME:CST
DTSTART:20101107T070000
END:STANDARD
BEGIN:DAYLIGHT
TZOFFSETFROM:-0600
TZOFFSETTO:-0500
TZNAME:CDT
DTSTART:20110313T080000
END:DAYLIGHT
BEGIN:STANDARD
TZOFFSETFROM:-0500
TZOFFSETTO:-0600
TZNAME:CST
DTSTART:20111106T070000
END:STANDARD
BEGIN:DAYLIGHT
TZOFFSETFROM:-0600
TZOFFSETTO:-0500
TZNAME:CDT
DTSTART:20120311T080000
END:DAYLIGHT
BEGIN:STANDARD
TZOFFSETFROM:-0500
TZOFFSETTO:-0600
TZNAME:CST
DTSTART:20121104T070000
END:STANDARD
BEGIN:DAYLIGHT
TZOFFSETFROM:-0600
TZOFFSETTO:-0500
TZNAME:CDT
DTSTART:20130310T080000
END:DAYLIGHT
BEGIN:STANDARD
TZOFFSETFROM:-0500
TZOFFSETTO:-0600
TZNAME:CST
DTSTART:20131103T070000
END:STANDARD
BEGIN:DAYLIGHT
TZOFFSETFROM:-0600
TZOFFSETTO:-0500
TZNAME:CDT
DTSTART:20140309T080000
END:DAYLIGHT
BEGIN:STANDARD
TZOFFSETFROM:-0500
TZOFFSETTO:-0600
TZNAME:CST
DTSTART:20141102T070000
END:STANDARD
BEGIN:DAYLIGHT
TZOFFSETFROM:-0600
TZOFFSETTO:-0500
TZNAME:CDT
DTSTART:20150308T080000
END:DAYLIGHT
BEGIN:STANDARD
TZOFFSETFROM:-0500
TZOFFSETTO:-0600
TZNAME:CST
DTSTART:20151101T070000
END:STANDARD
BEGIN:DAYLIGHT
TZOFFSETFROM:-0600
TZOFFSETTO:-0500
TZNAME:CDT
DTSTART:20160313T080000
END:DAYLIGHT
BEGIN:STANDARD
TZOFFSETFROM:-0500
TZOFFSETTO:-0600
TZNAME:CST
DTSTART:20161106T070000
END:STANDARD
BEGIN:DAYLIGHT
TZOFFSETFROM:-0600
TZOFFSETTO:-0500
TZNAME:CDT
DTSTART:20170312T080000
END:DAYLIGHT
BEGIN:STANDARD
TZOFFSETFROM:-0500
TZOFFSETTO:-0600
TZNAME:CST
DTSTART:20171105T070000
END:STANDARD
BEGIN:DAYLIGHT
TZOFFSETFROM:-0600
TZOFFSETTO:-0500
TZNAME:CDT
DTSTART:20180311T080000
END:DAYLIGHT
BEGIN:STANDARD
TZOFFSETFROM:-0500
TZOFFSETTO:-0600
TZNAME:CST
DTSTART:20181104T070000
END:STANDARD
BEGIN:DAYLIGHT
TZOFFSETFROM:-0600
TZOFFSETTO:-0500
TZNAME:CDT
DTSTART:20190310T080000
END:DAYLIGHT
BEGIN:STANDARD
TZOFFSETFROM:-0500
TZOFFSETTO:-0600
TZNAME:CST
DTSTART:20191103T070000
END:STANDARD
BEGIN:DAYLIGHT
TZOFFSETFROM:-0600
TZOFFSETTO:-0500
TZNAME:CDT
DTSTART:20200308T080000
END:DAYLIGHT
BEGIN:STANDARD
TZOFFSETFROM:-0500
TZOFFSETTO:-0600
TZNAME:CST
DTSTART:20201101T070000
END:STANDARD
BEGIN:DAYLIGHT
TZOFFSETFROM:-0600
TZOFFSETTO:-0500
TZNAME:CDT
DTSTART:20210314T080000
END:DAYLIGHT
BEGIN:STANDARD
TZOFFSETFROM:-0500
TZOFFSETTO:-0600
TZNAME:CST
DTSTART:20211107T070000
END:STANDARD
BEGIN:DAYLIGHT
TZOFFSETFROM:-0600
TZOFFSETTO:-0500
TZNAME:CDT
DTSTART:20220313T080000
END:DAYLIGHT
BEGIN:STANDARD
TZOFFSETFROM:-0500
TZOFFSETTO:-0600
TZNAME:CST
DTSTART:20221106T070000
END:STANDARD
BEGIN:DAYLIGHT
TZOFFSETFROM:-0600
TZOFFSETTO:-0500
TZNAME:CDT
DTSTART:20230312T080000
END:DAYLIGHT
BEGIN:STANDARD
TZOFFSETFROM:-0500
TZOFFSETTO:-0600
TZNAME:CST
DTSTART:20231105T070000
END:STANDARD
END:VTIMEZONE
BEGIN:VEVENT
DTSTART;TZID=America/Chicago:20210628T080000
DTEND;TZID=America/Chicago:20210628T080000
DTSTAMP:20260424T095314
CREATED:20201203T041204Z
LAST-MODIFIED:20210117T032753Z
UID:8084-1624867200-1624867200@www.golfstlseniors.org
SUMMARY:Metro-Plus   St. Clair Country Club
DESCRIPTION:Metro-Plus Jun 28 St. Clair Country Club 8:00 AM Split Tee $68 Pay In Advance Food – No Lunch.  Snacks\, Sandwiches and Drinks Available for purchase
URL:https://www.golfstlseniors.org/event/metro-plus-st-clair-country-club-2/
LOCATION:St. Clair Country Club\, 100 S 78th St\, Belleville\,\, IL\, 63332\, United States
CATEGORIES:M-P
END:VEVENT
BEGIN:VEVENT
DTSTART;TZID=America/Chicago:20210621T083000
DTEND;TZID=America/Chicago:20210621T083000
DTSTAMP:20260424T095314
CREATED:20201203T041201Z
LAST-MODIFIED:20210101T190058Z
UID:8083-1624264200-1624264200@www.golfstlseniors.org
SUMMARY:Metro-Plus   Franklin County Country Club
DESCRIPTION:Metro-Plus Jun 21 Franklin County Country Club 8:30 AM Split Tee $50  Pay At Course Cash/CC Food – Purchase at Course
URL:https://www.golfstlseniors.org/event/metro-plus-franklin-county-country-club-2/
LOCATION:Franklin County Country Club\, 6413 Country Club Road\, Washington\, MO\, 63090\, United States
CATEGORIES:M-P
END:VEVENT
BEGIN:VEVENT
DTSTART;TZID=America/Chicago:20210524T073000
DTEND;TZID=America/Chicago:20210524T073000
DTSTAMP:20260424T095314
CREATED:20201203T041201Z
LAST-MODIFIED:20210224T021904Z
UID:8082-1621841400-1621841400@www.golfstlseniors.org
SUMMARY:Metro-Plus   Bogey Hills Country Club
DESCRIPTION:Metro-Plus May 24 Bogey Hills Country Club 8:30 AM Split Tee $65  Pay At Course Cash/CC Food – Purchase at Course
URL:https://www.golfstlseniors.org/event/metro-plus-bogey-hills-country-club-2/
LOCATION:Bogey Hills Country Club\, 1120 Country Club Rd\, St\, Charles\, MO\, 63303\, United States
CATEGORIES:M-P
END:VEVENT
BEGIN:VEVENT
DTSTART;TZID=America/Chicago:20210503T073000
DTEND;TZID=America/Chicago:20210503T073000
DTSTAMP:20260424T095314
CREATED:20201203T041201Z
LAST-MODIFIED:20201203T041201Z
UID:8081-1620027000-1620027000@www.golfstlseniors.org
SUMMARY:Metro-Plus   Lake Forest Country Club
DESCRIPTION:Metro-Plus   May 03    Lake Forest Country Club     7:30 AM    Spilt Tee    $50   Pay  At Course Cash Only     Food – Cash Only
URL:https://www.golfstlseniors.org/event/metro-plus-lake-forest-country-club-2/
LOCATION:Lake Forest Country Club\, 300 Yard Drive\, Lake St. Louis\, MO\, 63367\, United States
CATEGORIES:M-P
END:VEVENT
BEGIN:VEVENT
DTSTART;TZID=America/Chicago:20210426T093000
DTEND;TZID=America/Chicago:20210426T093000
DTSTAMP:20260424T095314
CREATED:20201203T041201Z
LAST-MODIFIED:20201203T041201Z
UID:8080-1619429400-1619429400@www.golfstlseniors.org
SUMMARY:Metro-Plus   Glen Echo Country Club
DESCRIPTION:Metro-Plus   Apr 26    Glen Echo Country Club     9:30 AM    Shotgun    $73   Pay  In Advance     Food – Snack bar Open for Cash
URL:https://www.golfstlseniors.org/event/metro-plus-glen-echo-country-club-2/
LOCATION:Glen Echo Country Club\, 3401 Lucas and Hunt Road\,\, St. Louis\, MO\, 63121\, United States
CATEGORIES:M-P
END:VEVENT
BEGIN:VEVENT
DTSTART;TZID=America/Chicago:20210405T083000
DTEND;TZID=America/Chicago:20210405T083000
DTSTAMP:20260424T095314
CREATED:20201203T041200Z
LAST-MODIFIED:20201203T041200Z
UID:8079-1617611400-1617611400@www.golfstlseniors.org
SUMMARY:Metro-Plus   Winghaven Country Club
DESCRIPTION:Metro-Plus   Apr 05    Winghaven Country Club     8:30 AM    Shotgun    $63   Pay  In Advance     Food – Purchase at Course
URL:https://www.golfstlseniors.org/event/metro-plus-winghaven-country-club-2/
LOCATION:Winghaven Country Club\, 7777 WingHaven Boulevard\, O'Fallon\, MO\, 63368\, United States
CATEGORIES:M-P
END:VEVENT
BEGIN:VEVENT
DTSTART;TZID=America/Chicago:20200928T083000
DTEND;TZID=America/Chicago:20200928T083000
DTSTAMP:20260424T095314
CREATED:20191116T035348Z
LAST-MODIFIED:20200922T223506Z
UID:6195-1601281800-1601281800@www.golfstlseniors.org
SUMMARY:Metro-Plus   Bogey Hills Country Club - CANCELED FOR 2020
DESCRIPTION:This event was canceled for 2020. It is already on the schedule for 2021. \n  \nMetro-Plus September 28 Bogey Hills Country Club 8:30 AM Split Tee $65 Pay At Course Cash/CC Food – Purchase at Course
URL:https://www.golfstlseniors.org/event/metro-plus-bogey-hills-country-club/
LOCATION:Bogey Hills Country Club\, 1120 Country Club Rd\, St\, Charles\, MO\, 63303\, United States
CATEGORIES:M-P
END:VEVENT
BEGIN:VEVENT
DTSTART;TZID=America/Chicago:20200921T083000
DTEND;TZID=America/Chicago:20200921T083000
DTSTAMP:20260424T095314
CREATED:20191116T035348Z
LAST-MODIFIED:20191206T205828Z
UID:6194-1600677000-1600677000@www.golfstlseniors.org
SUMMARY:Metro-Plus   Westborough Country Club
DESCRIPTION:Metro-Plus September 21 Westborough Country Club 8:30 AM Split/Pre $78 Pay In Advance Food – No Lunch
URL:https://www.golfstlseniors.org/event/metro-plus-westborough-country-club/
LOCATION:Westborough Country Club\, 631 South Berry Road\, Kirkwood\, MO\, 63122\, United States
CATEGORIES:M-P
END:VEVENT
BEGIN:VEVENT
DTSTART;TZID=America/Chicago:20200908T080000
DTEND;TZID=America/Chicago:20200908T080000
DTSTAMP:20260424T095314
CREATED:20191116T035348Z
LAST-MODIFIED:20191116T035348Z
UID:6193-1599552000-1599552000@www.golfstlseniors.org
SUMMARY:Metro-Plus   Cardinal Creek Golf Club
DESCRIPTION:Metro-Plus   September 8    Cardinal Creek Golf Club    8:00 AM    Split Tee    $49   Pay  At Course Cash/CC     Food – Includes Lunch
URL:https://www.golfstlseniors.org/event/metro-plus-cardinal-creek-golf-club/
LOCATION:Cardinal Creek Golf Club\, 1192 Golf Course Rd\, Scott AFB\, IL\, 62225\, United States
CATEGORIES:M-P
END:VEVENT
BEGIN:VEVENT
DTSTART;TZID=America/Chicago:20200824T083000
DTEND;TZID=America/Chicago:20200824T083000
DTSTAMP:20260424T095314
CREATED:20191116T035348Z
LAST-MODIFIED:20191116T035348Z
UID:6192-1598257800-1598257800@www.golfstlseniors.org
SUMMARY:Metro-Plus   Franklin County Country Club
DESCRIPTION:Metro-Plus   August 24    Franklin County Country Club     8:30 AM    Split Tee    $50   Pay  At Course Cash/CC     Food – Purchase at Course
URL:https://www.golfstlseniors.org/event/metro-plus-franklin-county-country-club/
LOCATION:Franklin County Country Club\, 6413 Country Club Road\, Washington\, MO\, 63090\, United States
CATEGORIES:M-P
END:VEVENT
BEGIN:VEVENT
DTSTART;TZID=America/Chicago:20200810T070000
DTEND;TZID=America/Chicago:20200810T070000
DTSTAMP:20260424T095314
CREATED:20191116T035347Z
LAST-MODIFIED:20191206T205703Z
UID:6191-1597042800-1597042800@www.golfstlseniors.org
SUMMARY:Metro-Plus   Old Hickory Golf Club
DESCRIPTION:Metro-Plus August 10 Old Hickory Golf Club 7:00 AM Shotgun $58 Pay In Advance Food – Purchase at Course
URL:https://www.golfstlseniors.org/event/metro-plus-old-hickory-golf-club/
LOCATION:Old Hickory Golf Club\, 1 Dye Club Drive\, St. Charles\, MO\, 63304\, United States
CATEGORIES:M-P
END:VEVENT
BEGIN:VEVENT
DTSTART;TZID=America/Chicago:20200727T080000
DTEND;TZID=America/Chicago:20200727T080000
DTSTAMP:20260424T095314
CREATED:20191116T035347Z
LAST-MODIFIED:20191206T205551Z
UID:6190-1595836800-1595836800@www.golfstlseniors.org
SUMMARY:Metro-Plus   Persimmon Woods Golf Club
DESCRIPTION:Metro-Plus July 27 Persimmon Woods Golf Club 8:00 AM Shotgun $85 Pay In Advance Food – Purchase at Course
URL:https://www.golfstlseniors.org/event/metro-plus-persimmon-woods-golf-club/
LOCATION:Persimmon Woods Golf Club\, 6401 Weldon Spring Pkwy\, Weldon Springs\, MO\, 63304\, United States
CATEGORIES:M-P
END:VEVENT
BEGIN:VEVENT
DTSTART;TZID=America/Chicago:20200720T083000
DTEND;TZID=America/Chicago:20200720T083000
DTSTAMP:20260424T095314
CREATED:20191116T035346Z
LAST-MODIFIED:20191206T205417Z
UID:6189-1595233800-1595233800@www.golfstlseniors.org
SUMMARY:Metro-Plus   Winghaven Country Club
DESCRIPTION:Metro-Plus July 20 Winghaven Country Club 8:30 AM Shotgun $63 Pay In Advance Food – Purchase at Course
URL:https://www.golfstlseniors.org/event/metro-plus-winghaven-country-club/
LOCATION:Winghaven Country Club\, 7777 WingHaven Boulevard\, O'Fallon\, MO\, 63368\, United States
CATEGORIES:M-P
END:VEVENT
BEGIN:VEVENT
DTSTART;TZID=America/Chicago:20200706T080000
DTEND;TZID=America/Chicago:20200706T080000
DTSTAMP:20260424T095314
CREATED:20191116T035346Z
LAST-MODIFIED:20191116T035346Z
UID:6188-1594022400-1594022400@www.golfstlseniors.org
SUMMARY:Metro-Plus   The Legends Country Club
DESCRIPTION:Metro-Plus   July 6    The Legends Country Club     8:00 AM    Split Tee    $60   Pay  At Course Cash/CC     Food – Purchase at Course
URL:https://www.golfstlseniors.org/event/metro-plus-the-legends-country-club/
LOCATION:The Legends Country Club\, 625 The Legends Pkwy\, Eureka\, MO\, 63025\, United States
CATEGORIES:M-P
END:VEVENT
BEGIN:VEVENT
DTSTART;TZID=America/Chicago:20200629T080000
DTEND;TZID=America/Chicago:20200629T080000
DTSTAMP:20260424T095314
CREATED:20191116T035346Z
LAST-MODIFIED:20191206T205238Z
UID:6187-1593417600-1593417600@www.golfstlseniors.org
SUMMARY:Metro-Plus   St. Clair Country Club
DESCRIPTION:Metro-Plus June 29 St. Clair Country Club 8:00 AM Split/Pre $68 Pay In Advance Food – No Lunch
URL:https://www.golfstlseniors.org/event/metro-plus-st-clair-country-club/
LOCATION:St. Clair Country Club\, 100 S 78th St\, Belleville\,\, IL\, 63332\, United States
CATEGORIES:M-P
END:VEVENT
BEGIN:VEVENT
DTSTART;TZID=America/Chicago:20200608T073000
DTEND;TZID=America/Chicago:20200608T170000
DTSTAMP:20260424T095314
CREATED:20191116T035344Z
LAST-MODIFIED:20200512T003255Z
UID:6186-1591601400-1591635600@www.golfstlseniors.org
SUMMARY:Metro-Plus   Glen Echo Club  RESCHEDULED
DESCRIPTION:Metro-Plus June 8 Glen Echo Country Club 7:30AM (and 12:15p) Split Tee Start #1 and #10 – Morning Group 7:30A First Tee Group 66 players\, 1 per cart.  Afternoon group 12:15P First Tee Group\, 54 players\, 1 per cart. PrePaid Reservation $65
URL:https://www.golfstlseniors.org/event/metro-plus-rolling-hills-golf-club/
LOCATION:Glen Echo Country Club\, 3401 Lucas and Hunt Road\,\, St. Louis\, MO\, 63121\, United States
CATEGORIES:M-P
END:VEVENT
BEGIN:VEVENT
DTSTART;TZID=America/Chicago:20260424T095314
DTEND;TZID=America/Chicago:20220309T180000
DTSTAMP:20260424T095314
CREATED:20220309T143305Z
LAST-MODIFIED:20220309T143305Z
UID:10039-0-1646848800@www.golfstlseniors.org
SUMMARY:Metro-Plus St. Clair Country Club
DESCRIPTION:Metro-Plus – Split Tee Start  Morning & Afternoon Sessions
URL:https://www.golfstlseniors.org/event/metro-plus-st-clair-country-club-3/
LOCATION:St. Clair Country Club\, 100 S 78th St\, Belleville\,\, IL\, 63332\, United States
CATEGORIES:M-P
END:VEVENT
END:VCALENDAR