BEGIN:VCALENDAR
VERSION:2.0
PRODID:-//Metro St. Louis Seniors Golf - ECPv6.15.20//NONSGML v1.0//EN
CALSCALE:GREGORIAN
METHOD:PUBLISH
X-ORIGINAL-URL:https://www.golfstlseniors.org
X-WR-CALDESC:Events for Metro St. Louis Seniors Golf
REFRESH-INTERVAL;VALUE=DURATION:PT1H
X-Robots-Tag:noindex
X-PUBLISHED-TTL:PT1H
BEGIN:VTIMEZONE
TZID:America/Chicago
BEGIN:DAYLIGHT
TZOFFSETFROM:-0600
TZOFFSETTO:-0500
TZNAME:CDT
DTSTART:20190310T080000
END:DAYLIGHT
BEGIN:STANDARD
TZOFFSETFROM:-0500
TZOFFSETTO:-0600
TZNAME:CST
DTSTART:20191103T070000
END:STANDARD
BEGIN:DAYLIGHT
TZOFFSETFROM:-0600
TZOFFSETTO:-0500
TZNAME:CDT
DTSTART:20200308T080000
END:DAYLIGHT
BEGIN:STANDARD
TZOFFSETFROM:-0500
TZOFFSETTO:-0600
TZNAME:CST
DTSTART:20201101T070000
END:STANDARD
BEGIN:DAYLIGHT
TZOFFSETFROM:-0600
TZOFFSETTO:-0500
TZNAME:CDT
DTSTART:20210314T080000
END:DAYLIGHT
BEGIN:STANDARD
TZOFFSETFROM:-0500
TZOFFSETTO:-0600
TZNAME:CST
DTSTART:20211107T070000
END:STANDARD
BEGIN:DAYLIGHT
TZOFFSETFROM:-0600
TZOFFSETTO:-0500
TZNAME:CDT
DTSTART:20220313T080000
END:DAYLIGHT
BEGIN:STANDARD
TZOFFSETFROM:-0500
TZOFFSETTO:-0600
TZNAME:CST
DTSTART:20221106T070000
END:STANDARD
END:VTIMEZONE
BEGIN:VEVENT
DTSTART;TZID=America/Chicago:20210615T063000
DTEND;TZID=America/Chicago:20210615T143000
DTSTAMP:20260424T102455
CREATED:20201112T224050Z
LAST-MODIFIED:20201222T174755Z
UID:7974-1623738600-1623767400@www.golfstlseniors.org
SUMMARY:Special Event - Pick Your Partner - Missouri Bluffs GC
DESCRIPTION:15 June 2021\, 6:30 AM – 2:30 PM\, 2-Person Scramble\, 4 flights\, Net Score\, Arrive 6:30 – 7:00 am for registration\, 7:30 AM Shotgun start\, Lunch Provided.
URL:https://www.golfstlseniors.org/event/special-event-pick-your-partner-missouri-bluffs-gc/
LOCATION:Missouri Bluffs Golf Club\, 18 Research Park Cir\, St. Charles\, MO\, 63304\, United States
CATEGORIES:Special Event Tournaments
ORGANIZER;CN="Terry Heathman":MAILTO:hannah2076@aol.com
END:VEVENT
BEGIN:VEVENT
DTSTART;TZID=America/Chicago:20210517T063000
DTEND;TZID=America/Chicago:20210517T143000
DTSTAMP:20260424T102455
CREATED:20201112T224126Z
LAST-MODIFIED:20201222T174833Z
UID:7971-1621233000-1621261800@www.golfstlseniors.org
SUMMARY:Special Event - Ryder Cup - Gateway National GL
DESCRIPTION:17 May 2021\, 6:30 AM – 2:30 PM\, 2-Person Ryder Cup\, 4 flights\, Net Scores\, Arrive 6:30 – 7:00 AM for registration\, 7:30 AM Shotgun start\, Lunch Provided.
URL:https://www.golfstlseniors.org/event/special-event-ryder-cup-gateway-national-gl/
LOCATION:Gateway National Golf Links\, 18 Golf Dr\, Madison\, IL\, 62060\, United States
CATEGORIES:Special Event Tournaments
ORGANIZER;CN="Scott Bahno":MAILTO:bahnogolf@att.net
END:VEVENT
BEGIN:VEVENT
DTSTART;TZID=America/Chicago:20210419T063000
DTEND;TZID=America/Chicago:20210419T143000
DTSTAMP:20260424T102455
CREATED:20201112T224201Z
LAST-MODIFIED:20201222T174924Z
UID:7968-1618813800-1618842600@www.golfstlseniors.org
SUMMARY:Special Event - Find Your Swing - Sunset Hills CC
DESCRIPTION:19 April 2021\, 6:30 AM – 2:30 PM\, 2-Person Scramble\, 4 flights\, Net Scores\, Arrive 6:30 – 7:30 AM for registration\, 8:00 AM Shotgun start\, Lunch Provided
URL:https://www.golfstlseniors.org/event/special-event-find-your-swing-sunset-hills-cc/
LOCATION:Sunset Hills Country Club\, 2525 S State Rte 157\, Edwardsville\, IL\, 62025\, United States
CATEGORIES:Special Event Tournaments
END:VEVENT
BEGIN:VEVENT
DTSTART;TZID=America/Chicago:20200914T063000
DTEND;TZID=America/Chicago:20200914T143000
DTSTAMP:20260424T102455
CREATED:20191001T203813Z
LAST-MODIFIED:20191001T203813Z
UID:5758-1600065000-1600093800@www.golfstlseniors.org
SUMMARY:SpecEvt - Last Chance - Sunset Hills CC Illinois
DESCRIPTION:2-Man Best Ball\, 4 Flights\, Net Scores \nArrive 6:30 – 7:30 AM for registration \n8:00 AM Shotgun Start \nLunch Provided
URL:https://www.golfstlseniors.org/event/specevt-last-chance-sunset-hills-cc-illinois/
LOCATION:Sunset Hills Country Club\, 2525 S State Rte 157\, Edwardsville\, IL\, 62025\, United States
CATEGORIES:Special Event Tournaments
ORGANIZER;CN="Frank McLaughlin":MAILTO:fmmcl@hotmail.com
END:VEVENT
BEGIN:VEVENT
DTSTART;TZID=America/Chicago:20200818T063000
DTEND;TZID=America/Chicago:20200818T140000
DTSTAMP:20260424T102455
CREATED:20191001T203441Z
LAST-MODIFIED:20200120T154916Z
UID:5756-1597732200-1597759200@www.golfstlseniors.org
SUMMARY:SpecEvt - Lou Luketetich Founders' Day - Whitmoor CC
DESCRIPTION:4-Man Shamble\, 4 Flights\, Net Scores \nArrive 6:30 – 7:00 AM for registration \n7:30 AM Shotgun Start \nLunch included
URL:https://www.golfstlseniors.org/event/specevt-founders-day-whitmoor-cc/
LOCATION:Whitmoor Country Club\, 1100 Whitmoor Dr\, Weldon Spring\, MO\, 63304\, United States
CATEGORIES:Special Event Tournaments
ORGANIZER;CN="Bill Molz":MAILTO:wfmolz@yahoo.com
END:VEVENT
BEGIN:VEVENT
DTSTART;TZID=America/Chicago:20200714T063000
DTEND;TZID=America/Chicago:20200714T140000
DTSTAMP:20260424T102455
CREATED:20191001T203106Z
LAST-MODIFIED:20200611T192012Z
UID:5754-1594708200-1594735200@www.golfstlseniors.org
SUMMARY:SpecEvt - Pick Your Partner - Missouri Bluffs GC
DESCRIPTION:2-Man Scramble\, 4 Flights\, Net Scores \nArrive 6:30 – 7:00 AM for registration \n7:30 AM Shotgun Start \nLunch included
URL:https://www.golfstlseniors.org/event/specevt-pick-your-partner-missouri-bluffs-gc/
LOCATION:Missouri Bluffs Golf Club\, 18 Research Park Cir\, St. Charles\, MO\, 63304\, United States
CATEGORIES:Special Event Tournaments
ORGANIZER;CN="Terry Heathman":MAILTO:hannah2076@aol.com
END:VEVENT
BEGIN:VEVENT
DTSTART;TZID=America/Chicago:20200616T063000
DTEND;TZID=America/Chicago:20200616T140000
DTSTAMP:20260424T102455
CREATED:20191001T202523Z
LAST-MODIFIED:20200511T221835Z
UID:5752-1592289000-1592316000@www.golfstlseniors.org
SUMMARY:SpecEvt - Best Ball - Cancelled
DESCRIPTION:4-Man Best Ball \nCancelled \n 
URL:https://www.golfstlseniors.org/event/specevt-best-ball-cardinal-creek-gc/
LOCATION:Cardinal Creek Golf Club\, 1192 Golf Course Rd\, Scott AFB\, IL\, 62225\, United States
CATEGORIES:Special Event Tournaments
ORGANIZER;CN="Joe Lerch":MAILTO:jlwc@sbcglobal.net
END:VEVENT
END:VCALENDAR