BEGIN:VCALENDAR
VERSION:2.0
PRODID:-//Metro St. Louis Seniors Golf - ECPv6.15.20//NONSGML v1.0//EN
CALSCALE:GREGORIAN
METHOD:PUBLISH
X-WR-CALNAME:Metro St. Louis Seniors Golf
X-ORIGINAL-URL:https://www.golfstlseniors.org
X-WR-CALDESC:Events for Metro St. Louis Seniors Golf
REFRESH-INTERVAL;VALUE=DURATION:PT1H
X-Robots-Tag:noindex
X-PUBLISHED-TTL:PT1H
BEGIN:VTIMEZONE
TZID:America/Chicago
BEGIN:DAYLIGHT
TZOFFSETFROM:-0600
TZOFFSETTO:-0500
TZNAME:CDT
DTSTART:20220313T080000
END:DAYLIGHT
BEGIN:STANDARD
TZOFFSETFROM:-0500
TZOFFSETTO:-0600
TZNAME:CST
DTSTART:20221106T070000
END:STANDARD
BEGIN:DAYLIGHT
TZOFFSETFROM:-0600
TZOFFSETTO:-0500
TZNAME:CDT
DTSTART:20230312T080000
END:DAYLIGHT
BEGIN:STANDARD
TZOFFSETFROM:-0500
TZOFFSETTO:-0600
TZNAME:CST
DTSTART:20231105T070000
END:STANDARD
BEGIN:DAYLIGHT
TZOFFSETFROM:-0600
TZOFFSETTO:-0500
TZNAME:CDT
DTSTART:20240310T080000
END:DAYLIGHT
BEGIN:STANDARD
TZOFFSETFROM:-0500
TZOFFSETTO:-0600
TZNAME:CST
DTSTART:20241103T070000
END:STANDARD
END:VTIMEZONE
BEGIN:VEVENT
DTSTART;TZID=America/Chicago:20231106T120000
DTEND;TZID=America/Chicago:20231106T130000
DTSTAMP:20260425T080739
CREATED:20230917T191217Z
LAST-MODIFIED:20230917T191347Z
UID:12369-1699272000-1699275600@www.golfstlseniors.org
SUMMARY:Membership Meeting
DESCRIPTION:Membership Meeting
URL:https://www.golfstlseniors.org/event/membership-meeting/
LOCATION:Kirkwoood Community Center\, 111 S Geyer Road\, Kirkwood\, MO\, 63122\, United States
CATEGORIES:General Membership Meetings
END:VEVENT
BEGIN:VEVENT
DTSTART;TZID=America/Chicago:20231106T100000
DTEND;TZID=America/Chicago:20231106T120000
DTSTAMP:20260425T080739
CREATED:20230917T190324Z
LAST-MODIFIED:20230917T190727Z
UID:12364-1699264800-1699272000@www.golfstlseniors.org
SUMMARY:Board Meeting 11/6 /23
DESCRIPTION:Board Meeting
URL:https://www.golfstlseniors.org/event/board-meeting-11-6-23/
LOCATION:Kirkwoood Community Center\, 111 S Geyer Road\, Kirkwood\, MO\, 63122\, United States
CATEGORIES:Board Meetings
END:VEVENT
BEGIN:VEVENT
DTSTART;TZID=America/Chicago:20231006T073000
DTEND;TZID=America/Chicago:20231006T073000
DTSTAMP:20260425T080739
CREATED:20230308T182608Z
LAST-MODIFIED:20230308T184629Z
UID:11475-1696577400-1696577400@www.golfstlseniors.org
SUMMARY:D2 Wk 26 TAMARACK
DESCRIPTION:Div 2 Wk 26    Split Tee #1 and #61    TAMARACK  $38
URL:https://www.golfstlseniors.org/event/d2-wk-26-tamarack/
LOCATION:Tamarack Golf Course\, 362 Tamarack Ln\, Shiloh\, IL\, 62269\, United States
CATEGORIES:Div2
END:VEVENT
BEGIN:VEVENT
DTSTART;TZID=America/Chicago:20231005T080000
DTEND;TZID=America/Chicago:20231005T080000
DTSTAMP:20260425T080739
CREATED:20230308T182953Z
LAST-MODIFIED:20230308T185014Z
UID:11553-1696492800-1696492800@www.golfstlseniors.org
SUMMARY:D5 Wk 26 COLUMBIA   (Shotgun Start)
DESCRIPTION:Div 5 Wk 26    Shotgun    COLUMBIA   (Shotgun Start)  $31
URL:https://www.golfstlseniors.org/event/d5-wk-26-columbia-shotgun-start/
LOCATION:Columbia Golf Club\, 125 2770 N\, Columbia\, IL\, 62236\, United States
CATEGORIES:Div5
END:VEVENT
BEGIN:VEVENT
DTSTART;TZID=America/Chicago:20231005T073000
DTEND;TZID=America/Chicago:20231005T073000
DTSTAMP:20260425T080739
CREATED:20230308T182838Z
LAST-MODIFIED:20230320T191357Z
UID:11527-1696491000-1696491000@www.golfstlseniors.org
SUMMARY:D4 Wk 26 LINKS @ DARDENNE (Shotgun Start)
DESCRIPTION:Div 4 Wk 26    Shotgun    LINKS @ DARDENNE (Shotgun Start)  $37
URL:https://www.golfstlseniors.org/event/d4-wk-26-links-dardenne-shotgun-start/
LOCATION:Links of Dardenne\, 7000 Brassel Dr\, O'Fallon\, MO\, 63368\, United States
CATEGORIES:Div4
ORGANIZER;CN="George Arft":MAILTO:slaglesports@att.net
END:VEVENT
BEGIN:VEVENT
DTSTART;TZID=America/Chicago:20231005T073000
DTEND;TZID=America/Chicago:20231005T073000
DTSTAMP:20260425T080739
CREATED:20230308T182723Z
LAST-MODIFIED:20230308T184744Z
UID:11501-1696491000-1696491000@www.golfstlseniors.org
SUMMARY:D3 Wk 26 WOODLANDS
DESCRIPTION:Div 3 Wk 26    Split Tee #1 and #87    WOODLANDS  $27
URL:https://www.golfstlseniors.org/event/d3-wk-26-woodlands-3/
LOCATION:Woodlands Golf Club\, 2839 Harris Ln\, Alton\, IL\, 62002\, United States
CATEGORIES:Div3
END:VEVENT
BEGIN:VEVENT
DTSTART;TZID=America/Chicago:20231002T100000
DTEND;TZID=America/Chicago:20231002T100000
DTSTAMP:20260425T080739
CREATED:20230308T195317Z
LAST-MODIFIED:20230308T195317Z
UID:11821-1696240800-1696240800@www.golfstlseniors.org
SUMMARY:MP  #12  Sunset Hills
DESCRIPTION:MP  #12  Sunset Hills  $78
URL:https://www.golfstlseniors.org/event/mp-12-sunset-hills/
LOCATION:Sunset Hills CC\, 2525 S State Rte 157\, Edwardsville\, Illinois\, 62025\, United States
CATEGORIES:MP
END:VEVENT
BEGIN:VEVENT
DTSTART;TZID=America/Chicago:20230929T073000
DTEND;TZID=America/Chicago:20230929T073000
DTSTAMP:20260425T080739
CREATED:20230308T182608Z
LAST-MODIFIED:20230308T184629Z
UID:11474-1695972600-1695972600@www.golfstlseniors.org
SUMMARY:D2 Wk 25 WOODLANDS
DESCRIPTION:Div 2 Wk 25    Split Tee #1 and #60    WOODLANDS  $27
URL:https://www.golfstlseniors.org/event/d2-wk-25-woodlands/
LOCATION:Woodlands Golf Club\, 2839 Harris Ln\, Alton\, IL\, 62002\, United States
CATEGORIES:Div2
END:VEVENT
BEGIN:VEVENT
DTSTART;TZID=America/Chicago:20230928T073000
DTEND;TZID=America/Chicago:20230928T073000
DTSTAMP:20260425T080739
CREATED:20230308T182953Z
LAST-MODIFIED:20230308T185014Z
UID:11552-1695886200-1695886200@www.golfstlseniors.org
SUMMARY:D5 Wk 25 MYSTIC OAKS
DESCRIPTION:Div 5 Wk 25    Split Tee #1 and #138    MYSTIC OAKS  $28
URL:https://www.golfstlseniors.org/event/d5-wk-25-mystic-oaks-2/
LOCATION:Mystic Oaks Golf Course\, 643 Ridge Rd\, Waterloo\, IL\, 62298\, United States
CATEGORIES:Div5
END:VEVENT
BEGIN:VEVENT
DTSTART;TZID=America/Chicago:20230928T073000
DTEND;TZID=America/Chicago:20230928T073000
DTSTAMP:20260425T080739
CREATED:20230308T182838Z
LAST-MODIFIED:20230320T191200Z
UID:11526-1695886200-1695886200@www.golfstlseniors.org
SUMMARY:D4 Wk 25 WENTZVILLE
DESCRIPTION:Div 4 Wk 25 Split Tee #1 and #10 WENTZVILLE $39
URL:https://www.golfstlseniors.org/event/d4-wk-25-wentzville-3/
LOCATION:Golf Club of Wentzville\, 9 Pro Shop Dr\, Wentzville\, MO\, 63385\, United States
CATEGORIES:Div4
ORGANIZER;CN="George Arft":MAILTO:slaglesports@att.net
END:VEVENT
BEGIN:VEVENT
DTSTART;TZID=America/Chicago:20230928T070000
DTEND;TZID=America/Chicago:20230928T070000
DTSTAMP:20260425T080739
CREATED:20230308T182723Z
LAST-MODIFIED:20230308T184744Z
UID:11500-1695884400-1695884400@www.golfstlseniors.org
SUMMARY:D3 Wk 25 EAGLE SPRINGS
DESCRIPTION:Div 3 Wk 25    Split Tee #1 and #86    EAGLE SPRINGS  $27
URL:https://www.golfstlseniors.org/event/d3-wk-25-eagle-springs-3/
LOCATION:Eagle Springs Golf Course\, 2575 Redman Rd\, St. Louis\, MO\, 63136\, United States
CATEGORIES:Div3
END:VEVENT
BEGIN:VEVENT
DTSTART;TZID=America/Chicago:20230922T073000
DTEND;TZID=America/Chicago:20230922T073000
DTSTAMP:20260425T080739
CREATED:20230308T182553Z
LAST-MODIFIED:20230308T184614Z
UID:11473-1695367800-1695367800@www.golfstlseniors.org
SUMMARY:D2 Wk 24 SUGAR CREEK
DESCRIPTION:Div 2 Wk 24    Split Tee #1 and #59    SUGAR CREEK  $26
URL:https://www.golfstlseniors.org/event/d2-wk-24-sugar-creek/
LOCATION:Sugar Creek Golf Course\, 4701 College Ave\, Alton\, IL\, 62002\, United States
CATEGORIES:Div2
END:VEVENT
BEGIN:VEVENT
DTSTART;TZID=America/Chicago:20230921T073000
DTEND;TZID=America/Chicago:20230921T073000
DTSTAMP:20260425T080739
CREATED:20230308T182953Z
LAST-MODIFIED:20230308T185014Z
UID:11551-1695281400-1695281400@www.golfstlseniors.org
SUMMARY:D5 Wk 24 INNSBROOK
DESCRIPTION:Div 5 Wk 24    Split Tee #1 and #137    INNSBROOK  $39
URL:https://www.golfstlseniors.org/event/d5-wk-24-innsbrook-2/
LOCATION:Innsbrook Golf Course\, 1 Aspen Way Dr\, Innsbrook\, MO\, 63390\, United States
CATEGORIES:Div5
END:VEVENT
BEGIN:VEVENT
DTSTART;TZID=America/Chicago:20230921T073000
DTEND;TZID=America/Chicago:20230921T073000
DTSTAMP:20260425T080739
CREATED:20230308T182723Z
LAST-MODIFIED:20230308T184744Z
UID:11499-1695281400-1695281400@www.golfstlseniors.org
SUMMARY:D3 Wk 24 SPENCER T OLIN #1
DESCRIPTION:Div 3 Wk 24    Split Tee #1 and #85    SPENCER T OLIN #1  $35.95
URL:https://www.golfstlseniors.org/event/d3-wk-24-spencer-t-olin-1/
LOCATION:Spencer T Olin Golf Course\, 4701 College Ave\, Alton\, IL\, 62002\, United States
CATEGORIES:Div3
END:VEVENT
BEGIN:VEVENT
DTSTART;TZID=America/Chicago:20230921T070000
DTEND;TZID=America/Chicago:20230921T070000
DTSTAMP:20260425T080739
CREATED:20230308T182838Z
LAST-MODIFIED:20230320T191514Z
UID:11525-1695279600-1695279600@www.golfstlseniors.org
SUMMARY:D4 Wk 24 FAR OAKS
DESCRIPTION:Div 4 Wk 24 Split Tee #1 and #10 FAR OAKS $38
URL:https://www.golfstlseniors.org/event/d4-wk-24-far-oaks-2/
LOCATION:Far Oaks Golf Club\, 419 Old Collinsville Rd\, Caseyville\, IL\, 62232\, United States
CATEGORIES:Div4
ORGANIZER;CN="George Arft":MAILTO:slaglesports@att.net
END:VEVENT
BEGIN:VEVENT
DTSTART;TZID=America/Chicago:20230918T073000
DTEND;TZID=America/Chicago:20230918T140000
DTSTAMP:20260425T080739
CREATED:20230309T221949Z
LAST-MODIFIED:20230309T222439Z
UID:11851-1695022200-1695045600@www.golfstlseniors.org
SUMMARY:MSLSGA Championship Tournament
DESCRIPTION:Year ending MSLSGA Championship Tournament.  Free to all qualifiers.
URL:https://www.golfstlseniors.org/event/mslsga-championship-tournament/
LOCATION:Crystal Highlands Golf Course\, 3030 US-61\, Festus\, MO\, 63028\, United States
END:VEVENT
BEGIN:VEVENT
DTSTART;TZID=America/Chicago:20230915T073000
DTEND;TZID=America/Chicago:20230915T073000
DTSTAMP:20260425T080739
CREATED:20230308T182553Z
LAST-MODIFIED:20230308T184614Z
UID:11472-1694763000-1694763000@www.golfstlseniors.org
SUMMARY:D2 Wk 23 LOCKHAVEN
DESCRIPTION:Div 2 Wk 23    Split Tee #1 and #58    LOCKHAVEN  $27
URL:https://www.golfstlseniors.org/event/d2-wk-23-lockhaven-3/
LOCATION:Lockhaven Golf Club\, 10872 Lawrence Keler Dr\, Godfrey\, IL\, 62035\, United States
CATEGORIES:Div2
END:VEVENT
BEGIN:VEVENT
DTSTART;TZID=America/Chicago:20230914T073000
DTEND;TZID=America/Chicago:20230914T073000
DTSTAMP:20260425T080739
CREATED:20230308T182838Z
LAST-MODIFIED:20230320T191857Z
UID:11524-1694676600-1694676600@www.golfstlseniors.org
SUMMARY:D4 Wk 23 COLUMBIA BRIDGES
DESCRIPTION:Div 4 Wk 23 Split Tee #1 and #10 COLUMBIA BRIDGES $31
URL:https://www.golfstlseniors.org/event/d4-wk-23-columbia-bridges-2/
LOCATION:Columbia Bridges Golf Club\, 1655 Columbia Bridges Rd\, Columbia\, IL\, 62236\, United States
CATEGORIES:Div4
ORGANIZER;CN="George Arft":MAILTO:slaglesports@att.net
END:VEVENT
BEGIN:VEVENT
DTSTART;TZID=America/Chicago:20230914T070000
DTEND;TZID=America/Chicago:20230914T070000
DTSTAMP:20260425T080739
CREATED:20230308T182953Z
LAST-MODIFIED:20230308T185014Z
UID:11550-1694674800-1694674800@www.golfstlseniors.org
SUMMARY:D5 Wk 23 QUAIL CREEK
DESCRIPTION:Div 5 Wk 23    Split Tee #1 and #136    QUAIL CREEK  $30
URL:https://www.golfstlseniors.org/event/d5-wk-23-quail-creek/
LOCATION:Quail Creek GC\, 6022 Wells Rd\, St. Louis\, MO\, 63128\, United States
CATEGORIES:Div5
END:VEVENT
BEGIN:VEVENT
DTSTART;TZID=America/Chicago:20230914T070000
DTEND;TZID=America/Chicago:20230914T070000
DTSTAMP:20260425T080739
CREATED:20230308T182708Z
LAST-MODIFIED:20230308T184729Z
UID:11498-1694674800-1694674800@www.golfstlseniors.org
SUMMARY:D3 Wk 23 ABERDEEN
DESCRIPTION:Div 3 Wk 23    Split Tee #1 and #84    ABERDEEN  $38
URL:https://www.golfstlseniors.org/event/d3-wk-23-aberdeen-3/
LOCATION:Aberdeen Golf Club\, 4111 Crescent Rd\, Eureka\, MO\, 63025\, United States
CATEGORIES:Div3
END:VEVENT
BEGIN:VEVENT
DTSTART;TZID=America/Chicago:20230911T090000
DTEND;TZID=America/Chicago:20230911T150000
DTSTAMP:20260425T080739
CREATED:20230124T190843Z
LAST-MODIFIED:20230127T183411Z
UID:11178-1694422800-1694444400@www.golfstlseniors.org
SUMMARY:Last Chance Special Event
DESCRIPTION:4-Person Shamble  Cardinal Creek GC\, Scott AFB\, IL
URL:https://www.golfstlseniors.org/event/last-chance-special-event/
LOCATION:MO
CATEGORIES:Special Event Tournaments
ORGANIZER;CN="Joe Lerch":MAILTO:jlwc@sbcglobal.net
END:VEVENT
BEGIN:VEVENT
DTSTART;TZID=America/Chicago:20230908T070000
DTEND;TZID=America/Chicago:20230908T070000
DTSTAMP:20260425T080739
CREATED:20230308T182553Z
LAST-MODIFIED:20230308T184614Z
UID:11471-1694156400-1694156400@www.golfstlseniors.org
SUMMARY:D2 Wk 22 THE ORCHARDS
DESCRIPTION:Div 2 Wk 22    Split Tee #1 and #57    THE ORCHARDS  $44
URL:https://www.golfstlseniors.org/event/d2-wk-22-the-orchards/
LOCATION:The Orchards GC\, 1490 Golf Course Dr\, Belleville\, IL\, 62220\, United States
CATEGORIES:Div2
END:VEVENT
BEGIN:VEVENT
DTSTART;TZID=America/Chicago:20230907T073000
DTEND;TZID=America/Chicago:20230907T073000
DTSTAMP:20260425T080739
CREATED:20230308T182953Z
LAST-MODIFIED:20230308T185014Z
UID:11549-1694071800-1694071800@www.golfstlseniors.org
SUMMARY:D5 Wk 22 WOODS FORT
DESCRIPTION:Div 5 Wk 22    Split Tee #1 and #135    WOODS FORT  $34
URL:https://www.golfstlseniors.org/event/d5-wk-22-woods-fort-2/
LOCATION:Woods Fort Golf Course\, 1 Country Club Dr\, Troy\, MO\, 63379\, United States
CATEGORIES:Div5
END:VEVENT
BEGIN:VEVENT
DTSTART;TZID=America/Chicago:20230907T070000
DTEND;TZID=America/Chicago:20230907T070000
DTSTAMP:20260425T080739
CREATED:20230308T182823Z
LAST-MODIFIED:20230320T192010Z
UID:11523-1694070000-1694070000@www.golfstlseniors.org
SUMMARY:D4 Wk 22 QUAIL CREEK
DESCRIPTION:Div 4 Wk 22 Split Tee #1 and #10 QUAIL CREEK $30
URL:https://www.golfstlseniors.org/event/d4-wk-22-quail-creek/
LOCATION:Quail Creek GC\, 6022 Wells Rd\, St. Louis\, MO\, 63128\, United States
CATEGORIES:Div4
ORGANIZER;CN="George Arft":MAILTO:slaglesports@att.net
END:VEVENT
BEGIN:VEVENT
DTSTART;TZID=America/Chicago:20230907T070000
DTEND;TZID=America/Chicago:20230907T070000
DTSTAMP:20260425T080739
CREATED:20230308T182708Z
LAST-MODIFIED:20230308T184729Z
UID:11497-1694070000-1694070000@www.golfstlseniors.org
SUMMARY:D3 Wk 22 COLUMBIA   (Shotgun Start)
DESCRIPTION:Div 3 Wk 22    Shotgun    COLUMBIA   (Shotgun Start)  $31
URL:https://www.golfstlseniors.org/event/d3-wk-22-columbia-shotgun-start/
LOCATION:Columbia Golf Club\, 125 2770 N\, Columbia\, IL\, 62236\, United States
CATEGORIES:Div3
END:VEVENT
BEGIN:VEVENT
DTSTART;TZID=America/Chicago:20230905T090000
DTEND;TZID=America/Chicago:20230905T090000
DTSTAMP:20260425T080739
CREATED:20230308T195317Z
LAST-MODIFIED:20230308T195317Z
UID:11820-1693904400-1693904400@www.golfstlseniors.org
SUMMARY:MP  #11  Glen Echo (Tues)
DESCRIPTION:MP  #11  Glen Echo (Tues)  $85
URL:https://www.golfstlseniors.org/event/mp-11-glen-echo-tues/
LOCATION:Glen Echo Country Club\, 3401 Lucas and Hunt Road\,\, St. Louis\, MO\, 63121\, United States
CATEGORIES:MP
END:VEVENT
BEGIN:VEVENT
DTSTART;TZID=America/Chicago:20230901T070000
DTEND;TZID=America/Chicago:20230901T070000
DTSTAMP:20260425T080739
CREATED:20230308T182553Z
LAST-MODIFIED:20230308T184614Z
UID:11470-1693551600-1693551600@www.golfstlseniors.org
SUMMARY:D2 Wk 21 WOLF HOLLOW
DESCRIPTION:Div 2 Wk 21    Split Tee #1 and #56    WOLF HOLLOW  $38
URL:https://www.golfstlseniors.org/event/d2-wk-21-wolf-hollow-3/
LOCATION:Wolf Hollow Golf Club\, 4504 MO-100\, Labadie\, MO\, 63055\, United States
CATEGORIES:Div2
END:VEVENT
BEGIN:VEVENT
DTSTART;TZID=America/Chicago:20230831T070000
DTEND;TZID=America/Chicago:20230831T070000
DTSTAMP:20260425T080739
CREATED:20230308T182939Z
LAST-MODIFIED:20230308T184959Z
UID:11548-1693465200-1693465200@www.golfstlseniors.org
SUMMARY:D5 Wk 21 LOCKHAVEN
DESCRIPTION:Div 5 Wk 21    Split Tee #1 and #134    LOCKHAVEN  $27
URL:https://www.golfstlseniors.org/event/d5-wk-21-lockhaven/
LOCATION:Lockhaven Golf Club\, 10872 Lawrence Keler Dr\, Godfrey\, IL\, 62035\, United States
CATEGORIES:Div5
END:VEVENT
BEGIN:VEVENT
DTSTART;TZID=America/Chicago:20230831T070000
DTEND;TZID=America/Chicago:20230831T070000
DTSTAMP:20260425T080739
CREATED:20230308T182823Z
LAST-MODIFIED:20230320T192112Z
UID:11522-1693465200-1693465200@www.golfstlseniors.org
SUMMARY:D4 Wk 21 INNSBROOK
DESCRIPTION:Div 4 Wk 21 Split Tee #1 and #10 INNSBROOK $39
URL:https://www.golfstlseniors.org/event/d4-wk-21-innsbrook-3/
LOCATION:Innsbrook Golf Course\, 1 Aspen Way Dr\, Innsbrook\, MO\, 63390\, United States
CATEGORIES:Div4
ORGANIZER;CN="George Arft":MAILTO:slaglesports@att.net
END:VEVENT
BEGIN:VEVENT
DTSTART;TZID=America/Chicago:20230831T070000
DTEND;TZID=America/Chicago:20230831T070000
DTSTAMP:20260425T080739
CREATED:20230308T182708Z
LAST-MODIFIED:20230308T184729Z
UID:11496-1693465200-1693465200@www.golfstlseniors.org
SUMMARY:D3 Wk 21 OAK VALLEY
DESCRIPTION:Div 3 Wk 21    Split Tee #1 and #82    OAK VALLEY  $29
URL:https://www.golfstlseniors.org/event/d3-wk-21-oak-valley-3/
LOCATION:Oak Valley Golf Course\, 1230 Abbey Ln\, Pevely\, MO\, 63070\, United States
CATEGORIES:Div3
END:VEVENT
END:VCALENDAR