BEGIN:VCALENDAR
VERSION:2.0
PRODID:-//Metro St. Louis Seniors Golf - ECPv6.15.20//NONSGML v1.0//EN
CALSCALE:GREGORIAN
METHOD:PUBLISH
X-WR-CALNAME:Metro St. Louis Seniors Golf
X-ORIGINAL-URL:https://www.golfstlseniors.org
X-WR-CALDESC:Events for Metro St. Louis Seniors Golf
REFRESH-INTERVAL;VALUE=DURATION:PT1H
X-Robots-Tag:noindex
X-PUBLISHED-TTL:PT1H
BEGIN:VTIMEZONE
TZID:America/Chicago
BEGIN:DAYLIGHT
TZOFFSETFROM:-0600
TZOFFSETTO:-0500
TZNAME:CDT
DTSTART:20240310T080000
END:DAYLIGHT
BEGIN:STANDARD
TZOFFSETFROM:-0500
TZOFFSETTO:-0600
TZNAME:CST
DTSTART:20241103T070000
END:STANDARD
BEGIN:DAYLIGHT
TZOFFSETFROM:-0600
TZOFFSETTO:-0500
TZNAME:CDT
DTSTART:20250309T080000
END:DAYLIGHT
BEGIN:STANDARD
TZOFFSETFROM:-0500
TZOFFSETTO:-0600
TZNAME:CST
DTSTART:20251102T070000
END:STANDARD
BEGIN:DAYLIGHT
TZOFFSETFROM:-0600
TZOFFSETTO:-0500
TZNAME:CDT
DTSTART:20260308T080000
END:DAYLIGHT
BEGIN:STANDARD
TZOFFSETFROM:-0500
TZOFFSETTO:-0600
TZNAME:CST
DTSTART:20261101T070000
END:STANDARD
BEGIN:DAYLIGHT
TZOFFSETFROM:-0600
TZOFFSETTO:-0500
TZNAME:CDT
DTSTART:20270314T080000
END:DAYLIGHT
BEGIN:STANDARD
TZOFFSETFROM:-0500
TZOFFSETTO:-0600
TZNAME:CST
DTSTART:20271107T070000
END:STANDARD
END:VTIMEZONE
BEGIN:VEVENT
DTSTART;TZID=America/Chicago:20260513T180000
DTEND;TZID=America/Chicago:20260513T180000
DTSTAMP:20260423T153353
CREATED:20260324T142417Z
LAST-MODIFIED:20260324T145340Z
UID:14981-1778695200-1778695200@www.golfstlseniors.org
SUMMARY:Best Ball Special Event Signup
DESCRIPTION:Signup for the Best Ball Special Event will open up at 6 PM on Wednesday\, 13 May 2026.
URL:https://www.golfstlseniors.org/event/best-ball-special-event-signup-3/
LOCATION:Birch Creek Golf Club\, 499 N Service Rd\, Union\, 63084
END:VEVENT
BEGIN:VEVENT
DTSTART;TZID=America/Chicago:20260511T190000
DTEND;TZID=America/Chicago:20260511T190000
DTSTAMP:20260423T153353
CREATED:20260324T215339Z
LAST-MODIFIED:20260324T215343Z
UID:15021-1778526000-1778526000@www.golfstlseniors.org
SUMMARY:Winghaven CC (Tuesday) Metro Plus Signup
DESCRIPTION:Signup for Winghaven CC (Tuesday) Metro Plus will open up at 7:00 PM on Monday\, 11 May 2026.
URL:https://www.golfstlseniors.org/event/winghaven-cc-tuesday-metro-plus-signup/
LOCATION:Winghaven Country Club\, 7777 WingHaven Boulevard\, O'Fallon\, MO\, 63368\, United States
ORGANIZER;CN="Bill Hippisley":MAILTO:hippisleyw@gmail.com
END:VEVENT
BEGIN:VEVENT
DTSTART;TZID=America/Chicago:20260507T180000
DTEND;TZID=America/Chicago:20260507T180000
DTSTAMP:20260423T153353
CREATED:20260324T141337Z
LAST-MODIFIED:20260324T141339Z
UID:14974-1778176800-1778176800@www.golfstlseniors.org
SUMMARY:Founders' Day Special Event Signup
DESCRIPTION:Signup for the Founders’ Day Special Event will open up at 6 PM on Thursday\, 7 May 2026.
URL:https://www.golfstlseniors.org/event/founders-day-special-event-signup-2/
LOCATION:Lake Forest Country Club\, 300 Yard Drive\, Lake St. Louis\, MO\, 63367\, United States
END:VEVENT
BEGIN:VEVENT
DTSTART;TZID=America/Chicago:20260504T090000
DTEND;TZID=America/Chicago:20260504T140000
DTSTAMP:20260423T153353
CREATED:20260324T214453Z
LAST-MODIFIED:20260324T214457Z
UID:15015-1777885200-1777903200@www.golfstlseniors.org
SUMMARY:Metro Plus - Forest Hills Country Club
DESCRIPTION:The Metro Plus event at Forest Hills Country Club will be held on Monday\, 4 May 2026 at 9:00 AM. It will be a Shotgun Start. Tournament Director is Wayne Kaiser.
URL:https://www.golfstlseniors.org/event/metro-plus-forest-hills-country-club-2/
LOCATION:Forest Hills\, 36 Forest Club Dr\, Chesterfield\, Missouri\, 63005\, United States
ORGANIZER;CN="Wayne Kaiser":MAILTO:wkaiser1975@gmail.com
END:VEVENT
BEGIN:VEVENT
DTSTART;TZID=America/Chicago:20260427T090000
DTEND;TZID=America/Chicago:20260427T140000
DTSTAMP:20260423T153353
CREATED:20260324T140228Z
LAST-MODIFIED:20260324T140230Z
UID:14968-1777280400-1777298400@www.golfstlseniors.org
SUMMARY:Find Your Swing Special Event
DESCRIPTION:The Find Your Swing Special Event will be held on Monday 27 April 2026 at the Franklin County Country Club.  The format is a 4-Person Scramble.  Lunch will be provided.
URL:https://www.golfstlseniors.org/event/find-your-swing-special-event-4/
LOCATION:Franklin County Country Club\, 6413 Country Club Road\, Washington\, MO\, 63090\, United States
ORGANIZER;CN="Frank McLaughlin":MAILTO:fmmcl@hotmail.com
END:VEVENT
BEGIN:VEVENT
DTSTART;TZID=America/Chicago:20260420T190000
DTEND;TZID=America/Chicago:20260420T190000
DTSTAMP:20260423T153353
CREATED:20260324T214728Z
LAST-MODIFIED:20260324T214732Z
UID:15017-1776711600-1776711600@www.golfstlseniors.org
SUMMARY:Forest Hills CC Metro Plus Signup
DESCRIPTION:Signup for Forest Hills CC Metro Plus will open up at 7:00 PM on Monday\, 20 April 2026.
URL:https://www.golfstlseniors.org/event/forest-hills-cc-metro-plus-signup-2/
LOCATION:Forest Hills\, 36 Forest Club Dr\, Chesterfield\, Missouri\, 63005\, United States
ORGANIZER;CN="Wayne Kaiser":MAILTO:wkaiser1975@gmail.com
END:VEVENT
BEGIN:VEVENT
DTSTART;TZID=America/Chicago:20260420T120000
DTEND;TZID=America/Chicago:20260420T170000
DTSTAMP:20260423T153353
CREATED:20260324T213428Z
LAST-MODIFIED:20260324T213432Z
UID:15009-1776686400-1776704400@www.golfstlseniors.org
SUMMARY:Metro Plus - Bogey Hills Country Club
DESCRIPTION:The Metro Plus event at Bogey Hills Country Club will be held on Monday\, 20 April 2026 at 12:00 PM.  It will be a Shotgun Start.  Tournament Director is Bob Hoffman.
URL:https://www.golfstlseniors.org/event/metro-plus-bogey-hills-country-club-5/
LOCATION:Bogey Hills Country Club\, 1120 Country Club Rd\, St\, Charles\, MO\, 63303\, United States
ORGANIZER;CN="Bob Hoffman":MAILTO:bob@hoffman8.com
END:VEVENT
BEGIN:VEVENT
DTSTART;TZID=America/Chicago:20260406T190000
DTEND;TZID=America/Chicago:20260406T190000
DTSTAMP:20260423T153353
CREATED:20260324T213929Z
LAST-MODIFIED:20260324T213933Z
UID:15013-1775502000-1775502000@www.golfstlseniors.org
SUMMARY:Bogey Hills CC Metro Plus Signup
DESCRIPTION:Signup for Bogey Hills CC Metro Plus will open up at 7:00 PM on Monday\, 6 April 2026.
URL:https://www.golfstlseniors.org/event/bogey-hills-cc-metro-plus-signup-2/
LOCATION:Bogey Hills Country Club\, 1120 Country Club Rd\, St\, Charles\, MO\, 63303\, United States
ORGANIZER;CN="Bob Hoffman":MAILTO:bob@hoffman8.com
END:VEVENT
BEGIN:VEVENT
DTSTART;TZID=America/Chicago:20260406T110000
DTEND;TZID=America/Chicago:20260406T160000
DTSTAMP:20260423T153353
CREATED:20260324T212731Z
LAST-MODIFIED:20260324T212734Z
UID:15003-1775473200-1775491200@www.golfstlseniors.org
SUMMARY:Metro Plus - Winghaven Country Club
DESCRIPTION:The Metro Plus event at Winghaven Country Club will be held on Monday\, 6 April 2026 at 11:00 AM.  It will be a Shotgun Start.  Tournament Director is Bill Hippisley.
URL:https://www.golfstlseniors.org/event/metro-plus-winghaven-country-club-7/
LOCATION:Winghaven Country Club\, 7777 WingHaven Boulevard\, O'Fallon\, MO\, 63368\, United States
ORGANIZER;CN="Bill Hippisley":MAILTO:hippisleyw@gmail.com
END:VEVENT
BEGIN:VEVENT
DTSTART;TZID=America/Chicago:20260401T180000
DTEND;TZID=America/Chicago:20260401T180000
DTSTAMP:20260423T153353
CREATED:20260324T140619Z
LAST-MODIFIED:20260324T140621Z
UID:14970-1775066400-1775066400@www.golfstlseniors.org
SUMMARY:Find Your Swing Special Event Signup
DESCRIPTION:Signup for the Find Your Swing Special Event will open up at 6 PM on Wednesday\, 1 April 2026.
URL:https://www.golfstlseniors.org/event/find-your-swing-special-event-signup-3/
LOCATION:Franklin County Country Club\, 6413 Country Club Road\, Washington\, MO\, 63090\, United States
END:VEVENT
BEGIN:VEVENT
DTSTART;TZID=America/Chicago:20260323T190000
DTEND;TZID=America/Chicago:20260323T190000
DTSTAMP:20260423T153353
CREATED:20260324T213029Z
LAST-MODIFIED:20260324T213033Z
UID:15007-1774292400-1774292400@www.golfstlseniors.org
SUMMARY:Winghaven CC Metro Plus Signup
DESCRIPTION:Signup for Winghaven CC Metro Plus will open up at 7 PM on Monday\, 23 March 2026.
URL:https://www.golfstlseniors.org/event/winghaven-cc-metro-plus-signup-2/
LOCATION:Winghaven Country Club\, 7777 WingHaven Boulevard\, O'Fallon\, MO\, 63368\, United States
ORGANIZER;CN="Bill Hippisley":MAILTO:hippisleyw@gmail.com
END:VEVENT
BEGIN:VEVENT
DTSTART;TZID=America/Chicago:20260302T120000
DTEND;TZID=America/Chicago:20260302T133000
DTSTAMP:20260423T153353
CREATED:20251120T173658Z
LAST-MODIFIED:20251120T173659Z
UID:14750-1772452800-1772458200@www.golfstlseniors.org
SUMMARY:General Membership Meeting
DESCRIPTION:
URL:https://www.golfstlseniors.org/event/general-membership-meeting-2/
LOCATION:Kirkwoood Community Center\, 111 S Geyer Road\, Kirkwood\, MO\, 63122\, United States
END:VEVENT
BEGIN:VEVENT
DTSTART;TZID=America/Chicago:20260302T100000
DTEND;TZID=America/Chicago:20260302T113000
DTSTAMP:20260423T153353
CREATED:20251120T173521Z
LAST-MODIFIED:20251120T173523Z
UID:14748-1772445600-1772451000@www.golfstlseniors.org
SUMMARY:Board Meeting
DESCRIPTION:
URL:https://www.golfstlseniors.org/event/board-meeting-5/
LOCATION:Kirkwoood Community Center\, 111 S Geyer Road\, Kirkwood\, MO\, 63122\, United States
END:VEVENT
BEGIN:VEVENT
DTSTART;TZID=America/Chicago:20260105T100000
DTEND;TZID=America/Chicago:20260105T113000
DTSTAMP:20260423T153353
CREATED:20251120T173309Z
LAST-MODIFIED:20251120T173311Z
UID:14746-1767607200-1767612600@www.golfstlseniors.org
SUMMARY:Board Meeting
DESCRIPTION:
URL:https://www.golfstlseniors.org/event/board-meeting-4/
LOCATION:Kirkwoood Community Center\, 111 S Geyer Road\, Kirkwood\, MO\, 63122\, United States
END:VEVENT
BEGIN:VEVENT
DTSTART;TZID=America/Chicago:20251010T073000
DTEND;TZID=America/Chicago:20251010T073000
DTSTAMP:20260423T153353
CREATED:20250331T205706Z
LAST-MODIFIED:20251120T172729Z
UID:14235-1760081400-1760081400@www.golfstlseniors.org
SUMMARY:D2    WK 26    Belk Park Golf Course
DESCRIPTION:DIV 2 – WK 26     Split Tee Start     Belk Park Golf Course    28
URL:https://www.golfstlseniors.org/event/d2-wk-26-belk-park-golf-course/
LOCATION:Belk Park Golf Course\, 880 Belk Park Rd\, Wood River\, Illinois\, 62095\, United States
CATEGORIES:DIV 2
END:VEVENT
BEGIN:VEVENT
DTSTART;TZID=America/Chicago:20251010T073000
DTEND;TZID=America/Chicago:20251010T073000
DTSTAMP:20260423T153353
CREATED:20250331T205614Z
LAST-MODIFIED:20250331T205614Z
UID:14209-1760081400-1760081400@www.golfstlseniors.org
SUMMARY:D1    WK 26    Links of Dardenne
DESCRIPTION:DIV 1 – WK 26     Shotgun Start     Links of Dardenne    50
URL:https://www.golfstlseniors.org/event/d1-wk-26-links-of-dardenne/
LOCATION:Links of Dardenne\, 7000 Brassel Dr\, O'Fallon\, MO\, 63368\, United States
CATEGORIES:DIV 1
END:VEVENT
BEGIN:VEVENT
DTSTART;TZID=America/Chicago:20251009T080000
DTEND;TZID=America/Chicago:20251009T080000
DTSTAMP:20260423T153353
CREATED:20250331T205914Z
LAST-MODIFIED:20250331T205914Z
UID:14313-1759996800-1759996800@www.golfstlseniors.org
SUMMARY:D5    WK 26    Columbia Golf Club
DESCRIPTION:DIV 5 – WK 26     Shotgun Start     Columbia Golf Club    36
URL:https://www.golfstlseniors.org/event/d5-wk-26-columbia-golf-club/
LOCATION:Columbia Golf Club\, 125 2770 N\, Columbia\, IL\, 62236\, United States
CATEGORIES:DIV 5
END:VEVENT
BEGIN:VEVENT
DTSTART;TZID=America/Chicago:20251009T073000
DTEND;TZID=America/Chicago:20251009T073000
DTSTAMP:20260423T153353
CREATED:20250331T205834Z
LAST-MODIFIED:20250331T205834Z
UID:14287-1759995000-1759995000@www.golfstlseniors.org
SUMMARY:D4    WK 26    Links of Dardenne
DESCRIPTION:DIV 4 – WK 26     Shotgun Start     Links of Dardenne    44
URL:https://www.golfstlseniors.org/event/d4-wk-26-links-of-dardenne/
LOCATION:Links of Dardenne\, 7000 Brassel Dr\, O'Fallon\, MO\, 63368\, United States
CATEGORIES:DIV 4
END:VEVENT
BEGIN:VEVENT
DTSTART;TZID=America/Chicago:20251009T073000
DTEND;TZID=America/Chicago:20251009T073000
DTSTAMP:20260423T153353
CREATED:20250331T205756Z
LAST-MODIFIED:20250331T205756Z
UID:14261-1759995000-1759995000@www.golfstlseniors.org
SUMMARY:D3    WK 26    Lockhaven Golf Club
DESCRIPTION:DIV 3 – WK 26     Split Tee Start     Lockhaven Golf Club    35
URL:https://www.golfstlseniors.org/event/d3-wk-26-lockhaven-golf-club/
LOCATION:Lockhaven Golf Club\, 10872 Lawrence Keler Dr\, Godfrey\, IL\, 62035\, United States
CATEGORIES:DIV 3
END:VEVENT
BEGIN:VEVENT
DTSTART;TZID=America/Chicago:20251003T080000
DTEND;TZID=America/Chicago:20251003T080000
DTSTAMP:20260423T153353
CREATED:20250331T205600Z
LAST-MODIFIED:20250331T205600Z
UID:14208-1759478400-1759478400@www.golfstlseniors.org
SUMMARY:D1    WK 25    Tamarack Golf Course
DESCRIPTION:DIV 1 – WK 25     Split Tee Start     Tamarack Golf Course    40
URL:https://www.golfstlseniors.org/event/d1-wk-25-tamarack-golf-course/
LOCATION:Tamarack Golf Course\, 362 Tamarack Ln\, Shiloh\, IL\, 62269\, United States
CATEGORIES:DIV 1
END:VEVENT
BEGIN:VEVENT
DTSTART;TZID=America/Chicago:20251003T073000
DTEND;TZID=America/Chicago:20251003T073000
DTSTAMP:20260423T153353
CREATED:20250331T205704Z
LAST-MODIFIED:20250331T205704Z
UID:14234-1759476600-1759476600@www.golfstlseniors.org
SUMMARY:D2    WK 25    Links of Dardenne
DESCRIPTION:DIV 2 – WK 25     Shotgun Start     Links of Dardenne    50
URL:https://www.golfstlseniors.org/event/d2-wk-25-links-of-dardenne/
LOCATION:Links of Dardenne\, 7000 Brassel Dr\, O'Fallon\, MO\, 63368\, United States
CATEGORIES:DIV 2
END:VEVENT
BEGIN:VEVENT
DTSTART;TZID=America/Chicago:20251002T073000
DTEND;TZID=America/Chicago:20251002T073000
DTSTAMP:20260423T153353
CREATED:20250331T205913Z
LAST-MODIFIED:20250331T205913Z
UID:14312-1759390200-1759390200@www.golfstlseniors.org
SUMMARY:D5    WK 25    Mystic Oaks Golf Course
DESCRIPTION:DIV 5 – WK 25     Split Tee Start     Mystic Oaks Golf Course    34
URL:https://www.golfstlseniors.org/event/d5-wk-25-mystic-oaks-golf-course/
LOCATION:Mystic Oaks Golf Course\, 643 Ridge Rd\, Waterloo\, IL\, 62298\, United States
CATEGORIES:DIV 5
END:VEVENT
BEGIN:VEVENT
DTSTART;TZID=America/Chicago:20251002T073000
DTEND;TZID=America/Chicago:20251002T073000
DTSTAMP:20260423T153353
CREATED:20250331T205756Z
LAST-MODIFIED:20250331T205756Z
UID:14260-1759390200-1759390200@www.golfstlseniors.org
SUMMARY:D3    WK 25    Eagle Springs Golf Course
DESCRIPTION:DIV 3 – WK 25     Split Tee Start     Eagle Springs Golf Course    28
URL:https://www.golfstlseniors.org/event/d3-wk-25-eagle-springs-golf-course/
LOCATION:Eagle Springs Golf Course\, 2575 Redman Rd\, St. Louis\, MO\, 63136\, United States
CATEGORIES:DIV 3
END:VEVENT
BEGIN:VEVENT
DTSTART;TZID=America/Chicago:20251002T070000
DTEND;TZID=America/Chicago:20251002T070000
DTSTAMP:20260423T153353
CREATED:20250331T205834Z
LAST-MODIFIED:20250331T205834Z
UID:14286-1759388400-1759388400@www.golfstlseniors.org
SUMMARY:D4    WK 25    Golf Club of Wentzville
DESCRIPTION:DIV 4 – WK 25     Split Tee Start     Golf Club of Wentzville
URL:https://www.golfstlseniors.org/event/d4-wk-25-golf-club-of-wentzville/
LOCATION:Golf Club of Wentzville\, 9 Pro Shop Dr\, Wentzville\, MO\, 63385\, United States
CATEGORIES:DIV 4
END:VEVENT
BEGIN:VEVENT
DTSTART;TZID=America/Chicago:20250929T090000
DTEND;TZID=America/Chicago:20250929T140000
DTSTAMP:20260423T153353
CREATED:20250221T184656Z
LAST-MODIFIED:20250221T184658Z
UID:13756-1759136400-1759154400@www.golfstlseniors.org
SUMMARY:Metro Plus - Glen Echo Country Club
DESCRIPTION:The Metro Plus event at Glen Echo Country Club will be held on Monday\, 29 September 2025 at 9:00 am. It will be a Shotgun Start. Tournament Director is Gary Maule.
URL:https://www.golfstlseniors.org/event/metro-plus-glen-echo-country-club-6/
LOCATION:Glen Echo Country Club\, 3401 Lucas and Hunt Road\,\, St. Louis\, MO\, 63121\, United States
ORGANIZER;CN="Gary Maule":MAILTO:xcongezr@gmail.com
END:VEVENT
BEGIN:VEVENT
DTSTART;TZID=America/Chicago:20250926T080000
DTEND;TZID=America/Chicago:20250926T080000
DTSTAMP:20260423T153353
CREATED:20250331T205656Z
LAST-MODIFIED:20250331T205656Z
UID:14233-1758873600-1758873600@www.golfstlseniors.org
SUMMARY:D2    WK 24    Cardinal Creek GC
DESCRIPTION:DIV 2 – WK 24     Shotgun Start     Cardinal Creek GC    41
URL:https://www.golfstlseniors.org/event/d2-wk-24-cardinal-creek-gc/
LOCATION:Cardinal Creek GC\, 1192 Golf Course Rd\, Scott AFB\, IL\, 62225\, United States
CATEGORIES:DIV 2
END:VEVENT
BEGIN:VEVENT
DTSTART;TZID=America/Chicago:20250926T070000
DTEND;TZID=America/Chicago:20250926T070000
DTSTAMP:20260423T153353
CREATED:20250331T205600Z
LAST-MODIFIED:20250331T205600Z
UID:14207-1758870000-1758870000@www.golfstlseniors.org
SUMMARY:D1    WK 24    Woods Fort Golf Course
DESCRIPTION:DIV 1 – WK 24     Split Tee Start     Woods Fort Golf Course    $40.00+tx
URL:https://www.golfstlseniors.org/event/d1-wk-24-woods-fort-golf-course/
LOCATION:Woods Fort Golf Course\, 1 Country Club Dr\, Troy\, MO\, 63379\, United States
CATEGORIES:DIV 1
END:VEVENT
BEGIN:VEVENT
DTSTART;TZID=America/Chicago:20250925T073000
DTEND;TZID=America/Chicago:20250925T073000
DTSTAMP:20260423T153353
CREATED:20250331T205913Z
LAST-MODIFIED:20250331T205913Z
UID:14311-1758785400-1758785400@www.golfstlseniors.org
SUMMARY:D5    WK 24    Innsbrook Golf Course
DESCRIPTION:DIV 5 – WK 24     Split Tee Start     Innsbrook Golf Course    45
URL:https://www.golfstlseniors.org/event/d5-wk-24-innsbrook-golf-course/
LOCATION:Innsbrook Golf Course\, 1 Aspen Way Dr\, Innsbrook\, MO\, 63390\, United States
CATEGORIES:DIV 5
END:VEVENT
BEGIN:VEVENT
DTSTART;TZID=America/Chicago:20250925T073000
DTEND;TZID=America/Chicago:20250925T073000
DTSTAMP:20260423T153353
CREATED:20250331T205834Z
LAST-MODIFIED:20250331T205834Z
UID:14285-1758785400-1758785400@www.golfstlseniors.org
SUMMARY:D4    WK 24    Lockhaven Golf Club
DESCRIPTION:DIV 4 – WK 24     Split Tee Start     Lockhaven Golf Club    35
URL:https://www.golfstlseniors.org/event/d4-wk-24-lockhaven-golf-club/
LOCATION:Lockhaven Golf Club\, 10872 Lawrence Keler Dr\, Godfrey\, IL\, 62035\, United States
CATEGORIES:DIV 4
END:VEVENT
BEGIN:VEVENT
DTSTART;TZID=America/Chicago:20250925T070000
DTEND;TZID=America/Chicago:20250925T070000
DTSTAMP:20260423T153353
CREATED:20250331T205756Z
LAST-MODIFIED:20250331T205756Z
UID:14259-1758783600-1758783600@www.golfstlseniors.org
SUMMARY:D3    WK 24    Spencer T Olin Golf Course
DESCRIPTION:DIV 3 – WK 24     Split Tee Start     Spencer T Olin Golf Course    38.95
URL:https://www.golfstlseniors.org/event/d3-wk-24-spencer-t-olin-golf-course/
LOCATION:Spencer T Olin Golf Course\, 4701 College Ave\, Alton\, IL\, 62002\, United States
CATEGORIES:DIV 3
END:VEVENT
END:VCALENDAR