BEGIN:VCALENDAR
VERSION:2.0
PRODID:-//Metro St. Louis Seniors Golf - ECPv6.15.20//NONSGML v1.0//EN
CALSCALE:GREGORIAN
METHOD:PUBLISH
X-WR-CALNAME:Metro St. Louis Seniors Golf
X-ORIGINAL-URL:https://www.golfstlseniors.org
X-WR-CALDESC:Events for Metro St. Louis Seniors Golf
REFRESH-INTERVAL;VALUE=DURATION:PT1H
X-Robots-Tag:noindex
X-PUBLISHED-TTL:PT1H
BEGIN:VTIMEZONE
TZID:America/Chicago
BEGIN:DAYLIGHT
TZOFFSETFROM:-0600
TZOFFSETTO:-0500
TZNAME:CDT
DTSTART:20230312T080000
END:DAYLIGHT
BEGIN:STANDARD
TZOFFSETFROM:-0500
TZOFFSETTO:-0600
TZNAME:CST
DTSTART:20231105T070000
END:STANDARD
BEGIN:DAYLIGHT
TZOFFSETFROM:-0600
TZOFFSETTO:-0500
TZNAME:CDT
DTSTART:20240310T080000
END:DAYLIGHT
BEGIN:STANDARD
TZOFFSETFROM:-0500
TZOFFSETTO:-0600
TZNAME:CST
DTSTART:20241103T070000
END:STANDARD
BEGIN:DAYLIGHT
TZOFFSETFROM:-0600
TZOFFSETTO:-0500
TZNAME:CDT
DTSTART:20250309T080000
END:DAYLIGHT
BEGIN:STANDARD
TZOFFSETFROM:-0500
TZOFFSETTO:-0600
TZNAME:CST
DTSTART:20251102T070000
END:STANDARD
END:VTIMEZONE
BEGIN:VEVENT
DTSTART;TZID=America/Chicago:20240613T073000
DTEND;TZID=America/Chicago:20240613T073000
DTSTAMP:20260424T110911
CREATED:20240116T025945Z
LAST-MODIFIED:20240118T171851Z
UID:12964-1718263800-1718263800@www.golfstlseniors.org
SUMMARY:D4  Wk 10    Columbia Bridges Golf Club
DESCRIPTION:Div4 – Jun 13 Split Tee Start Columbia Bridges Golf Club $34
URL:https://www.golfstlseniors.org/event/d4-wk-10-columbia-bridges-golf-club/
LOCATION:Columbia Bridges Golf Club\, 1655 Columbia Bridges Rd\, Columbia\, IL\, 62236\, United States
CATEGORIES:Div4
END:VEVENT
BEGIN:VEVENT
DTSTART;TZID=America/Chicago:20240613T070000
DTEND;TZID=America/Chicago:20240613T070000
DTSTAMP:20260424T110911
CREATED:20240116T030101Z
LAST-MODIFIED:20240116T030101Z
UID:12990-1718262000-1718262000@www.golfstlseniors.org
SUMMARY:D5  Wk 10    Tamarack Golf Course
DESCRIPTION:Div5     – Jun 13    Split Tee Start  Tamarack Golf Course    $
URL:https://www.golfstlseniors.org/event/d5-wk-10-tamarack-golf-course/
LOCATION:Tamarack Golf Course\, 362 Tamarack Ln\, Shiloh\, IL\, 62269\, United States
CATEGORIES:Div5
END:VEVENT
BEGIN:VEVENT
DTSTART;TZID=America/Chicago:20240613T070000
DTEND;TZID=America/Chicago:20240613T070000
DTSTAMP:20260424T110911
CREATED:20240116T025830Z
LAST-MODIFIED:20240116T025830Z
UID:12938-1718262000-1718262000@www.golfstlseniors.org
SUMMARY:D3  Wk 10    Lockhaven Golf Club
DESCRIPTION:Div3     – Jun 13    Split Tee Start  Lockhaven Golf Club    $
URL:https://www.golfstlseniors.org/event/d3-wk-10-lockhaven-golf-club/
LOCATION:Lockhaven Golf Club\, 10872 Lawrence Keler Dr\, Godfrey\, IL\, 62035\, United States
CATEGORIES:Div3
END:VEVENT
BEGIN:VEVENT
DTSTART;TZID=America/Chicago:20240610T080000
DTEND;TZID=America/Chicago:20240610T140000
DTSTAMP:20260424T110911
CREATED:20231116T211126Z
LAST-MODIFIED:20231116T211128Z
UID:12481-1718006400-1718028000@www.golfstlseniors.org
SUMMARY:Best Ball Special Event
DESCRIPTION:The Best Ball Special Event will be held on Monday\, 10 June 2024 at the Crystal Highlands Golf Club.  The format is a 4-Person Best Ball event.  Lunch will be served.
URL:https://www.golfstlseniors.org/event/best-ball-special-event-2/
LOCATION:Crystal Highlands Golf Course\, 3030 US-61\, Festus\, MO\, 63028\, United States
CATEGORIES:Special Event Tournaments
ORGANIZER;CN="Bob McNamee":MAILTO:mcnameere@yahoo.com
END:VEVENT
BEGIN:VEVENT
DTSTART;TZID=America/Chicago:20240607T070000
DTEND;TZID=America/Chicago:20240607T070000
DTSTAMP:20260424T110911
CREATED:20240116T025701Z
LAST-MODIFIED:20240116T025701Z
UID:12911-1717743600-1717743600@www.golfstlseniors.org
SUMMARY:D2  Wk 9    Spencer T Olin Golf Course
DESCRIPTION:Div2     – Jun 07    Split Tee Start  Spencer T Olin Golf Course    $36.95
URL:https://www.golfstlseniors.org/event/d2-wk-9-spencer-t-olin-golf-course/
LOCATION:Spencer T Olin Golf Course\, 4701 College Ave\, Alton\, IL\, 62002\, United States
CATEGORIES:Div2
END:VEVENT
BEGIN:VEVENT
DTSTART;TZID=America/Chicago:20240607T070000
DTEND;TZID=America/Chicago:20240607T070000
DTSTAMP:20260424T110911
CREATED:20240116T025544Z
LAST-MODIFIED:20240116T025544Z
UID:12885-1717743600-1717743600@www.golfstlseniors.org
SUMMARY:D1  Wk 9    Woods Fort Golf Course
DESCRIPTION:Div1     – Jun 07    Split Tee Start  Woods Fort Golf Course    $37
URL:https://www.golfstlseniors.org/event/d1-wk-9-woods-fort-golf-course/
LOCATION:Woods Fort Golf Course\, 1 Country Club Dr\, Troy\, MO\, 63379\, United States
CATEGORIES:Div1
END:VEVENT
BEGIN:VEVENT
DTSTART;TZID=America/Chicago:20240606T070000
DTEND;TZID=America/Chicago:20240606T070000
DTSTAMP:20260424T110911
CREATED:20240116T025945Z
LAST-MODIFIED:20240116T025945Z
UID:12963-1717657200-1717657200@www.golfstlseniors.org
SUMMARY:D4  Wk 9    Woodlands Golf Club
DESCRIPTION:Div4     – Jun 06    Split Tee Start  Woodlands Golf Club    $28
URL:https://www.golfstlseniors.org/event/d4-wk-9-woodlands-golf-club/
LOCATION:Woodlands Golf Club\, 2839 Harris Ln\, Alton\, IL\, 62002\, United States
CATEGORIES:Div4
END:VEVENT
BEGIN:VEVENT
DTSTART;TZID=America/Chicago:20240606T070000
DTEND;TZID=America/Chicago:20240606T070000
DTSTAMP:20260424T110911
CREATED:20240116T025830Z
LAST-MODIFIED:20240116T025830Z
UID:12937-1717657200-1717657200@www.golfstlseniors.org
SUMMARY:D3  Wk 9    Florissant Golf Club
DESCRIPTION:Div3     – Jun 06    Split Tee Start  Florissant Golf Club    $
URL:https://www.golfstlseniors.org/event/d3-wk-9-florissant-golf-club/
LOCATION:Florissant Golf Club\, 50 Country Club Ln\, Florissant\, MO\, 63033\, United States
CATEGORIES:Div3
END:VEVENT
BEGIN:VEVENT
DTSTART;TZID=America/Chicago:20240606T063000
DTEND;TZID=America/Chicago:20240606T063000
DTSTAMP:20260424T110911
CREATED:20240116T030100Z
LAST-MODIFIED:20240116T030100Z
UID:12989-1717655400-1717655400@www.golfstlseniors.org
SUMMARY:D5  Wk 9    Bear Creek Golf Club
DESCRIPTION:Div5     – Jun 06    Split Tee Start  Bear Creek Golf Club    $
URL:https://www.golfstlseniors.org/event/d5-wk-9-bear-creek-golf-club/
LOCATION:Bear Creek Golf Club\, 158 Bear Creek Dr\, Wentzville\, MO\, 63385\, United States
CATEGORIES:Div5
END:VEVENT
BEGIN:VEVENT
DTSTART;TZID=America/Chicago:20240531T073000
DTEND;TZID=America/Chicago:20240531T073000
DTSTAMP:20260424T110911
CREATED:20240116T025700Z
LAST-MODIFIED:20240116T025700Z
UID:12910-1717140600-1717140600@www.golfstlseniors.org
SUMMARY:D2  Wk 8    Mystic Oaks Golf Course
DESCRIPTION:Div2     – May 31    Split Tee Start  Mystic Oaks Golf Course    $
URL:https://www.golfstlseniors.org/event/d2-wk-8-mystic-oaks-golf-course/
LOCATION:Mystic Oaks Golf Course\, 643 Ridge Rd\, Waterloo\, IL\, 62298\, United States
CATEGORIES:Div2
END:VEVENT
BEGIN:VEVENT
DTSTART;TZID=America/Chicago:20240531T073000
DTEND;TZID=America/Chicago:20240531T073000
DTSTAMP:20260424T110911
CREATED:20240116T025544Z
LAST-MODIFIED:20240116T025544Z
UID:12884-1717140600-1717140600@www.golfstlseniors.org
SUMMARY:D1  Wk 8    Columbia Bridges Golf Club
DESCRIPTION:Div1     – May 31    Split Tee Start  Columbia Bridges Golf Club    $
URL:https://www.golfstlseniors.org/event/d1-wk-8-columbia-bridges-golf-club/
LOCATION:Columbia Bridges Golf Club\, 1655 Columbia Bridges Rd\, Columbia\, IL\, 62236\, United States
CATEGORIES:Div1
END:VEVENT
BEGIN:VEVENT
DTSTART;TZID=America/Chicago:20240530T070000
DTEND;TZID=America/Chicago:20240530T070000
DTSTAMP:20260424T110911
CREATED:20240116T030100Z
LAST-MODIFIED:20240116T030100Z
UID:12988-1717052400-1717052400@www.golfstlseniors.org
SUMMARY:D5  Wk 8    Spencer T Olin Golf Course
DESCRIPTION:Div5     – May 30    Split Tee Start  Spencer T Olin Golf Course    $36.95
URL:https://www.golfstlseniors.org/event/d5-wk-8-spencer-t-olin-golf-course/
LOCATION:Spencer T Olin Golf Course\, 4701 College Ave\, Alton\, IL\, 62002\, United States
CATEGORIES:Div5
END:VEVENT
BEGIN:VEVENT
DTSTART;TZID=America/Chicago:20240530T070000
DTEND;TZID=America/Chicago:20240530T070000
DTSTAMP:20260424T110911
CREATED:20240116T025945Z
LAST-MODIFIED:20240118T171946Z
UID:12962-1717052400-1717052400@www.golfstlseniors.org
SUMMARY:D4  Wk 8    Tamarack Golf Course
DESCRIPTION:Div4 – May 30 Split Tee Start Tamarack Golf Course $40
URL:https://www.golfstlseniors.org/event/d4-wk-8-tamarack-golf-course/
LOCATION:Tamarack Golf Course\, 362 Tamarack Ln\, Shiloh\, IL\, 62269\, United States
CATEGORIES:Div4
END:VEVENT
BEGIN:VEVENT
DTSTART;TZID=America/Chicago:20240530T070000
DTEND;TZID=America/Chicago:20240530T070000
DTSTAMP:20260424T110911
CREATED:20240116T025816Z
LAST-MODIFIED:20240116T025816Z
UID:12936-1717052400-1717052400@www.golfstlseniors.org
SUMMARY:D3  Wk 8    Woods Fort Golf Course
DESCRIPTION:Div3     – May 30    Split Tee Start  Woods Fort Golf Course    $37
URL:https://www.golfstlseniors.org/event/d3-wk-8-woods-fort-golf-course/
LOCATION:Woods Fort Golf Course\, 1 Country Club Dr\, Troy\, MO\, 63379\, United States
CATEGORIES:Div3
END:VEVENT
BEGIN:VEVENT
DTSTART;TZID=America/Chicago:20240524T073000
DTEND;TZID=America/Chicago:20240524T073000
DTSTAMP:20260424T110911
CREATED:20240116T025544Z
LAST-MODIFIED:20240116T025544Z
UID:12883-1716535800-1716535800@www.golfstlseniors.org
SUMMARY:D1  Wk 7    Mystic Oaks Golf Course
DESCRIPTION:Div1     – May 24    Split Tee Start  Mystic Oaks Golf Course    $
URL:https://www.golfstlseniors.org/event/d1-wk-7-mystic-oaks-golf-course/
LOCATION:Mystic Oaks Golf Course\, 643 Ridge Rd\, Waterloo\, IL\, 62298\, United States
CATEGORIES:Div1
END:VEVENT
BEGIN:VEVENT
DTSTART;TZID=America/Chicago:20240524T070000
DTEND;TZID=America/Chicago:20240524T070000
DTSTAMP:20260424T110911
CREATED:20240116T025700Z
LAST-MODIFIED:20240116T025700Z
UID:12909-1716534000-1716534000@www.golfstlseniors.org
SUMMARY:D2  Wk 7    Belk Park Golf Course
DESCRIPTION:Div2     – May 24    Split Tee Start  Belk Park Golf Course    $27
URL:https://www.golfstlseniors.org/event/d2-wk-7-belk-park-golf-course/
LOCATION:Belk Park Golf Course\, 880 Belk Park Rd\, Wood River\, Illinois\, 62095\, United States
CATEGORIES:Div2
END:VEVENT
BEGIN:VEVENT
DTSTART;TZID=America/Chicago:20240523T070000
DTEND;TZID=America/Chicago:20240523T070000
DTSTAMP:20260424T110911
CREATED:20240116T030100Z
LAST-MODIFIED:20240116T030100Z
UID:12987-1716447600-1716447600@www.golfstlseniors.org
SUMMARY:D5  Wk 7    Belk Park Golf Course
DESCRIPTION:Div5     – May 23    Split Tee Start  Belk Park Golf Course    $27
URL:https://www.golfstlseniors.org/event/d5-wk-7-belk-park-golf-course/
LOCATION:Belk Park Golf Course\, 880 Belk Park Rd\, Wood River\, Illinois\, 62095\, United States
CATEGORIES:Div5
END:VEVENT
BEGIN:VEVENT
DTSTART;TZID=America/Chicago:20240523T070000
DTEND;TZID=America/Chicago:20240523T070000
DTSTAMP:20260424T110911
CREATED:20240116T025931Z
LAST-MODIFIED:20240118T172024Z
UID:12961-1716447600-1716447600@www.golfstlseniors.org
SUMMARY:D4  Wk 7    Falls Golf Club
DESCRIPTION:Div4     – May 23    Split Tee Start  Falls Golf Club    $42
URL:https://www.golfstlseniors.org/event/d4-wk-7-falls-golf-club/
LOCATION:Falls Golf Club\, 1170 Turtle Creek Dr\, O'Fallon\, MO\, 63366\, United States
CATEGORIES:Div4
END:VEVENT
BEGIN:VEVENT
DTSTART;TZID=America/Chicago:20240523T070000
DTEND;TZID=America/Chicago:20240523T070000
DTSTAMP:20260424T110911
CREATED:20240116T025816Z
LAST-MODIFIED:20240116T025816Z
UID:12935-1716447600-1716447600@www.golfstlseniors.org
SUMMARY:D3  Wk 7    Eagle Springs Golf Course
DESCRIPTION:Div3     – May 23    Split Tee Start  Eagle Springs Golf Course    $
URL:https://www.golfstlseniors.org/event/d3-wk-7-eagle-springs-golf-course/
LOCATION:Eagle Springs Golf Course\, 2575 Redman Rd\, St. Louis\, MO\, 63136\, United States
CATEGORIES:Div3
END:VEVENT
BEGIN:VEVENT
DTSTART;TZID=America/Chicago:20240522T180000
DTEND;TZID=America/Chicago:20240522T180000
DTSTAMP:20260424T110911
CREATED:20231116T185800Z
LAST-MODIFIED:20231116T210028Z
UID:12465-1716400800-1716400800@www.golfstlseniors.org
SUMMARY:Best Ball Special Event Signup
DESCRIPTION:Signup for the Best Ball Special Event will open up at 6 PM on Wednesday\, 22 May 2024
URL:https://www.golfstlseniors.org/event/best-ball-special-event-signup/
LOCATION:Crystal Highlands Golf Course\, 3030 US-61\, Festus\, MO\, 63028\, United States
CATEGORIES:Special Event Tournaments
ORGANIZER;CN="Bob McNamee":MAILTO:mcnameere@yahoo.com
END:VEVENT
BEGIN:VEVENT
DTSTART;TZID=America/Chicago:20240517T070000
DTEND;TZID=America/Chicago:20240517T070000
DTSTAMP:20260424T110911
CREATED:20240116T025544Z
LAST-MODIFIED:20240116T025544Z
UID:12882-1715929200-1715929200@www.golfstlseniors.org
SUMMARY:D1  Wk 6    Quail Creek GC
DESCRIPTION:Div1     – May 17    Split Tee Start  Quail Creek GC    $32
URL:https://www.golfstlseniors.org/event/d1-wk-6-quail-creek-gc/
LOCATION:Quail Creek GC\, 6022 Wells Rd\, St. Louis\, MO\, 63128\, United States
CATEGORIES:Div1
END:VEVENT
BEGIN:VEVENT
DTSTART;TZID=America/Chicago:20240517T063000
DTEND;TZID=America/Chicago:20240517T063000
DTSTAMP:20260424T110911
CREATED:20240116T025700Z
LAST-MODIFIED:20240116T025700Z
UID:12908-1715927400-1715927400@www.golfstlseniors.org
SUMMARY:D2  Wk 6    Falls Golf Club
DESCRIPTION:Div2     – May 17    Split Tee Start  Falls Golf Club    $42
URL:https://www.golfstlseniors.org/event/d2-wk-6-falls-golf-club/
LOCATION:Falls Golf Club\, 1170 Turtle Creek Dr\, O'Fallon\, MO\, 63366\, United States
CATEGORIES:Div2
END:VEVENT
BEGIN:VEVENT
DTSTART;TZID=America/Chicago:20240516T070000
DTEND;TZID=America/Chicago:20240516T070000
DTSTAMP:20260424T110911
CREATED:20240116T030046Z
LAST-MODIFIED:20240116T030046Z
UID:12986-1715842800-1715842800@www.golfstlseniors.org
SUMMARY:D5  Wk 6    Golf Club of Wentzville
DESCRIPTION:Div5     – May 16    Split Tee Start  Golf Club of Wentzville    $
URL:https://www.golfstlseniors.org/event/d5-wk-6-golf-club-of-wentzville/
LOCATION:Golf Club of Wentzville\, 9 Pro Shop Dr\, Wentzville\, MO\, 63385\, United States
CATEGORIES:Div5
END:VEVENT
BEGIN:VEVENT
DTSTART;TZID=America/Chicago:20240516T070000
DTEND;TZID=America/Chicago:20240516T070000
DTSTAMP:20260424T110911
CREATED:20240116T025931Z
LAST-MODIFIED:20240118T172643Z
UID:12960-1715842800-1715842800@www.golfstlseniors.org
SUMMARY:D4  Wk 6    Spencer T Olin Golf Course
DESCRIPTION:Div4     – May 16    Split Tee Start  Spencer T Olin Golf Course    $36.95
URL:https://www.golfstlseniors.org/event/d4-wk-6-spencer-t-olin-golf-course/
LOCATION:Spencer T Olin Golf Course\, 4701 College Ave\, Alton\, IL\, 62002\, United States
CATEGORIES:Div4
END:VEVENT
BEGIN:VEVENT
DTSTART;TZID=America/Chicago:20240516T070000
DTEND;TZID=America/Chicago:20240516T070000
DTSTAMP:20260424T110911
CREATED:20240116T025815Z
LAST-MODIFIED:20240116T025815Z
UID:12934-1715842800-1715842800@www.golfstlseniors.org
SUMMARY:D3  Wk 6    Acorns Golf Links
DESCRIPTION:Div3     – May 16    Split Tee Start  Acorns Golf Links    $
URL:https://www.golfstlseniors.org/event/d3-wk-6-acorns-golf-links/
LOCATION:Acorns Golf Links\, 3933 Ahne Rd\, Waterloo\, Illinois\, 62298\, United States
CATEGORIES:Div3
END:VEVENT
BEGIN:VEVENT
DTSTART;TZID=America/Chicago:20240513T090000
DTEND;TZID=America/Chicago:20240513T150000
DTSTAMP:20260424T110911
CREATED:20231116T185451Z
LAST-MODIFIED:20231116T210408Z
UID:12462-1715590800-1715612400@www.golfstlseniors.org
SUMMARY:Lou Luketich Founders' Day Special Event
DESCRIPTION:The Lou Luketich Founders’ Day Special Event will be held on Monday\, 13 May 2024 at the Lake Forest Country Club.  The format is a 4-Person Shamble.  Lunch will be provided.
URL:https://www.golfstlseniors.org/event/lou-luketich-founders-day-special-event/
LOCATION:Lake Forest Country Club\, 300 Yard Drive\, Lake St. Louis\, MO\, 63367\, United States
CATEGORIES:Special Event Tournaments
ORGANIZER;CN="Frank McLaughlin":MAILTO:fmmcl@hotmail.com
END:VEVENT
BEGIN:VEVENT
DTSTART;TZID=America/Chicago:20240510T073000
DTEND;TZID=America/Chicago:20240510T073000
DTSTAMP:20260424T110911
CREATED:20240116T025542Z
LAST-MODIFIED:20240116T025542Z
UID:12881-1715326200-1715326200@www.golfstlseniors.org
SUMMARY:D1  Wk 5    Oak Valley Golf Course
DESCRIPTION:Div1     – May 10    Split Tee Start  Oak Valley Golf Course    $
URL:https://www.golfstlseniors.org/event/d1-wk-5-oak-valley-golf-course/
LOCATION:Oak Valley Golf Course\, 1230 Abbey Ln\, Pevely\, MO\, 63070\, United States
CATEGORIES:Div1
END:VEVENT
BEGIN:VEVENT
DTSTART;TZID=America/Chicago:20240510T070000
DTEND;TZID=America/Chicago:20240510T070000
DTSTAMP:20260424T110911
CREATED:20240116T025700Z
LAST-MODIFIED:20240116T025700Z
UID:12907-1715324400-1715324400@www.golfstlseniors.org
SUMMARY:D2  Wk 5    Wolf Hollow Golf Club
DESCRIPTION:Div2     – May 10    Shotgun Start  Wolf Hollow Golf Club    $
URL:https://www.golfstlseniors.org/event/d2-wk-5-wolf-hollow-golf-club/
LOCATION:Wolf Hollow Golf Club\, 4504 MO-100\, Labadie\, MO\, 63055\, United States
CATEGORIES:Div2
END:VEVENT
BEGIN:VEVENT
DTSTART;TZID=America/Chicago:20240509T073000
DTEND;TZID=America/Chicago:20240509T073000
DTSTAMP:20260424T110911
CREATED:20240116T025815Z
LAST-MODIFIED:20240116T025815Z
UID:12933-1715239800-1715239800@www.golfstlseniors.org
SUMMARY:D3  Wk 5    Incline Village Golf Course
DESCRIPTION:Div3     – May 09    Split Tee Start  Incline Village Golf Course    $34
URL:https://www.golfstlseniors.org/event/d3-wk-5-incline-village-golf-course/
LOCATION:Incline Village Golf Course\, 10220 Fairway Dr\, Foristell\, MO\, 63348\, United States
CATEGORIES:Div3
END:VEVENT
BEGIN:VEVENT
DTSTART;TZID=America/Chicago:20240509T070000
DTEND;TZID=America/Chicago:20240509T070000
DTSTAMP:20260424T110911
CREATED:20240116T030046Z
LAST-MODIFIED:20240116T030046Z
UID:12985-1715238000-1715238000@www.golfstlseniors.org
SUMMARY:D5  Wk 5    Acorns Golf Links
DESCRIPTION:Div5     – May 09    Split Tee Start  Acorns Golf Links    $
URL:https://www.golfstlseniors.org/event/d5-wk-5-acorns-golf-links/
LOCATION:Acorns Golf Links\, 3933 Ahne Rd\, Waterloo\, Illinois\, 62298\, United States
CATEGORIES:Div5
END:VEVENT
END:VCALENDAR