BEGIN:VCALENDAR
VERSION:2.0
PRODID:-//Metro St. Louis Seniors Golf - ECPv6.15.20//NONSGML v1.0//EN
CALSCALE:GREGORIAN
METHOD:PUBLISH
X-WR-CALNAME:Metro St. Louis Seniors Golf
X-ORIGINAL-URL:https://www.golfstlseniors.org
X-WR-CALDESC:Events for Metro St. Louis Seniors Golf
REFRESH-INTERVAL;VALUE=DURATION:PT1H
X-Robots-Tag:noindex
X-PUBLISHED-TTL:PT1H
BEGIN:VTIMEZONE
TZID:America/Chicago
BEGIN:DAYLIGHT
TZOFFSETFROM:-0600
TZOFFSETTO:-0500
TZNAME:CDT
DTSTART:20220313T080000
END:DAYLIGHT
BEGIN:STANDARD
TZOFFSETFROM:-0500
TZOFFSETTO:-0600
TZNAME:CST
DTSTART:20221106T070000
END:STANDARD
BEGIN:DAYLIGHT
TZOFFSETFROM:-0600
TZOFFSETTO:-0500
TZNAME:CDT
DTSTART:20230312T080000
END:DAYLIGHT
BEGIN:STANDARD
TZOFFSETFROM:-0500
TZOFFSETTO:-0600
TZNAME:CST
DTSTART:20231105T070000
END:STANDARD
BEGIN:DAYLIGHT
TZOFFSETFROM:-0600
TZOFFSETTO:-0500
TZNAME:CDT
DTSTART:20240310T080000
END:DAYLIGHT
BEGIN:STANDARD
TZOFFSETFROM:-0500
TZOFFSETTO:-0600
TZNAME:CST
DTSTART:20241103T070000
END:STANDARD
BEGIN:DAYLIGHT
TZOFFSETFROM:-0600
TZOFFSETTO:-0500
TZNAME:CDT
DTSTART:20250309T080000
END:DAYLIGHT
BEGIN:STANDARD
TZOFFSETFROM:-0500
TZOFFSETTO:-0600
TZNAME:CST
DTSTART:20251102T070000
END:STANDARD
END:VTIMEZONE
BEGIN:VEVENT
DTSTART;TZID=America/Chicago:20240510T070000
DTEND;TZID=America/Chicago:20240510T070000
DTSTAMP:20260425T064150
CREATED:20240116T025700Z
LAST-MODIFIED:20240116T025700Z
UID:12907-1715324400-1715324400@www.golfstlseniors.org
SUMMARY:D2  Wk 5    Wolf Hollow Golf Club
DESCRIPTION:Div2     – May 10    Shotgun Start  Wolf Hollow Golf Club    $
URL:https://www.golfstlseniors.org/event/d2-wk-5-wolf-hollow-golf-club/
LOCATION:Wolf Hollow Golf Club\, 4504 MO-100\, Labadie\, MO\, 63055\, United States
CATEGORIES:Div2
END:VEVENT
BEGIN:VEVENT
DTSTART;TZID=America/Chicago:20240509T073000
DTEND;TZID=America/Chicago:20240509T073000
DTSTAMP:20260425T064150
CREATED:20240116T025815Z
LAST-MODIFIED:20240116T025815Z
UID:12933-1715239800-1715239800@www.golfstlseniors.org
SUMMARY:D3  Wk 5    Incline Village Golf Course
DESCRIPTION:Div3     – May 09    Split Tee Start  Incline Village Golf Course    $34
URL:https://www.golfstlseniors.org/event/d3-wk-5-incline-village-golf-course/
LOCATION:Incline Village Golf Course\, 10220 Fairway Dr\, Foristell\, MO\, 63348\, United States
CATEGORIES:Div3
END:VEVENT
BEGIN:VEVENT
DTSTART;TZID=America/Chicago:20240509T070000
DTEND;TZID=America/Chicago:20240509T070000
DTSTAMP:20260425T064150
CREATED:20240116T030046Z
LAST-MODIFIED:20240116T030046Z
UID:12985-1715238000-1715238000@www.golfstlseniors.org
SUMMARY:D5  Wk 5    Acorns Golf Links
DESCRIPTION:Div5     – May 09    Split Tee Start  Acorns Golf Links    $
URL:https://www.golfstlseniors.org/event/d5-wk-5-acorns-golf-links/
LOCATION:Acorns Golf Links\, 3933 Ahne Rd\, Waterloo\, Illinois\, 62298\, United States
CATEGORIES:Div5
END:VEVENT
BEGIN:VEVENT
DTSTART;TZID=America/Chicago:20240509T070000
DTEND;TZID=America/Chicago:20240509T070000
DTSTAMP:20260425T064150
CREATED:20240116T025930Z
LAST-MODIFIED:20240118T172205Z
UID:12959-1715238000-1715238000@www.golfstlseniors.org
SUMMARY:D4  Wk 5    Aberdeen Golf Club
DESCRIPTION:Div4     – May 09    Split Tee Start  Aberdeen Golf Club    $40
URL:https://www.golfstlseniors.org/event/d4-wk-5-aberdeen-golf-club/
LOCATION:Aberdeen Golf Club\, 4111 Crescent Rd\, Eureka\, MO\, 63025\, United States
CATEGORIES:Div4
END:VEVENT
BEGIN:VEVENT
DTSTART;TZID=America/Chicago:20240503T070000
DTEND;TZID=America/Chicago:20240503T070000
DTSTAMP:20260425T064150
CREATED:20240116T025646Z
LAST-MODIFIED:20240116T025646Z
UID:12906-1714719600-1714719600@www.golfstlseniors.org
SUMMARY:D2  Wk 4    Eagle Springs Golf Course
DESCRIPTION:Div2     – May 03    Split Tee Start  Eagle Springs Golf Course    $
URL:https://www.golfstlseniors.org/event/d2-wk-4-eagle-springs-golf-course/
LOCATION:Eagle Springs Golf Course\, 2575 Redman Rd\, St. Louis\, MO\, 63136\, United States
CATEGORIES:Div2
END:VEVENT
BEGIN:VEVENT
DTSTART;TZID=America/Chicago:20240503T070000
DTEND;TZID=America/Chicago:20240503T070000
DTSTAMP:20260425T064150
CREATED:20240116T025541Z
LAST-MODIFIED:20240116T025541Z
UID:12880-1714719600-1714719600@www.golfstlseniors.org
SUMMARY:D1  Wk 4    Golf Club of Wentzville
DESCRIPTION:Div1     – May 03    Split Tee Start  Golf Club of Wentzville    $
URL:https://www.golfstlseniors.org/event/d1-wk-4-golf-club-of-wentzville/
LOCATION:Golf Club of Wentzville\, 9 Pro Shop Dr\, Wentzville\, MO\, 63385\, United States
CATEGORIES:Div1
END:VEVENT
BEGIN:VEVENT
DTSTART;TZID=America/Chicago:20240502T073000
DTEND;TZID=America/Chicago:20240502T073000
DTSTAMP:20260425T064150
CREATED:20240116T030045Z
LAST-MODIFIED:20240116T030045Z
UID:12984-1714635000-1714635000@www.golfstlseniors.org
SUMMARY:D5  Wk 4    Incline Village Golf Course
DESCRIPTION:Div5     – May 02    Split Tee Start  Incline Village Golf Course    $34
URL:https://www.golfstlseniors.org/event/d5-wk-4-incline-village-golf-course/
LOCATION:Incline Village Golf Course\, 10220 Fairway Dr\, Foristell\, MO\, 63348\, United States
CATEGORIES:Div5
END:VEVENT
BEGIN:VEVENT
DTSTART;TZID=America/Chicago:20240502T073000
DTEND;TZID=America/Chicago:20240502T073000
DTSTAMP:20260425T064150
CREATED:20240116T025815Z
LAST-MODIFIED:20240116T025815Z
UID:12932-1714635000-1714635000@www.golfstlseniors.org
SUMMARY:D3  Wk 4    Oak Valley Golf Course
DESCRIPTION:Div3     – May 02    Split Tee Start  Oak Valley Golf Course    $
URL:https://www.golfstlseniors.org/event/d3-wk-4-oak-valley-golf-course/
LOCATION:Oak Valley Golf Course\, 1230 Abbey Ln\, Pevely\, MO\, 63070\, United States
CATEGORIES:Div3
END:VEVENT
BEGIN:VEVENT
DTSTART;TZID=America/Chicago:20240502T070000
DTEND;TZID=America/Chicago:20240502T070000
DTSTAMP:20260425T064150
CREATED:20240116T025930Z
LAST-MODIFIED:20240118T172319Z
UID:12958-1714633200-1714633200@www.golfstlseniors.org
SUMMARY:D4  Wk 4    Bear Creek Golf Club
DESCRIPTION:Div4 – May 02 Split Tee Start Bear Creek Golf Club $40
URL:https://www.golfstlseniors.org/event/d4-wk-4-bear-creek-golf-club/
LOCATION:Bear Creek Golf Club\, 158 Bear Creek Dr\, Wentzville\, MO\, 63385\, United States
CATEGORIES:Div4
END:VEVENT
BEGIN:VEVENT
DTSTART;TZID=America/Chicago:20240426T080000
DTEND;TZID=America/Chicago:20240426T080000
DTSTAMP:20260425T064150
CREATED:20240116T025645Z
LAST-MODIFIED:20240116T025645Z
UID:12905-1714118400-1714118400@www.golfstlseniors.org
SUMMARY:D2  Wk 3    Columbia Golf Club
DESCRIPTION:Div2     – Apr 26    Shotgun Start  Columbia Golf Club    $34
URL:https://www.golfstlseniors.org/event/d2-wk-3-columbia-golf-club/
LOCATION:Columbia Golf Club\, 125 2770 N\, Columbia\, IL\, 62236\, United States
CATEGORIES:Div2
END:VEVENT
BEGIN:VEVENT
DTSTART;TZID=America/Chicago:20240426T070000
DTEND;TZID=America/Chicago:20240426T070000
DTSTAMP:20260425T064150
CREATED:20240116T025541Z
LAST-MODIFIED:20240116T025541Z
UID:12879-1714114800-1714114800@www.golfstlseniors.org
SUMMARY:D1  Wk 3    Acorns Golf Links
DESCRIPTION:Div1     – Apr 26    Split Tee Start  Acorns Golf Links    $
URL:https://www.golfstlseniors.org/event/d1-wk-3-acorns-golf-links/
LOCATION:Acorns Golf Links\, 3933 Ahne Rd\, Waterloo\, Illinois\, 62298\, United States
CATEGORIES:Div1
END:VEVENT
BEGIN:VEVENT
DTSTART;TZID=America/Chicago:20240425T073000
DTEND;TZID=America/Chicago:20240425T073000
DTSTAMP:20260425T064150
CREATED:20240116T030045Z
LAST-MODIFIED:20240116T030045Z
UID:12983-1714030200-1714030200@www.golfstlseniors.org
SUMMARY:D5  Wk 3    Florissant Golf Club
DESCRIPTION:Div5     – Apr 25    Split Tee Start  Florissant Golf Club    $
URL:https://www.golfstlseniors.org/event/d5-wk-3-florissant-golf-club/
LOCATION:Florissant Golf Club\, 50 Country Club Ln\, Florissant\, MO\, 63033\, United States
CATEGORIES:Div5
END:VEVENT
BEGIN:VEVENT
DTSTART;TZID=America/Chicago:20240425T073000
DTEND;TZID=America/Chicago:20240425T073000
DTSTAMP:20260425T064150
CREATED:20240116T025930Z
LAST-MODIFIED:20240116T025930Z
UID:12957-1714030200-1714030200@www.golfstlseniors.org
SUMMARY:D4  Wk 3    Wolf Hollow Golf Club
DESCRIPTION:Div4     – Apr 25    Split Tee Start  Wolf Hollow Golf Club    $
URL:https://www.golfstlseniors.org/event/d4-wk-3-wolf-hollow-golf-club/
LOCATION:Wolf Hollow Golf Club\, 4504 MO-100\, Labadie\, MO\, 63055\, United States
CATEGORIES:Div4
END:VEVENT
BEGIN:VEVENT
DTSTART;TZID=America/Chicago:20240425T070000
DTEND;TZID=America/Chicago:20240425T070000
DTSTAMP:20260425T064150
CREATED:20240116T025801Z
LAST-MODIFIED:20240116T025801Z
UID:12931-1714028400-1714028400@www.golfstlseniors.org
SUMMARY:D3  Wk 3    Falls Golf Club
DESCRIPTION:Div3     – Apr 25    Split Tee Start  Falls Golf Club    $42
URL:https://www.golfstlseniors.org/event/d3-wk-3-falls-golf-club/
LOCATION:Falls Golf Club\, 1170 Turtle Creek Dr\, O'Fallon\, MO\, 63366\, United States
CATEGORIES:Div3
END:VEVENT
BEGIN:VEVENT
DTSTART;TZID=America/Chicago:20240424T180000
DTEND;TZID=America/Chicago:20240424T180000
DTSTAMP:20260425T064150
CREATED:20231116T184404Z
LAST-MODIFIED:20231116T210454Z
UID:12459-1713981600-1713981600@www.golfstlseniors.org
SUMMARY:Lou Luketich Founders' Day Special Event Signup
DESCRIPTION:Signup for the Lou Luketich Founders’ Day Special Event will open up at 6 PM on Wednesday\, 24 April 2024
URL:https://www.golfstlseniors.org/event/lou-luketich-founders-day-special-event-signup/
LOCATION:Lake Forest Country Club\, 300 Yard Drive\, Lake St. Louis\, MO\, 63367\, United States
CATEGORIES:Special Event Tournaments
ORGANIZER;CN="Frank McLaughlin":MAILTO:fmmcl@hotmail.com
END:VEVENT
BEGIN:VEVENT
DTSTART;TZID=America/Chicago:20240419T073000
DTEND;TZID=America/Chicago:20240419T073000
DTSTAMP:20260425T064150
CREATED:20240116T025541Z
LAST-MODIFIED:20240116T025541Z
UID:12878-1713511800-1713511800@www.golfstlseniors.org
SUMMARY:D1  Wk 2    Links of Dardenne
DESCRIPTION:Div1     – Apr 19    Shotgun Start  Links of Dardenne    $
URL:https://www.golfstlseniors.org/event/d1-wk-2-links-of-dardenne/
LOCATION:Links of Dardenne\, 7000 Brassel Dr\, O'Fallon\, MO\, 63368\, United States
CATEGORIES:Div1
END:VEVENT
BEGIN:VEVENT
DTSTART;TZID=America/Chicago:20240419T070000
DTEND;TZID=America/Chicago:20240419T070000
DTSTAMP:20260425T064150
CREATED:20240116T025645Z
LAST-MODIFIED:20240116T025645Z
UID:12904-1713510000-1713510000@www.golfstlseniors.org
SUMMARY:D2  Wk 2    Golf Club of Wentzville
DESCRIPTION:Div2     – Apr 19    Split Tee Start  Golf Club of Wentzville    $
URL:https://www.golfstlseniors.org/event/d2-wk-2-golf-club-of-wentzville/
LOCATION:Golf Club of Wentzville\, 9 Pro Shop Dr\, Wentzville\, MO\, 63385\, United States
CATEGORIES:Div2
END:VEVENT
BEGIN:VEVENT
DTSTART;TZID=America/Chicago:20240418T073000
DTEND;TZID=America/Chicago:20240418T073000
DTSTAMP:20260425T064150
CREATED:20240116T025916Z
LAST-MODIFIED:20240118T172558Z
UID:12956-1713425400-1713425400@www.golfstlseniors.org
SUMMARY:D4  Wk 2    Spencer T Olin Golf Course
DESCRIPTION:Div4     – Apr 18    Split Tee Start  Spencer T Olin Golf Course    $36.95
URL:https://www.golfstlseniors.org/event/d4-wk-2-spencer-t-olin-golf-course/
LOCATION:Spencer T Olin Golf Course\, 4701 College Ave\, Alton\, IL\, 62002\, United States
CATEGORIES:Div4
END:VEVENT
BEGIN:VEVENT
DTSTART;TZID=America/Chicago:20240418T070000
DTEND;TZID=America/Chicago:20240418T070000
DTSTAMP:20260425T064150
CREATED:20240116T030045Z
LAST-MODIFIED:20240116T030045Z
UID:12982-1713423600-1713423600@www.golfstlseniors.org
SUMMARY:D5  Wk 2    Lockhaven Golf Club
DESCRIPTION:Div5     – Apr 18    Split Tee Start  Lockhaven Golf Club    $
URL:https://www.golfstlseniors.org/event/d5-wk-2-lockhaven-golf-club/
LOCATION:Lockhaven Golf Club\, 10872 Lawrence Keler Dr\, Godfrey\, IL\, 62035\, United States
CATEGORIES:Div5
END:VEVENT
BEGIN:VEVENT
DTSTART;TZID=America/Chicago:20240418T063000
DTEND;TZID=America/Chicago:20240418T063000
DTSTAMP:20260425T064150
CREATED:20240116T025801Z
LAST-MODIFIED:20240116T025801Z
UID:12930-1713421800-1713421800@www.golfstlseniors.org
SUMMARY:D3  Wk 2    Bear Creek Golf Club
DESCRIPTION:Div3     – Apr 18    Split Tee Start  Bear Creek Golf Club    $
URL:https://www.golfstlseniors.org/event/d3-wk-2-bear-creek-golf-club/
LOCATION:Bear Creek Golf Club\, 158 Bear Creek Dr\, Wentzville\, MO\, 63385\, United States
CATEGORIES:Div3
END:VEVENT
BEGIN:VEVENT
DTSTART;TZID=America/Chicago:20240412T080000
DTEND;TZID=America/Chicago:20240412T080000
DTSTAMP:20260425T064150
CREATED:20240116T025645Z
LAST-MODIFIED:20240116T025645Z
UID:12903-1712908800-1712908800@www.golfstlseniors.org
SUMMARY:D2  Wk 1    The Orchards GC
DESCRIPTION:Div2     – Apr 12    Split Tee Start  The Orchards GC    $
URL:https://www.golfstlseniors.org/event/d2-wk-1-the-orchards-gc/
LOCATION:The Orchards GC\, 1490 Golf Course Dr\, Belleville\, IL\, 62220\, United States
CATEGORIES:Div2
END:VEVENT
BEGIN:VEVENT
DTSTART;TZID=America/Chicago:20240412T080000
DTEND;TZID=America/Chicago:20240412T080000
DTSTAMP:20260425T064150
CREATED:20240116T025540Z
LAST-MODIFIED:20240116T025540Z
UID:12877-1712908800-1712908800@www.golfstlseniors.org
SUMMARY:D1  Wk 1    Columbia Golf Club
DESCRIPTION:Div1     – Apr 12    Shotgun Start  Columbia Golf Club    $34
URL:https://www.golfstlseniors.org/event/d1-wk-1-columbia-golf-club/
LOCATION:Columbia Golf Club\, 125 2770 N\, Columbia\, IL\, 62236\, United States
CATEGORIES:Div1
END:VEVENT
BEGIN:VEVENT
DTSTART;TZID=America/Chicago:20240411T073000
DTEND;TZID=America/Chicago:20240411T073000
DTSTAMP:20260425T064150
CREATED:20240116T030031Z
LAST-MODIFIED:20240116T030031Z
UID:12981-1712820600-1712820600@www.golfstlseniors.org
SUMMARY:D5  Wk 1    Wolf Hollow Golf Club
DESCRIPTION:Div5     – Apr 11    Split Tee Start  Wolf Hollow Golf Club    $
URL:https://www.golfstlseniors.org/event/d5-wk-1-wolf-hollow-golf-club/
LOCATION:Wolf Hollow Golf Club\, 4504 MO-100\, Labadie\, MO\, 63055\, United States
CATEGORIES:Div5
END:VEVENT
BEGIN:VEVENT
DTSTART;TZID=America/Chicago:20240411T073000
DTEND;TZID=America/Chicago:20240411T073000
DTSTAMP:20260425T064150
CREATED:20240116T025916Z
LAST-MODIFIED:20240118T163720Z
UID:12955-1712820600-1712820600@www.golfstlseniors.org
SUMMARY:D4  Wk 1    Acorns Golf Links
DESCRIPTION:Div4 – Apr 11 Split Tee Start Acorns Golf Links $30
URL:https://www.golfstlseniors.org/event/d4-wk-1-acorns-golf-links/
LOCATION:Acorns Golf Links\, 3933 Ahne Rd\, Waterloo\, Illinois\, 62298\, United States
CATEGORIES:Div4
END:VEVENT
BEGIN:VEVENT
DTSTART;TZID=America/Chicago:20240411T073000
DTEND;TZID=America/Chicago:20240411T073000
DTSTAMP:20260425T064150
CREATED:20240116T025800Z
LAST-MODIFIED:20240116T025800Z
UID:12929-1712820600-1712820600@www.golfstlseniors.org
SUMMARY:D3  Wk 1    Belk Park Golf Course
DESCRIPTION:Div3     – Apr 11    Split Tee Start  Belk Park Golf Course    $27
URL:https://www.golfstlseniors.org/event/d3-wk-1-belk-park-golf-course/
LOCATION:Belk Park Golf Course\, 880 Belk Park Rd\, Wood River\, Illinois\, 62095\, United States
CATEGORIES:Div3
END:VEVENT
BEGIN:VEVENT
DTSTART;TZID=America/Chicago:20240408T100000
DTEND;TZID=America/Chicago:20240408T160000
DTSTAMP:20260425T064150
CREATED:20231116T183817Z
LAST-MODIFIED:20231121T184149Z
UID:12451-1712570400-1712592000@www.golfstlseniors.org
SUMMARY:Find Your Swing Special Event
DESCRIPTION:The Find Your Swing Special Event will be held on Monday\, 8 April 2024 at the Franklin County Country Club.  The format is a 4-Person Scramble.  Lunch will be provided. \n\n\n\nNote: New Members are not eligible for this event because the event date is before the first weekly tournament.  It is not possible to establish a Handicap Index.
URL:https://www.golfstlseniors.org/event/find-your-swing-special-event-2/
LOCATION:Franklin County Country Club\, 6413 Country Club Rd\, Washington\, Missouri\, 63090
CATEGORIES:Special Event Tournaments
ORGANIZER;CN="Frank McLaughlin":MAILTO:fmmcl@hotmail.com
END:VEVENT
BEGIN:VEVENT
DTSTART;TZID=America/Chicago:20240320T180000
DTEND;TZID=America/Chicago:20240320T180000
DTSTAMP:20260425T064150
CREATED:20231116T182245Z
LAST-MODIFIED:20231121T184005Z
UID:12449-1710957600-1710957600@www.golfstlseniors.org
SUMMARY:Find Your Swing Special Event Signup
DESCRIPTION:Signup for the Find Your Swing Special Event will open up at 6 PM on Wednesday\, 20 March 2024 \n\n\n\nNote: New Members are not eligible for this event because the event date is before the first weekly tournament.  It is not possible to establish a Handicap Index.
URL:https://www.golfstlseniors.org/event/find-your-swing-special-event-signup/
LOCATION:Franklin County Country Club\, 6413 Country Club Road\, Washington\, MO\, 63090\, United States
CATEGORIES:Special Event Tournaments
ORGANIZER;CN="Frank McLaughlin":MAILTO:fmmcl@hotmail.com
END:VEVENT
BEGIN:VEVENT
DTSTART;TZID=America/Chicago:20240229T130000
DTEND;TZID=America/Chicago:20240229T150000
DTSTAMP:20260425T064150
CREATED:20240116T200304Z
LAST-MODIFIED:20240116T200307Z
UID:13028-1709211600-1709218800@www.golfstlseniors.org
SUMMARY:Metro Seniors General Membership Meeting
DESCRIPTION:The next General Membership Meeting will be held on Thursday\, 29 February 2024 from 1 pm to 3 pm.  The meeting will be held at the Kirkwood Community Center at 111 South Geyer Road\, Kirkwood\, MO 63122. \n\n\n\nThe meeting is open to all Metro Seniors members and will last about 1-2 hours.  Plenty of parking is available.
URL:https://www.golfstlseniors.org/event/metro-seniors-general-membership-meeting-2/
LOCATION:MO
END:VEVENT
BEGIN:VEVENT
DTSTART;TZID=America/Chicago:20240229T110000
DTEND;TZID=America/Chicago:20240229T130000
DTSTAMP:20260425T064150
CREATED:20240116T195702Z
LAST-MODIFIED:20240116T200906Z
UID:13024-1709204400-1709211600@www.golfstlseniors.org
SUMMARY:Metro Seniors Board Meeting
DESCRIPTION:The next Metro Seniors Board Meeting will be held on Thursday\, 29 February 2024 from 11 am to 1 pm.  The meeting will be held at the Kirkwood Community Center at 111 South Geyer Road\, Kirkwood\, MO 63122. \n\n\n\nBoard Meetings to be attended by Board of Governors\, Officers\, Committee Representatives and others by invitation or request by the President.
URL:https://www.golfstlseniors.org/event/metro-seniors-board-meeting/
LOCATION:MO
END:VEVENT
BEGIN:VEVENT
DTSTART;TZID=America/Chicago:20231106T120000
DTEND;TZID=America/Chicago:20231106T130000
DTSTAMP:20260425T064150
CREATED:20230917T191217Z
LAST-MODIFIED:20230917T191347Z
UID:12369-1699272000-1699275600@www.golfstlseniors.org
SUMMARY:Membership Meeting
DESCRIPTION:Membership Meeting
URL:https://www.golfstlseniors.org/event/membership-meeting/
LOCATION:Kirkwoood Community Center\, 111 S Geyer Road\, Kirkwood\, MO\, 63122\, United States
CATEGORIES:General Membership Meetings
END:VEVENT
END:VCALENDAR