BEGIN:VCALENDAR
VERSION:2.0
PRODID:-//Metro St. Louis Seniors Golf - ECPv6.15.20//NONSGML v1.0//EN
CALSCALE:GREGORIAN
METHOD:PUBLISH
X-WR-CALNAME:Metro St. Louis Seniors Golf
X-ORIGINAL-URL:https://www.golfstlseniors.org
X-WR-CALDESC:Events for Metro St. Louis Seniors Golf
REFRESH-INTERVAL;VALUE=DURATION:PT1H
X-Robots-Tag:noindex
X-PUBLISHED-TTL:PT1H
BEGIN:VTIMEZONE
TZID:America/Chicago
BEGIN:DAYLIGHT
TZOFFSETFROM:-0600
TZOFFSETTO:-0500
TZNAME:CDT
DTSTART:20250309T080000
END:DAYLIGHT
BEGIN:STANDARD
TZOFFSETFROM:-0500
TZOFFSETTO:-0600
TZNAME:CST
DTSTART:20251102T070000
END:STANDARD
BEGIN:DAYLIGHT
TZOFFSETFROM:-0600
TZOFFSETTO:-0500
TZNAME:CDT
DTSTART:20260308T080000
END:DAYLIGHT
BEGIN:STANDARD
TZOFFSETFROM:-0500
TZOFFSETTO:-0600
TZNAME:CST
DTSTART:20261101T070000
END:STANDARD
BEGIN:DAYLIGHT
TZOFFSETFROM:-0600
TZOFFSETTO:-0500
TZNAME:CDT
DTSTART:20270314T080000
END:DAYLIGHT
BEGIN:STANDARD
TZOFFSETFROM:-0500
TZOFFSETTO:-0600
TZNAME:CST
DTSTART:20271107T070000
END:STANDARD
END:VTIMEZONE
BEGIN:VEVENT
DTSTART;TZID=America/Chicago:20260907T190000
DTEND;TZID=America/Chicago:20260907T190000
DTSTAMP:20260423T165300
CREATED:20260325T141330Z
LAST-MODIFIED:20260325T141331Z
UID:15056-1788807600-1788807600@www.golfstlseniors.org
SUMMARY:Sunset Hills CC Metro Plus Signup
DESCRIPTION:Signup for Sunset Hills CC Metro Plus will open up at 7:00 PM on Monday 7 September 2026.
URL:https://www.golfstlseniors.org/event/sunset-hills-cc-metro-plus-signup-3/
LOCATION:Sunset Hills Country Club\, 2525 S State Rte 157\, Edwardsville\, IL\, 62025\, United States
ORGANIZER;CN="Wayne Kaiser":MAILTO:wkaiser1975@gmail.com
END:VEVENT
BEGIN:VEVENT
DTSTART;TZID=America/Chicago:20260921T090000
DTEND;TZID=America/Chicago:20260921T130000
DTSTAMP:20260423T165300
CREATED:20260325T141147Z
LAST-MODIFIED:20260325T141148Z
UID:15054-1789981200-1789995600@www.golfstlseniors.org
SUMMARY:Metro Plus - St Clair Country Club
DESCRIPTION:The Metro Plus event at Sunset Hills Country Club will be held on Monday\, 21 September 2026 at 9:00 AM. It will be a Shotgun Start. Tournament Director is Wayne Kaiser.
URL:https://www.golfstlseniors.org/event/metro-plus-st-clair-country-club-7/
LOCATION:Sunset Hills Country Club\, 2525 S State Rte 157\, Edwardsville\, IL\, 62025\, United States
ORGANIZER;CN="Wayne Kaiser":MAILTO:wkaiser1975@gmail.com
END:VEVENT
BEGIN:VEVENT
DTSTART;TZID=America/Chicago:20260928T090000
DTEND;TZID=America/Chicago:20260928T130000
DTSTAMP:20260423T165300
CREATED:20260324T144705Z
LAST-MODIFIED:20260324T144707Z
UID:14991-1790586000-1790600400@www.golfstlseniors.org
SUMMARY:Last Chance Special Event
DESCRIPTION:The Last Chance Special Event will be held on Monday\, 28 September 2026 at the Cardinal Creek Golf Club.  The format will be a 2-Person Ryder Cup.  Lunch will be provided.
URL:https://www.golfstlseniors.org/event/last-chance-special-event-3/
LOCATION:Cardinal Creek Golf Club\, 1192 Golf Course Rd\, Scott AFB\, IL\, 62225\, United States
ORGANIZER;CN="Joe Lerch":MAILTO:jlwc@sbcglobal.net
END:VEVENT
BEGIN:VEVENT
DTSTART;TZID=America/Chicago:20261005T190000
DTEND;TZID=America/Chicago:20261005T190000
DTSTAMP:20260423T165300
CREATED:20260325T141936Z
LAST-MODIFIED:20260325T141937Z
UID:15063-1791226800-1791226800@www.golfstlseniors.org
SUMMARY:The Legends CC Metro Plus Signup
DESCRIPTION:Signup for The Legends CC Metro Plus will open up at 7:00 PM on Monday\, 5 October 2026.
URL:https://www.golfstlseniors.org/event/the-legends-cc-metro-plus-signup/
LOCATION:The Legends Country Club\, 625 The Legends Pkwy\, Eureka\, MO\, 63025\, United States
ORGANIZER;CN="Bob Zaruba":MAILTO:zubie27@yahoo.com
END:VEVENT
BEGIN:VEVENT
DTSTART;TZID=America/Chicago:20261019T090000
DTEND;TZID=America/Chicago:20261019T130000
DTSTAMP:20260423T165300
CREATED:20260325T141749Z
LAST-MODIFIED:20260325T175147Z
UID:15058-1792400400-1792414800@www.golfstlseniors.org
SUMMARY:Metro Plus - The Legends Country Club
DESCRIPTION:The Metro Plus event at The Legends Country Club will be held on Monday\, 19 October 2026 at 9:00 AM. It will be a Shotgun Start. Tournament Director is Bob Zaruba.
URL:https://www.golfstlseniors.org/event/metro-plus-the-legends-country-clut/
LOCATION:The Legends Country Club\, 625 The Legends Pkwy\, Eureka\, MO\, 63025\, United States
ORGANIZER;CN="Bob Zaruba":MAILTO:zubie27@yahoo.com
END:VEVENT
END:VCALENDAR