BEGIN:VCALENDAR
VERSION:2.0
PRODID:-//Metro St. Louis Seniors Golf - ECPv6.15.20//NONSGML v1.0//EN
CALSCALE:GREGORIAN
METHOD:PUBLISH
X-WR-CALNAME:Metro St. Louis Seniors Golf
X-ORIGINAL-URL:https://www.golfstlseniors.org
X-WR-CALDESC:Events for Metro St. Louis Seniors Golf
REFRESH-INTERVAL;VALUE=DURATION:PT1H
X-Robots-Tag:noindex
X-PUBLISHED-TTL:PT1H
BEGIN:VTIMEZONE
TZID:America/Chicago
BEGIN:DAYLIGHT
TZOFFSETFROM:-0600
TZOFFSETTO:-0500
TZNAME:CDT
DTSTART:20210314T080000
END:DAYLIGHT
BEGIN:STANDARD
TZOFFSETFROM:-0500
TZOFFSETTO:-0600
TZNAME:CST
DTSTART:20211107T070000
END:STANDARD
BEGIN:DAYLIGHT
TZOFFSETFROM:-0600
TZOFFSETTO:-0500
TZNAME:CDT
DTSTART:20220313T080000
END:DAYLIGHT
BEGIN:STANDARD
TZOFFSETFROM:-0500
TZOFFSETTO:-0600
TZNAME:CST
DTSTART:20221106T070000
END:STANDARD
BEGIN:DAYLIGHT
TZOFFSETFROM:-0600
TZOFFSETTO:-0500
TZNAME:CDT
DTSTART:20230312T080000
END:DAYLIGHT
BEGIN:STANDARD
TZOFFSETFROM:-0500
TZOFFSETTO:-0600
TZNAME:CST
DTSTART:20231105T070000
END:STANDARD
BEGIN:DAYLIGHT
TZOFFSETFROM:-0600
TZOFFSETTO:-0500
TZNAME:CDT
DTSTART:20240310T080000
END:DAYLIGHT
BEGIN:STANDARD
TZOFFSETFROM:-0500
TZOFFSETTO:-0600
TZNAME:CST
DTSTART:20241103T070000
END:STANDARD
END:VTIMEZONE
BEGIN:VEVENT
DTSTART;TZID=America/Chicago:20230413T073000
DTEND;TZID=America/Chicago:20230413T073000
DTSTAMP:20260425T085638
CREATED:20230308T182608Z
LAST-MODIFIED:20230308T184629Z
UID:11476-1681371000-1681371000@www.golfstlseniors.org
SUMMARY:D3 Wk 1 WOLF HOLLOW
DESCRIPTION:Div 3 Wk 1    Split Tee #1 and #62    WOLF HOLLOW  $35
URL:https://www.golfstlseniors.org/event/d3-wk-1-wolf-hollow-3/
LOCATION:Wolf Hollow Golf Club\, 4504 MO-100\, Labadie\, MO\, 63055\, United States
CATEGORIES:Div3
END:VEVENT
BEGIN:VEVENT
DTSTART;TZID=America/Chicago:20230403T130000
DTEND;TZID=America/Chicago:20230403T130000
DTSTAMP:20260425T085638
CREATED:20230308T195258Z
LAST-MODIFIED:20230308T195258Z
UID:11810-1680526800-1680526800@www.golfstlseniors.org
SUMMARY:MP  #1  Winghaven
DESCRIPTION:MP  #1  Winghaven  $68
URL:https://www.golfstlseniors.org/event/mp-1-winghaven/
LOCATION:Winghaven Country Club\, 7777 WingHaven Boulevard\, O'Fallon\, MO\, 63368\, United States
CATEGORIES:MP
END:VEVENT
BEGIN:VEVENT
DTSTART;TZID=America/Chicago:20230306T120000
DTEND;TZID=America/Chicago:20230306T130000
DTSTAMP:20260425T085638
CREATED:20230124T191212Z
LAST-MODIFIED:20230216T141413Z
UID:11180-1678104000-1678107600@www.golfstlseniors.org
SUMMARY:Metro Seniors General Membership Meeting
DESCRIPTION:Kirkwood Community Center
URL:https://www.golfstlseniors.org/event/metro-seniors-general-membership-meeting/
LOCATION:MO
CATEGORIES:General Membership Meetings
ORGANIZER;CN="Dennis B Black":MAILTO:dbbegl@gmail.com
END:VEVENT
BEGIN:VEVENT
DTSTART;TZID=America/Chicago:20230109T100000
DTEND;TZID=America/Chicago:20230109T120000
DTSTAMP:20260425T085638
CREATED:20220120T193201Z
LAST-MODIFIED:20220120T193652Z
UID:9537-1673258400-1673265600@www.golfstlseniors.org
SUMMARY:Board of Directors Meeting January 2023
DESCRIPTION:
URL:https://www.golfstlseniors.org/event/board-of-directors-meeting-january-2023/
LOCATION:Kirkwoood Community Center\, 111 S Geyer Road\, Kirkwood\, MO\, 63122\, United States
CATEGORIES:Board Meetings
ORGANIZER;CN="Dennis B Black":MAILTO:dbbegl@gmail.com
END:VEVENT
BEGIN:VEVENT
DTSTART;TZID=America/Chicago:20221107T130000
DTEND;TZID=America/Chicago:20221107T140000
DTSTAMP:20260425T085638
CREATED:20220307T070312Z
LAST-MODIFIED:20220117T202604Z
UID:9385-1667826000-1667829600@www.golfstlseniors.org
SUMMARY:General Membership Meeting November 7\, 2022
DESCRIPTION:
URL:https://www.golfstlseniors.org/event/general-membership-meeting-march-7th-2022/
LOCATION:Kirkwoood Community Center\, 111 S Geyer Road\, Kirkwood\, MO\, 63122\, United States
CATEGORIES:General Membership Meetings
ORGANIZER;CN="Dennis B Black":MAILTO:dbbegl@gmail.com
END:VEVENT
BEGIN:VEVENT
DTSTART;TZID=America/Chicago:20221107T100000
DTEND;TZID=America/Chicago:20221107T120000
DTSTAMP:20260425T085638
CREATED:20211229T224349Z
LAST-MODIFIED:20220129T193520Z
UID:9396-1667815200-1667822400@www.golfstlseniors.org
SUMMARY:Board Meeting November 7\, 2022
DESCRIPTION:
URL:https://www.golfstlseniors.org/event/board-meeting-2/
LOCATION:Kirkwoood Community Center\, 111 S Geyer Road\, Kirkwood\, MO\, 63122\, United States
CATEGORIES:Board Meetings
ORGANIZER;CN="Dennis B Black":MAILTO:dbbegl@gmail.com
END:VEVENT
BEGIN:VEVENT
DTSTART;TZID=America/Chicago:20221007T080000
DTEND;TZID=America/Chicago:20221007T080000
DTSTAMP:20260425T085638
CREATED:20220308T212906Z
LAST-MODIFIED:20220308T214958Z
UID:9787-1665129600-1665129600@www.golfstlseniors.org
SUMMARY:D2 Wk 26 COLUMBIA BRIDGES
DESCRIPTION:Div 2 Wk 26    Split Tee #1 and #10   COLUMBIA BRIDGES
URL:https://www.golfstlseniors.org/event/d2-wk-26-columbia-bridges-2/
LOCATION:Columbia Bridges Golf Club\, 1655 Columbia Bridges Rd\, Columbia\, IL\, 62236\, United States
CATEGORIES:Div2
END:VEVENT
BEGIN:VEVENT
DTSTART;TZID=America/Chicago:20221006T080000
DTEND;TZID=America/Chicago:20221006T080000
DTSTAMP:20260425T085638
CREATED:20220308T213020Z
LAST-MODIFIED:20220308T215113Z
UID:9813-1665043200-1665043200@www.golfstlseniors.org
SUMMARY:D3 Wk 26 COLUMBIA
DESCRIPTION:Div 3 Wk 26    Shotgun   COLUMBIA
URL:https://www.golfstlseniors.org/event/d3-wk-26-columbia-2/
LOCATION:Columbia Golf Club\, 125 2770 N\, Columbia\, IL\, 62236\, United States
CATEGORIES:Div3
END:VEVENT
BEGIN:VEVENT
DTSTART;TZID=America/Chicago:20221006T073000
DTEND;TZID=America/Chicago:20221006T073000
DTSTAMP:20260425T085638
CREATED:20220308T213251Z
LAST-MODIFIED:20220308T215344Z
UID:9865-1665041400-1665041400@www.golfstlseniors.org
SUMMARY:D5 Wk 26 LINKS @ DARDENNE
DESCRIPTION:Div 5 Wk 14    Shotgun   LINKS @ DARDENNE
URL:https://www.golfstlseniors.org/event/d5-wk-26-links-dardenne-2/
LOCATION:Links of Dardenne\, 7000 Brassel Dr\, O'Fallon\, MO\, 63368\, United States
CATEGORIES:Div5
END:VEVENT
BEGIN:VEVENT
DTSTART;TZID=America/Chicago:20221006T073000
DTEND;TZID=America/Chicago:20221006T073000
DTSTAMP:20260425T085638
CREATED:20220308T213139Z
LAST-MODIFIED:20220308T215228Z
UID:9839-1665041400-1665041400@www.golfstlseniors.org
SUMMARY:D4 Wk 26 WOODLANDS
DESCRIPTION:Div 4 Wk 26    Split Tee #1 and #10   WOODLANDS
URL:https://www.golfstlseniors.org/event/d4-wk-26-woodlands-2/
LOCATION:Woodlands Golf Club\, 2839 Harris Ln\, Alton\, IL\, 62002\, United States
CATEGORIES:Div4
END:VEVENT
BEGIN:VEVENT
DTSTART;TZID=America/Chicago:20221003T100000
DTEND;TZID=America/Chicago:20221003T100000
DTSTAMP:20260425T085638
CREATED:20220309T143326Z
LAST-MODIFIED:20220309T145429Z
UID:10046-1664791200-1664791200@www.golfstlseniors.org
SUMMARY:Metro-Plus Sunset Hills Country Club
DESCRIPTION:Metro-Plus – Shotgun Start – Limited to 96 Players
URL:https://www.golfstlseniors.org/event/metro-plus-sunset-hills-country-club-3/
LOCATION:Sunset Hills Country Club\, 2525 S State Rte 157\, Edwardsville\, IL\, 62025\, United States
CATEGORIES:M-P
END:VEVENT
BEGIN:VEVENT
DTSTART;TZID=America/Chicago:20220930T073000
DTEND;TZID=America/Chicago:20220930T073000
DTSTAMP:20260425T085638
CREATED:20220308T212905Z
LAST-MODIFIED:20220308T214958Z
UID:9786-1664523000-1664523000@www.golfstlseniors.org
SUMMARY:D2 Wk 25 INNSBROOK
DESCRIPTION:Div 2 Wk 25    Split Tee #1 and #10   INNSBROOK
URL:https://www.golfstlseniors.org/event/d2-wk-25-innsbrook-2/
LOCATION:Innsbrook Golf Course\, 1 Aspen Way Dr\, Innsbrook\, MO\, 63390\, United States
CATEGORIES:Div2
END:VEVENT
BEGIN:VEVENT
DTSTART;TZID=America/Chicago:20220929T073000
DTEND;TZID=America/Chicago:20220929T073000
DTSTAMP:20260425T085638
CREATED:20220308T213251Z
LAST-MODIFIED:20220308T215344Z
UID:9864-1664436600-1664436600@www.golfstlseniors.org
SUMMARY:D5 Wk 25 WENTZVILLE
DESCRIPTION:Div 5 Wk 26    Split Tee #1 and #10   WENTZVILLE
URL:https://www.golfstlseniors.org/event/d5-wk-25-wentzville-2/
LOCATION:Golf Club of Wentzville\, 9 Pro Shop Dr\, Wentzville\, MO\, 63385\, United States
CATEGORIES:Div5
END:VEVENT
BEGIN:VEVENT
DTSTART;TZID=America/Chicago:20220929T073000
DTEND;TZID=America/Chicago:20220929T073000
DTSTAMP:20260425T085638
CREATED:20220308T213020Z
LAST-MODIFIED:20220308T215113Z
UID:9812-1664436600-1664436600@www.golfstlseniors.org
SUMMARY:D3 Wk 25 MYSTIC OAKS
DESCRIPTION:Div 3 Wk 25    Split Tee #1 and #10   MYSTIC OAKS
URL:https://www.golfstlseniors.org/event/d3-wk-25-mystic-oaks/
LOCATION:Mystic Oaks Golf Course\, 643 Ridge Rd\, Waterloo\, IL\, 62298\, United States
CATEGORIES:Div3
END:VEVENT
BEGIN:VEVENT
DTSTART;TZID=America/Chicago:20220929T070000
DTEND;TZID=America/Chicago:20220929T070000
DTSTAMP:20260425T085638
CREATED:20220308T213138Z
LAST-MODIFIED:20220308T215228Z
UID:9838-1664434800-1664434800@www.golfstlseniors.org
SUMMARY:D4 Wk 25 EAGLE SPRINGS
DESCRIPTION:Div 4 Wk 25    Split Tee #1 and #10   EAGLE SPRINGS
URL:https://www.golfstlseniors.org/event/d4-wk-25-eagle-springs-2/
LOCATION:Eagle Springs Golf Course\, 2575 Redman Rd\, St. Louis\, MO\, 63136\, United States
CATEGORIES:Div4
END:VEVENT
BEGIN:VEVENT
DTSTART;TZID=America/Chicago:20220926T090000
DTEND;TZID=America/Chicago:20220926T090000
DTSTAMP:20260425T085638
CREATED:20220309T143326Z
LAST-MODIFIED:20220309T145357Z
UID:10045-1664182800-1664182800@www.golfstlseniors.org
SUMMARY:Metro-Plus Glen Echo Country Club
DESCRIPTION:Metro-Plus – Shotgun Start
URL:https://www.golfstlseniors.org/event/metro-plus-glen-echo-country-club-5/
LOCATION:Glen Echo Country Club\, 3401 Lucas and Hunt Road\,\, St. Louis\, MO\, 63121\, United States
CATEGORIES:M-P
ORGANIZER;CN="Bill Molz":MAILTO:wfmolz@yahoo.com
END:VEVENT
BEGIN:VEVENT
DTSTART;TZID=America/Chicago:20220923T073000
DTEND;TZID=America/Chicago:20220923T073000
DTSTAMP:20260425T085638
CREATED:20220308T212851Z
LAST-MODIFIED:20220308T214943Z
UID:9785-1663918200-1663918200@www.golfstlseniors.org
SUMMARY:D2 Wk 24 WOODS FORT
DESCRIPTION:Div 2 Wk 24    Split Tee #1 and #10   WOODS FORT
URL:https://www.golfstlseniors.org/event/d2-wk-24-woods-fort/
LOCATION:Woods Fort Golf Course\, 1 Country Club Dr\, Troy\, MO\, 63379\, United States
CATEGORIES:Div2
END:VEVENT
BEGIN:VEVENT
DTSTART;TZID=America/Chicago:20220922T073000
DTEND;TZID=America/Chicago:20220922T073000
DTSTAMP:20260425T085638
CREATED:20220308T213137Z
LAST-MODIFIED:20220308T215228Z
UID:9837-1663831800-1663831800@www.golfstlseniors.org
SUMMARY:D4 Wk 24 SPENCER T OLIN #1
DESCRIPTION:Div 4 Wk 24    Split Tee #1 and #10   SPENCER T OLIN #1
URL:https://www.golfstlseniors.org/event/d4-wk-24-spencer-t-olin-1/
LOCATION:Spencer T Olin Golf Course\, 4701 College Ave\, Alton\, IL\, 62002\, United States
CATEGORIES:Div4
END:VEVENT
BEGIN:VEVENT
DTSTART;TZID=America/Chicago:20220922T073000
DTEND;TZID=America/Chicago:20220922T073000
DTSTAMP:20260425T085638
CREATED:20220308T213019Z
LAST-MODIFIED:20220308T215113Z
UID:9811-1663831800-1663831800@www.golfstlseniors.org
SUMMARY:D3 Wk 24 INNSBROOK
DESCRIPTION:Div 3 Wk 24    Split Tee #1 and #10   INNSBROOK
URL:https://www.golfstlseniors.org/event/d3-wk-24-innsbrook-2/
LOCATION:Innsbrook Golf Course\, 1 Aspen Way Dr\, Innsbrook\, MO\, 63390\, United States
CATEGORIES:Div3
END:VEVENT
BEGIN:VEVENT
DTSTART;TZID=America/Chicago:20220922T070000
DTEND;TZID=America/Chicago:20220922T070000
DTSTAMP:20260425T085638
CREATED:20220308T213250Z
LAST-MODIFIED:20220308T215344Z
UID:9863-1663830000-1663830000@www.golfstlseniors.org
SUMMARY:D5 Wk 24 FAR OAKS
DESCRIPTION:Div 5 Wk 25    Split Tee #1 and #10   FAR OAKS
URL:https://www.golfstlseniors.org/event/d5-wk-24-far-oaks/
LOCATION:Far Oaks Golf Club\, 419 Old Collinsville Rd\, Caseyville\, IL\, 62232\, United States
CATEGORIES:Div5
END:VEVENT
BEGIN:VEVENT
DTSTART;TZID=America/Chicago:20220919T083000
DTEND;TZID=America/Chicago:20220919T143000
DTSTAMP:20260425T085638
CREATED:20220308T224702Z
LAST-MODIFIED:20220828T161730Z
UID:10025-1663576200-1663597800@www.golfstlseniors.org
SUMMARY:Championship
DESCRIPTION:Metro Seniors Championship
URL:https://www.golfstlseniors.org/event/championship/
LOCATION:Crystal Highlands GC\, 3030 US-61\, Festus\, MO\, 63028\, United States
END:VEVENT
BEGIN:VEVENT
DTSTART;TZID=America/Chicago:20220916T073000
DTEND;TZID=America/Chicago:20220916T073000
DTSTAMP:20260425T085638
CREATED:20220308T212851Z
LAST-MODIFIED:20220308T214943Z
UID:9784-1663313400-1663313400@www.golfstlseniors.org
SUMMARY:D2 Wk 23 BELK PARK
DESCRIPTION:Div 2 Wk 23    Split Tee #1 and #10   BELK PARK
URL:https://www.golfstlseniors.org/event/d2-wk-23-belk-park-2/
LOCATION:Belk Park Golf Course\, 880 Belk Park Rd\, Wood River\, Illinois\, 62095\, United States
CATEGORIES:Div2
END:VEVENT
BEGIN:VEVENT
DTSTART;TZID=America/Chicago:20220915T073000
DTEND;TZID=America/Chicago:20220915T073000
DTSTAMP:20260425T085638
CREATED:20220308T213250Z
LAST-MODIFIED:20220308T215344Z
UID:9862-1663227000-1663227000@www.golfstlseniors.org
SUMMARY:D5 Wk 23 COLUMBIA BRIDGES
DESCRIPTION:Div 5 Wk 24    Split Tee #1 and #10   COLUMBIA BRIDGES
URL:https://www.golfstlseniors.org/event/d5-wk-23-columbia-bridges/
LOCATION:Columbia Bridges Golf Club\, 1655 Columbia Bridges Rd\, Columbia\, IL\, 62236\, United States
CATEGORIES:Div5
END:VEVENT
BEGIN:VEVENT
DTSTART;TZID=America/Chicago:20220915T073000
DTEND;TZID=America/Chicago:20220915T073000
DTSTAMP:20260425T085638
CREATED:20220308T213006Z
LAST-MODIFIED:20220308T215058Z
UID:9810-1663227000-1663227000@www.golfstlseniors.org
SUMMARY:D3 Wk 23 LOCKHAVEN
DESCRIPTION:Div 3 Wk 23    Split Tee #1 and #10   LOCKHAVEN
URL:https://www.golfstlseniors.org/event/d3-wk-23-lockhaven-2/
LOCATION:Lockhaven Golf Club\, 10872 Lawrence Keler Dr\, Godfrey\, IL\, 62035\, United States
CATEGORIES:Div3
END:VEVENT
BEGIN:VEVENT
DTSTART;TZID=America/Chicago:20220915T070000
DTEND;TZID=America/Chicago:20220915T070000
DTSTAMP:20260425T085638
CREATED:20220308T213137Z
LAST-MODIFIED:20220308T215228Z
UID:9836-1663225200-1663225200@www.golfstlseniors.org
SUMMARY:D4 Wk 23 ABERDEEN
DESCRIPTION:Div 4 Wk 23    Split Tee #1 and #10   ABERDEEN
URL:https://www.golfstlseniors.org/event/d4-wk-23-aberdeen-2/
LOCATION:Aberdeen Golf Club\, 4111 Crescent Rd\, Eureka\, MO\, 63025\, United States
CATEGORIES:Div4
END:VEVENT
BEGIN:VEVENT
DTSTART;TZID=America/Chicago:20220913T080000
DTEND;TZID=America/Chicago:20220913T140000
DTSTAMP:20260425T085638
CREATED:20220308T224330Z
LAST-MODIFIED:20220308T224333Z
UID:10021-1663056000-1663077600@www.golfstlseniors.org
SUMMARY:Special Event
DESCRIPTION:Last Chance – 4 Man Scramble
URL:https://www.golfstlseniors.org/event/special-event-6/
LOCATION:Pevely Farms GC\, 400 Lewis Rd\, Eureka\, Missouri\, 63025\, United States
END:VEVENT
BEGIN:VEVENT
DTSTART;TZID=America/Chicago:20220912T100000
DTEND;TZID=America/Chicago:20220912T120000
DTSTAMP:20260425T085638
CREATED:20220828T161600Z
LAST-MODIFIED:20220828T161601Z
UID:10811-1662976800-1662984000@www.golfstlseniors.org
SUMMARY:Board Meeting
DESCRIPTION:
URL:https://www.golfstlseniors.org/event/board-meeting-3/
LOCATION:MO
CATEGORIES:Board Meetings
ORGANIZER;CN="Dennis B Black":MAILTO:dbbegl@gmail.com
END:VEVENT
BEGIN:VEVENT
DTSTART;TZID=America/Chicago:20220909T073000
DTEND;TZID=America/Chicago:20220909T073000
DTSTAMP:20260425T085638
CREATED:20220308T212851Z
LAST-MODIFIED:20220308T214943Z
UID:9783-1662708600-1662708600@www.golfstlseniors.org
SUMMARY:D2 Wk 22 OAK VALLEY
DESCRIPTION:Div 2 Wk 22    Split Tee #1 and #10   OAK VALLEY
URL:https://www.golfstlseniors.org/event/d2-wk-22-oak-valley-2/
LOCATION:Oak Valley Golf Course\, 1230 Abbey Ln\, Pevely\, MO\, 63070\, United States
CATEGORIES:Div2
END:VEVENT
BEGIN:VEVENT
DTSTART;TZID=America/Chicago:20220908T080000
DTEND;TZID=America/Chicago:20220908T080000
DTSTAMP:20260425T085638
CREATED:20220308T213126Z
LAST-MODIFIED:20220308T215213Z
UID:9835-1662624000-1662624000@www.golfstlseniors.org
SUMMARY:D4 Wk 22 COLUMBIA
DESCRIPTION:Div 4 Wk 22    Shotgun   COLUMBIA
URL:https://www.golfstlseniors.org/event/d4-wk-22-columbia-2/
LOCATION:Columbia Golf Club\, 125 2770 N\, Columbia\, IL\, 62236\, United States
CATEGORIES:Div4
END:VEVENT
BEGIN:VEVENT
DTSTART;TZID=America/Chicago:20220908T070000
DTEND;TZID=America/Chicago:20220908T070000
DTSTAMP:20260425T085638
CREATED:20220308T213250Z
LAST-MODIFIED:20220308T215344Z
UID:9861-1662620400-1662620400@www.golfstlseniors.org
SUMMARY:D5 Wk 22 FORE HONOR-deer creek
DESCRIPTION:Div 5 Wk 23    Split Tee #1 and #10   FORE HONOR-deer creek
URL:https://www.golfstlseniors.org/event/d5-wk-22-fore-honor-deer-creek/
LOCATION:MO
CATEGORIES:Div5
END:VEVENT
END:VCALENDAR