BEGIN:VCALENDAR
VERSION:2.0
PRODID:-//Metro St. Louis Seniors Golf - ECPv6.15.20//NONSGML v1.0//EN
CALSCALE:GREGORIAN
METHOD:PUBLISH
X-WR-CALNAME:Metro St. Louis Seniors Golf
X-ORIGINAL-URL:https://www.golfstlseniors.org
X-WR-CALDESC:Events for Metro St. Louis Seniors Golf
REFRESH-INTERVAL;VALUE=DURATION:PT1H
X-Robots-Tag:noindex
X-PUBLISHED-TTL:PT1H
BEGIN:VTIMEZONE
TZID:America/Chicago
BEGIN:DAYLIGHT
TZOFFSETFROM:-0600
TZOFFSETTO:-0500
TZNAME:CDT
DTSTART:20210314T080000
END:DAYLIGHT
BEGIN:STANDARD
TZOFFSETFROM:-0500
TZOFFSETTO:-0600
TZNAME:CST
DTSTART:20211107T070000
END:STANDARD
BEGIN:DAYLIGHT
TZOFFSETFROM:-0600
TZOFFSETTO:-0500
TZNAME:CDT
DTSTART:20220313T080000
END:DAYLIGHT
BEGIN:STANDARD
TZOFFSETFROM:-0500
TZOFFSETTO:-0600
TZNAME:CST
DTSTART:20221106T070000
END:STANDARD
BEGIN:DAYLIGHT
TZOFFSETFROM:-0600
TZOFFSETTO:-0500
TZNAME:CDT
DTSTART:20230312T080000
END:DAYLIGHT
BEGIN:STANDARD
TZOFFSETFROM:-0500
TZOFFSETTO:-0600
TZNAME:CST
DTSTART:20231105T070000
END:STANDARD
END:VTIMEZONE
BEGIN:VEVENT
DTSTART;TZID=America/Chicago:20220811T073000
DTEND;TZID=America/Chicago:20220811T073000
DTSTAMP:20260425T112418
CREATED:20220308T213122Z
LAST-MODIFIED:20220308T215213Z
UID:9831-1660203000-1660203000@www.golfstlseniors.org
SUMMARY:D4 Wk 18 LINKS @ DARDENNE
DESCRIPTION:Div 4 Wk 18    Shotgunt   LINKS @ DARDENNE
URL:https://www.golfstlseniors.org/event/d4-wk-18-links-dardenne-2/
LOCATION:Links of Dardenne\, 7000 Brassel Dr\, O'Fallon\, MO\, 63368\, United States
CATEGORIES:Div4
END:VEVENT
BEGIN:VEVENT
DTSTART;TZID=America/Chicago:20220811T063000
DTEND;TZID=America/Chicago:20220811T063000
DTSTAMP:20260425T112418
CREATED:20220308T212952Z
LAST-MODIFIED:20220308T215043Z
UID:9805-1660199400-1660199400@www.golfstlseniors.org
SUMMARY:D3 Wk 18 FAR OAKS
DESCRIPTION:Div 3 Wk 18    Split Tee #1 and #10   FAR OAKS
URL:https://www.golfstlseniors.org/event/d3-wk-18-far-oaks-2/
LOCATION:Far Oaks Golf Club\, 419 Old Collinsville Rd\, Caseyville\, IL\, 62232\, United States
CATEGORIES:Div3
END:VEVENT
BEGIN:VEVENT
DTSTART;TZID=America/Chicago:20220805T070000
DTEND;TZID=America/Chicago:20220805T070000
DTSTAMP:20260425T112418
CREATED:20220308T212835Z
LAST-MODIFIED:20220308T214928Z
UID:9778-1659682800-1659682800@www.golfstlseniors.org
SUMMARY:D2 Wk 17 WENTZVILLE
DESCRIPTION:Div 2 Wk 17    Split Tee #1 and #10   WENTZVILLE
URL:https://www.golfstlseniors.org/event/d2-wk-17-wentzville-2/
LOCATION:Golf Club of Wentzville\, 9 Pro Shop Dr\, Wentzville\, MO\, 63385\, United States
CATEGORIES:Div2
END:VEVENT
BEGIN:VEVENT
DTSTART;TZID=America/Chicago:20220804T080000
DTEND;TZID=America/Chicago:20220804T080000
DTSTAMP:20260425T112418
CREATED:20220308T213235Z
LAST-MODIFIED:20220308T215328Z
UID:9856-1659600000-1659600000@www.golfstlseniors.org
SUMMARY:D5 Wk 17 CRESCENT FARMS
DESCRIPTION:Div 5 Wk 17    Split Tee #1 and #10   CRESCENT FARMS
URL:https://www.golfstlseniors.org/event/d5-wk-17-crescent-farms-2/
LOCATION:Crescent Farms\, 745 Lewis Rd\, Crescent\, MO\, 63025\, United States
CATEGORIES:Div5
END:VEVENT
BEGIN:VEVENT
DTSTART;TZID=America/Chicago:20220804T073000
DTEND;TZID=America/Chicago:20220804T073000
DTSTAMP:20260425T112418
CREATED:20220308T213105Z
LAST-MODIFIED:20220308T215159Z
UID:9830-1659598200-1659598200@www.golfstlseniors.org
SUMMARY:D4 Wk 17 MYSTIC OAKS
DESCRIPTION:Div 4 Wk 17    Split Tee #1 and #10   MYSTIC OAKS
URL:https://www.golfstlseniors.org/event/d4-wk-17-mystic-oaks/
LOCATION:Mystic Oaks Golf Course\, 643 Ridge Rd\, Waterloo\, IL\, 62298\, United States
CATEGORIES:Div4
END:VEVENT
BEGIN:VEVENT
DTSTART;TZID=America/Chicago:20220804T070000
DTEND;TZID=America/Chicago:20220804T070000
DTSTAMP:20260425T112418
CREATED:20220308T212951Z
LAST-MODIFIED:20220308T215043Z
UID:9804-1659596400-1659596400@www.golfstlseniors.org
SUMMARY:D3 Wk 17 FLORISSANT
DESCRIPTION:Div 3 Wk 17    Split Tee #1 and #10   FLORISSANT
URL:https://www.golfstlseniors.org/event/d3-wk-17-florissant-2/
LOCATION:Florissant Golf Club\, 50 Country Club Ln\, Florissant\, MO\, 63033\, United States
CATEGORIES:Div3
END:VEVENT
BEGIN:VEVENT
DTSTART;TZID=America/Chicago:20220802T073000
DTEND;TZID=America/Chicago:20220802T073000
DTSTAMP:20260425T112418
CREATED:20220309T143312Z
LAST-MODIFIED:20220309T145239Z
UID:10043-1659425400-1659425400@www.golfstlseniors.org
SUMMARY:Metro-Plus Old Hickory Golf Club
DESCRIPTION:Metro-Plus – Shotgun Start – Only Event Played on Tuesday
URL:https://www.golfstlseniors.org/event/metro-plus-old-hickory-golf-club-3/
LOCATION:Old Hickory Golf Club\, 1 Dye Club Drive\, St. Charles\, MO\, 63304\, United States
CATEGORIES:M-P
END:VEVENT
BEGIN:VEVENT
DTSTART;TZID=America/Chicago:20220729T070000
DTEND;TZID=America/Chicago:20220729T070000
DTSTAMP:20260425T112418
CREATED:20220308T212835Z
LAST-MODIFIED:20220308T214928Z
UID:9777-1659078000-1659078000@www.golfstlseniors.org
SUMMARY:D2 Wk 16 TAMARACK
DESCRIPTION:Div 2 Wk 16    Split Tee #1 and #10   TAMARACK
URL:https://www.golfstlseniors.org/event/d2-wk-16-tamarack/
LOCATION:Tamarack Golf Course\, 362 Tamarack Ln\, Shiloh\, IL\, 62269\, United States
CATEGORIES:Div2
END:VEVENT
BEGIN:VEVENT
DTSTART;TZID=America/Chicago:20220728T070000
DTEND;TZID=America/Chicago:20220728T070000
DTSTAMP:20260425T112418
CREATED:20220308T215159Z
LAST-MODIFIED:20220308T215159Z
UID:9961-1658991600-1658991600@www.golfstlseniors.org
SUMMARY:D4 Wk 16 SUGAR CREEK
DESCRIPTION:Div 4 Wk 16    Split Tee #1 and #10   LEGACY
URL:https://www.golfstlseniors.org/event/d4-wk-16-sugar-creek-2/
LOCATION:Sugar Creek Golf Course\, 4701 College Ave\, Alton\, IL\, 62002\, United States
CATEGORIES:Div4
END:VEVENT
BEGIN:VEVENT
DTSTART;TZID=America/Chicago:20220728T070000
DTEND;TZID=America/Chicago:20220728T070000
DTSTAMP:20260425T112418
CREATED:20220308T213227Z
LAST-MODIFIED:20220308T215314Z
UID:9855-1658991600-1658991600@www.golfstlseniors.org
SUMMARY:D5 Wk 16 WOLF HOLLOW
DESCRIPTION:Div 5 Wk 16    Split Tee #1 and #10   WOLF HOLLOW
URL:https://www.golfstlseniors.org/event/d5-wk-16-wolf-hollow-2/
LOCATION:Wolf Hollow Golf Club\, 4504 MO-100\, Labadie\, MO\, 63055\, United States
CATEGORIES:Div5
END:VEVENT
BEGIN:VEVENT
DTSTART;TZID=America/Chicago:20220728T063000
DTEND;TZID=America/Chicago:20220728T063000
DTSTAMP:20260425T112418
CREATED:20220308T215043Z
LAST-MODIFIED:20220308T215043Z
UID:9935-1658989800-1658989800@www.golfstlseniors.org
SUMMARY:D3 Wk 16 EAGLE SPRINGS
DESCRIPTION:Div 3 Wk 16    Split Tee #1 and #10   EAGLE SPRINGS
URL:https://www.golfstlseniors.org/event/d3-wk-16-eagle-springs-3/
LOCATION:Eagle Springs Golf Course\, 2575 Redman Rd\, St. Louis\, MO\, 63136\, United States
CATEGORIES:Div3
END:VEVENT
BEGIN:VEVENT
DTSTART;TZID=America/Chicago:20220725T080000
DTEND;TZID=America/Chicago:20220725T080000
DTSTAMP:20260425T112418
CREATED:20220309T143312Z
LAST-MODIFIED:20220309T145156Z
UID:10042-1658736000-1658736000@www.golfstlseniors.org
SUMMARY:Metro-Plus Persimmon Woods Golf Club
DESCRIPTION:Metro-Plus – Shotgun Start
URL:https://www.golfstlseniors.org/event/metro-plus-persimmon-woods-golf-club-3/
LOCATION:Persimmon Woods Golf Club\, 6401 Weldon Spring Pkwy\, Weldon Springs\, MO\, 63304\, United States
CATEGORIES:M-P
END:VEVENT
BEGIN:VEVENT
DTSTART;TZID=America/Chicago:20220722T070000
DTEND;TZID=America/Chicago:20220722T070000
DTSTAMP:20260425T112418
CREATED:20220308T212835Z
LAST-MODIFIED:20220308T214928Z
UID:9776-1658473200-1658473200@www.golfstlseniors.org
SUMMARY:D2 Wk 15 FLORISSANT
DESCRIPTION:Div 2 Wk 15    Split Tee #1 and #10   FLORISSANT
URL:https://www.golfstlseniors.org/event/d2-wk-15-florissant-2/
LOCATION:Florissant Golf Club\, 50 Country Club Ln\, Florissant\, MO\, 63033\, United States
CATEGORIES:Div2
END:VEVENT
BEGIN:VEVENT
DTSTART;TZID=America/Chicago:20220721T073000
DTEND;TZID=America/Chicago:20220721T073000
DTSTAMP:20260425T112418
CREATED:20220308T212951Z
LAST-MODIFIED:20220308T215043Z
UID:9802-1658388600-1658388600@www.golfstlseniors.org
SUMMARY:D3 Wk 15 COLUMBIA BRIDGES
DESCRIPTION:Div 3 Wk 15    Split Tee #1 and #10   COLUMBIA BRIDGES
URL:https://www.golfstlseniors.org/event/d3-wk-15-columbia-bridges-2/
LOCATION:Columbia Bridges Golf Club\, 1655 Columbia Bridges Rd\, Columbia\, IL\, 62236\, United States
CATEGORIES:Div3
END:VEVENT
BEGIN:VEVENT
DTSTART;TZID=America/Chicago:20220721T070000
DTEND;TZID=America/Chicago:20220721T070000
DTSTAMP:20260425T112418
CREATED:20220308T213226Z
LAST-MODIFIED:20220308T215314Z
UID:9854-1658386800-1658386800@www.golfstlseniors.org
SUMMARY:D5 Wk 15 SUGAR CREEK
DESCRIPTION:Div 5 Wk 15    Split Tee #1 and #10   LEGACY
URL:https://www.golfstlseniors.org/event/d5-wk-15-sugar-creek/
LOCATION:Sugar Creek Golf Course\, 4701 College Ave\, Alton\, IL\, 62002\, United States
CATEGORIES:Div5
END:VEVENT
BEGIN:VEVENT
DTSTART;TZID=America/Chicago:20220721T070000
DTEND;TZID=America/Chicago:20220721T070000
DTSTAMP:20260425T112418
CREATED:20220308T213105Z
LAST-MODIFIED:20220308T215159Z
UID:9828-1658386800-1658386800@www.golfstlseniors.org
SUMMARY:D4 Wk 15 INNSBROOK
DESCRIPTION:Div 4 Wk 15    Split Tee #1 and #10   INNSBROOK
URL:https://www.golfstlseniors.org/event/d4-wk-15-innsbrook-2/
LOCATION:Innsbrook Golf Course\, 1 Aspen Way Dr\, Innsbrook\, MO\, 63390\, United States
CATEGORIES:Div4
END:VEVENT
BEGIN:VEVENT
DTSTART;TZID=America/Chicago:20220718T080000
DTEND;TZID=America/Chicago:20220718T080000
DTSTAMP:20260425T112418
CREATED:20220309T143312Z
LAST-MODIFIED:20220309T145041Z
UID:10041-1658131200-1658131200@www.golfstlseniors.org
SUMMARY:Metro-Plus Winghaven Country Club
DESCRIPTION:Metro-Plus – Shotgun Start
URL:https://www.golfstlseniors.org/event/metro-plus-winghaven-country-club-5/
LOCATION:Winghaven Country Club\, 7777 WingHaven Boulevard\, O'Fallon\, MO\, 63368\, United States
CATEGORIES:M-P
ORGANIZER;CN="Bill Molz":MAILTO:wfmolz@yahoo.com
END:VEVENT
BEGIN:VEVENT
DTSTART;TZID=America/Chicago:20220715T063000
DTEND;TZID=America/Chicago:20220715T063000
DTSTAMP:20260425T112418
CREATED:20220308T212821Z
LAST-MODIFIED:20220308T214913Z
UID:9775-1657866600-1657866600@www.golfstlseniors.org
SUMMARY:D2 Wk 14 ABERDEEN
DESCRIPTION:Div 2 Wk 14    Split Tee #1 and #10   ABERDEEN
URL:https://www.golfstlseniors.org/event/d2-wk-14-aberdeen-2/
LOCATION:Aberdeen Golf Club\, 4111 Crescent Rd\, Eureka\, MO\, 63025\, United States
CATEGORIES:Div2
END:VEVENT
BEGIN:VEVENT
DTSTART;TZID=America/Chicago:20220714T073000
DTEND;TZID=America/Chicago:20220714T073000
DTSTAMP:20260425T112418
CREATED:20220308T212950Z
LAST-MODIFIED:20220308T215043Z
UID:9801-1657783800-1657783800@www.golfstlseniors.org
SUMMARY:D3 Wk 14 LINKS @ DARDENNE
DESCRIPTION:Div 3 Wk 14    Shotgun   LINKS @ DARDENNE
URL:https://www.golfstlseniors.org/event/d3-wk-14-links-dardenne-2/
LOCATION:Links of Dardenne\, 7000 Brassel Dr\, O'Fallon\, MO\, 63368\, United States
CATEGORIES:Div3
END:VEVENT
BEGIN:VEVENT
DTSTART;TZID=America/Chicago:20220714T070000
DTEND;TZID=America/Chicago:20220714T070000
DTSTAMP:20260425T112418
CREATED:20220308T213224Z
LAST-MODIFIED:20220308T215314Z
UID:9853-1657782000-1657782000@www.golfstlseniors.org
SUMMARY:D5 Wk 14 SPENCER T OLIN #2
DESCRIPTION:Div 5 Wk 14    Split Tee #1 and #10   SPENCER T OLIN #2
URL:https://www.golfstlseniors.org/event/d5-wk-14-spencer-t-olin-2/
LOCATION:Spencer T Olin Golf Course\, 4701 College Ave\, Alton\, IL\, 62002\, United States
CATEGORIES:Div5
END:VEVENT
BEGIN:VEVENT
DTSTART;TZID=America/Chicago:20220714T070000
DTEND;TZID=America/Chicago:20220714T070000
DTSTAMP:20260425T112418
CREATED:20220308T213105Z
LAST-MODIFIED:20220308T215159Z
UID:9827-1657782000-1657782000@www.golfstlseniors.org
SUMMARY:D4 Wk 14 WOODS FORT
DESCRIPTION:Div 4 Wk 14    Split Tee #1 and #10   WOODS FORT
URL:https://www.golfstlseniors.org/event/d4-wk-14-woods-fort-2/
LOCATION:Woods Fort Golf Course\, 1 Country Club Dr\, Troy\, MO\, 63379\, United States
CATEGORIES:Div4
END:VEVENT
BEGIN:VEVENT
DTSTART;TZID=America/Chicago:20220711T080000
DTEND;TZID=America/Chicago:20220711T140000
DTSTAMP:20260425T112418
CREATED:20220308T223534Z
LAST-MODIFIED:20220308T223543Z
UID:10013-1657526400-1657548000@www.golfstlseniors.org
SUMMARY:Special Event
DESCRIPTION:Best Ball – 4 Man Best Ball
URL:https://www.golfstlseniors.org/event/special-event-4/
LOCATION:Cardinal Creek GC\, 1192 Golf Course Rd\, Scott AFB\, IL\, 62225\, United States
END:VEVENT
BEGIN:VEVENT
DTSTART;TZID=America/Chicago:20220708T073000
DTEND;TZID=America/Chicago:20220708T073000
DTSTAMP:20260425T112418
CREATED:20220308T212821Z
LAST-MODIFIED:20220308T214913Z
UID:9774-1657265400-1657265400@www.golfstlseniors.org
SUMMARY:D2 Wk 13 LINKS @ DARDENNE
DESCRIPTION:Div 2 Wk 13    Shotgun   LINKS @ DARDENNE
URL:https://www.golfstlseniors.org/event/d2-wk-13-links-dardenne-2/
LOCATION:Links of Dardenne\, 7000 Brassel Dr\, O'Fallon\, MO\, 63368\, United States
CATEGORIES:Div2
END:VEVENT
BEGIN:VEVENT
DTSTART;TZID=America/Chicago:20220707T070000
DTEND;TZID=America/Chicago:20220707T070000
DTSTAMP:20260425T112418
CREATED:20220308T213223Z
LAST-MODIFIED:20220308T215314Z
UID:9852-1657177200-1657177200@www.golfstlseniors.org
SUMMARY:D5 Wk 13 WOODLANDS
DESCRIPTION:Div 5 Wk 13    Split Tee #1 and #10   WOODLANDS
URL:https://www.golfstlseniors.org/event/d5-wk-13-woodlands-2/
LOCATION:Woodlands Golf Club\, 2839 Harris Ln\, Alton\, IL\, 62002\, United States
CATEGORIES:Div5
END:VEVENT
BEGIN:VEVENT
DTSTART;TZID=America/Chicago:20220707T070000
DTEND;TZID=America/Chicago:20220707T070000
DTSTAMP:20260425T112418
CREATED:20220308T213105Z
LAST-MODIFIED:20220308T215159Z
UID:9826-1657177200-1657177200@www.golfstlseniors.org
SUMMARY:D4 Wk 13 FORE HONOR-deer creek
DESCRIPTION:Div 4 Wk 13    Split Tee #1 and #10   FORE HONOR-deer creek
URL:https://www.golfstlseniors.org/event/d4-wk-13-fore-honor-deer-creek/
LOCATION:MO
CATEGORIES:Div4
END:VEVENT
BEGIN:VEVENT
DTSTART;TZID=America/Chicago:20220707T070000
DTEND;TZID=America/Chicago:20220707T070000
DTSTAMP:20260425T112418
CREATED:20220308T212940Z
LAST-MODIFIED:20220308T215028Z
UID:9800-1657177200-1657177200@www.golfstlseniors.org
SUMMARY:D3 Wk 13 OAK VALLEY
DESCRIPTION:Div 3 Wk 13    Split Tee #1 and #10   OAK VALLEY
URL:https://www.golfstlseniors.org/event/d3-wk-13-oak-valley-2/
LOCATION:Oak Valley Golf Course\, 1230 Abbey Ln\, Pevely\, MO\, 63070\, United States
CATEGORIES:Div3
END:VEVENT
BEGIN:VEVENT
DTSTART;TZID=America/Chicago:20220627T080000
DTEND;TZID=America/Chicago:20220627T080000
DTSTAMP:20260425T112418
CREATED:20220309T143311Z
LAST-MODIFIED:20220309T144627Z
UID:10040-1656316800-1656316800@www.golfstlseniors.org
SUMMARY:Metro-Plus Franklin County Country Club
DESCRIPTION:Metro-Plus – Shotgun Start
URL:https://www.golfstlseniors.org/event/metro-plus-franklin-county-country-club-3/
LOCATION:Franklin County Country Club\, 6413 Country Club Road\, Washington\, MO\, 63090\, United States
CATEGORIES:M-P
END:VEVENT
BEGIN:VEVENT
DTSTART;TZID=America/Chicago:20220624T070000
DTEND;TZID=America/Chicago:20220624T070000
DTSTAMP:20260425T112418
CREATED:20220308T212820Z
LAST-MODIFIED:20220308T214913Z
UID:9773-1656054000-1656054000@www.golfstlseniors.org
SUMMARY:D2 Wk 12 FORE HONOR-deer creek
DESCRIPTION:Div 2 Wk 12    Split Tee #1 and #10   FORE HONOR-deer creek
URL:https://www.golfstlseniors.org/event/d2-wk-12-fore-honor-deer-creek/
LOCATION:MO
CATEGORIES:Div2
END:VEVENT
BEGIN:VEVENT
DTSTART;TZID=America/Chicago:20220623T070000
DTEND;TZID=America/Chicago:20220623T070000
DTSTAMP:20260425T112418
CREATED:20220308T213222Z
LAST-MODIFIED:20220308T215314Z
UID:9851-1655967600-1655967600@www.golfstlseniors.org
SUMMARY:D5 Wk 12 TAMARACK
DESCRIPTION:Div 5 Wk 12    Split Tee #1 and #10   TAMARACK
URL:https://www.golfstlseniors.org/event/d5-wk-12-tamarack-2/
LOCATION:Tamarack Golf Course\, 362 Tamarack Ln\, Shiloh\, IL\, 62269\, United States
CATEGORIES:Div5
END:VEVENT
BEGIN:VEVENT
DTSTART;TZID=America/Chicago:20220623T070000
DTEND;TZID=America/Chicago:20220623T070000
DTSTAMP:20260425T112419
CREATED:20220308T212939Z
LAST-MODIFIED:20220308T215028Z
UID:9799-1655967600-1655967600@www.golfstlseniors.org
SUMMARY:D3 Wk 12 BELK PARK
DESCRIPTION:Div 3 Wk 12    Split Tee #1 and #10   BELK PARK
URL:https://www.golfstlseniors.org/event/d3-wk-12-belk-park-2/
LOCATION:Belk Park Golf Course\, 880 Belk Park Rd\, Wood River\, Illinois\, 62095\, United States
CATEGORIES:Div3
END:VEVENT
END:VCALENDAR