BEGIN:VCALENDAR
VERSION:2.0
PRODID:-//Metro St. Louis Seniors Golf - ECPv6.15.20//NONSGML v1.0//EN
CALSCALE:GREGORIAN
METHOD:PUBLISH
X-WR-CALNAME:Metro St. Louis Seniors Golf
X-ORIGINAL-URL:https://www.golfstlseniors.org
X-WR-CALDESC:Events for Metro St. Louis Seniors Golf
REFRESH-INTERVAL;VALUE=DURATION:PT1H
X-Robots-Tag:noindex
X-PUBLISHED-TTL:PT1H
BEGIN:VTIMEZONE
TZID:America/Chicago
BEGIN:DAYLIGHT
TZOFFSETFROM:-0600
TZOFFSETTO:-0500
TZNAME:CDT
DTSTART:20210314T080000
END:DAYLIGHT
BEGIN:STANDARD
TZOFFSETFROM:-0500
TZOFFSETTO:-0600
TZNAME:CST
DTSTART:20211107T070000
END:STANDARD
BEGIN:DAYLIGHT
TZOFFSETFROM:-0600
TZOFFSETTO:-0500
TZNAME:CDT
DTSTART:20220313T080000
END:DAYLIGHT
BEGIN:STANDARD
TZOFFSETFROM:-0500
TZOFFSETTO:-0600
TZNAME:CST
DTSTART:20221106T070000
END:STANDARD
BEGIN:DAYLIGHT
TZOFFSETFROM:-0600
TZOFFSETTO:-0500
TZNAME:CDT
DTSTART:20230312T080000
END:DAYLIGHT
BEGIN:STANDARD
TZOFFSETFROM:-0500
TZOFFSETTO:-0600
TZNAME:CST
DTSTART:20231105T070000
END:STANDARD
END:VTIMEZONE
BEGIN:VEVENT
DTSTART;TZID=America/Chicago:20220922T073000
DTEND;TZID=America/Chicago:20220922T073000
DTSTAMP:20260425T070540
CREATED:20220308T213137Z
LAST-MODIFIED:20220308T215228Z
UID:9837-1663831800-1663831800@www.golfstlseniors.org
SUMMARY:D4 Wk 24 SPENCER T OLIN #1
DESCRIPTION:Div 4 Wk 24    Split Tee #1 and #10   SPENCER T OLIN #1
URL:https://www.golfstlseniors.org/event/d4-wk-24-spencer-t-olin-1/
LOCATION:Spencer T Olin Golf Course\, 4701 College Ave\, Alton\, IL\, 62002\, United States
CATEGORIES:Div4
END:VEVENT
BEGIN:VEVENT
DTSTART;TZID=America/Chicago:20220922T073000
DTEND;TZID=America/Chicago:20220922T073000
DTSTAMP:20260425T070540
CREATED:20220308T213019Z
LAST-MODIFIED:20220308T215113Z
UID:9811-1663831800-1663831800@www.golfstlseniors.org
SUMMARY:D3 Wk 24 INNSBROOK
DESCRIPTION:Div 3 Wk 24    Split Tee #1 and #10   INNSBROOK
URL:https://www.golfstlseniors.org/event/d3-wk-24-innsbrook-2/
LOCATION:Innsbrook Golf Course\, 1 Aspen Way Dr\, Innsbrook\, MO\, 63390\, United States
CATEGORIES:Div3
END:VEVENT
BEGIN:VEVENT
DTSTART;TZID=America/Chicago:20220922T070000
DTEND;TZID=America/Chicago:20220922T070000
DTSTAMP:20260425T070540
CREATED:20220308T213250Z
LAST-MODIFIED:20220308T215344Z
UID:9863-1663830000-1663830000@www.golfstlseniors.org
SUMMARY:D5 Wk 24 FAR OAKS
DESCRIPTION:Div 5 Wk 25    Split Tee #1 and #10   FAR OAKS
URL:https://www.golfstlseniors.org/event/d5-wk-24-far-oaks/
LOCATION:Far Oaks Golf Club\, 419 Old Collinsville Rd\, Caseyville\, IL\, 62232\, United States
CATEGORIES:Div5
END:VEVENT
BEGIN:VEVENT
DTSTART;TZID=America/Chicago:20220919T083000
DTEND;TZID=America/Chicago:20220919T143000
DTSTAMP:20260425T070540
CREATED:20220308T224702Z
LAST-MODIFIED:20220828T161730Z
UID:10025-1663576200-1663597800@www.golfstlseniors.org
SUMMARY:Championship
DESCRIPTION:Metro Seniors Championship
URL:https://www.golfstlseniors.org/event/championship/
LOCATION:Crystal Highlands GC\, 3030 US-61\, Festus\, MO\, 63028\, United States
END:VEVENT
BEGIN:VEVENT
DTSTART;TZID=America/Chicago:20220916T073000
DTEND;TZID=America/Chicago:20220916T073000
DTSTAMP:20260425T070540
CREATED:20220308T212851Z
LAST-MODIFIED:20220308T214943Z
UID:9784-1663313400-1663313400@www.golfstlseniors.org
SUMMARY:D2 Wk 23 BELK PARK
DESCRIPTION:Div 2 Wk 23    Split Tee #1 and #10   BELK PARK
URL:https://www.golfstlseniors.org/event/d2-wk-23-belk-park-2/
LOCATION:Belk Park Golf Course\, 880 Belk Park Rd\, Wood River\, Illinois\, 62095\, United States
CATEGORIES:Div2
END:VEVENT
BEGIN:VEVENT
DTSTART;TZID=America/Chicago:20220915T073000
DTEND;TZID=America/Chicago:20220915T073000
DTSTAMP:20260425T070540
CREATED:20220308T213250Z
LAST-MODIFIED:20220308T215344Z
UID:9862-1663227000-1663227000@www.golfstlseniors.org
SUMMARY:D5 Wk 23 COLUMBIA BRIDGES
DESCRIPTION:Div 5 Wk 24    Split Tee #1 and #10   COLUMBIA BRIDGES
URL:https://www.golfstlseniors.org/event/d5-wk-23-columbia-bridges/
LOCATION:Columbia Bridges Golf Club\, 1655 Columbia Bridges Rd\, Columbia\, IL\, 62236\, United States
CATEGORIES:Div5
END:VEVENT
BEGIN:VEVENT
DTSTART;TZID=America/Chicago:20220915T073000
DTEND;TZID=America/Chicago:20220915T073000
DTSTAMP:20260425T070540
CREATED:20220308T213006Z
LAST-MODIFIED:20220308T215058Z
UID:9810-1663227000-1663227000@www.golfstlseniors.org
SUMMARY:D3 Wk 23 LOCKHAVEN
DESCRIPTION:Div 3 Wk 23    Split Tee #1 and #10   LOCKHAVEN
URL:https://www.golfstlseniors.org/event/d3-wk-23-lockhaven-2/
LOCATION:Lockhaven Golf Club\, 10872 Lawrence Keler Dr\, Godfrey\, IL\, 62035\, United States
CATEGORIES:Div3
END:VEVENT
BEGIN:VEVENT
DTSTART;TZID=America/Chicago:20220915T070000
DTEND;TZID=America/Chicago:20220915T070000
DTSTAMP:20260425T070540
CREATED:20220308T213137Z
LAST-MODIFIED:20220308T215228Z
UID:9836-1663225200-1663225200@www.golfstlseniors.org
SUMMARY:D4 Wk 23 ABERDEEN
DESCRIPTION:Div 4 Wk 23    Split Tee #1 and #10   ABERDEEN
URL:https://www.golfstlseniors.org/event/d4-wk-23-aberdeen-2/
LOCATION:Aberdeen Golf Club\, 4111 Crescent Rd\, Eureka\, MO\, 63025\, United States
CATEGORIES:Div4
END:VEVENT
BEGIN:VEVENT
DTSTART;TZID=America/Chicago:20220913T080000
DTEND;TZID=America/Chicago:20220913T140000
DTSTAMP:20260425T070540
CREATED:20220308T224330Z
LAST-MODIFIED:20220308T224333Z
UID:10021-1663056000-1663077600@www.golfstlseniors.org
SUMMARY:Special Event
DESCRIPTION:Last Chance – 4 Man Scramble
URL:https://www.golfstlseniors.org/event/special-event-6/
LOCATION:Pevely Farms GC\, 400 Lewis Rd\, Eureka\, Missouri\, 63025\, United States
END:VEVENT
BEGIN:VEVENT
DTSTART;TZID=America/Chicago:20220912T100000
DTEND;TZID=America/Chicago:20220912T120000
DTSTAMP:20260425T070540
CREATED:20220828T161600Z
LAST-MODIFIED:20220828T161601Z
UID:10811-1662976800-1662984000@www.golfstlseniors.org
SUMMARY:Board Meeting
DESCRIPTION:
URL:https://www.golfstlseniors.org/event/board-meeting-3/
LOCATION:IL
CATEGORIES:Board Meetings
ORGANIZER;CN="Dennis B Black":MAILTO:dbbegl@gmail.com
END:VEVENT
BEGIN:VEVENT
DTSTART;TZID=America/Chicago:20220909T073000
DTEND;TZID=America/Chicago:20220909T073000
DTSTAMP:20260425T070540
CREATED:20220308T212851Z
LAST-MODIFIED:20220308T214943Z
UID:9783-1662708600-1662708600@www.golfstlseniors.org
SUMMARY:D2 Wk 22 OAK VALLEY
DESCRIPTION:Div 2 Wk 22    Split Tee #1 and #10   OAK VALLEY
URL:https://www.golfstlseniors.org/event/d2-wk-22-oak-valley-2/
LOCATION:Oak Valley Golf Course\, 1230 Abbey Ln\, Pevely\, MO\, 63070\, United States
CATEGORIES:Div2
END:VEVENT
BEGIN:VEVENT
DTSTART;TZID=America/Chicago:20220908T080000
DTEND;TZID=America/Chicago:20220908T080000
DTSTAMP:20260425T070540
CREATED:20220308T213126Z
LAST-MODIFIED:20220308T215213Z
UID:9835-1662624000-1662624000@www.golfstlseniors.org
SUMMARY:D4 Wk 22 COLUMBIA
DESCRIPTION:Div 4 Wk 22    Shotgun   COLUMBIA
URL:https://www.golfstlseniors.org/event/d4-wk-22-columbia-2/
LOCATION:Columbia Golf Club\, 125 2770 N\, Columbia\, IL\, 62236\, United States
CATEGORIES:Div4
END:VEVENT
BEGIN:VEVENT
DTSTART;TZID=America/Chicago:20220908T070000
DTEND;TZID=America/Chicago:20220908T070000
DTSTAMP:20260425T070540
CREATED:20220308T213250Z
LAST-MODIFIED:20220308T215344Z
UID:9861-1662620400-1662620400@www.golfstlseniors.org
SUMMARY:D5 Wk 22 FORE HONOR-deer creek
DESCRIPTION:Div 5 Wk 23    Split Tee #1 and #10   FORE HONOR-deer creek
URL:https://www.golfstlseniors.org/event/d5-wk-22-fore-honor-deer-creek/
LOCATION:IL
CATEGORIES:Div5
END:VEVENT
BEGIN:VEVENT
DTSTART;TZID=America/Chicago:20220908T070000
DTEND;TZID=America/Chicago:20220908T070000
DTSTAMP:20260425T070540
CREATED:20220308T213006Z
LAST-MODIFIED:20220308T215058Z
UID:9809-1662620400-1662620400@www.golfstlseniors.org
SUMMARY:D3 Wk 22 WOODS FORT
DESCRIPTION:Div 3 Wk 22    Split Tee #1 and #10   WOODS FORT
URL:https://www.golfstlseniors.org/event/d3-wk-22-woods-fort-2/
LOCATION:Woods Fort Golf Course\, 1 Country Club Dr\, Troy\, MO\, 63379\, United States
CATEGORIES:Div3
END:VEVENT
BEGIN:VEVENT
DTSTART;TZID=America/Chicago:20220902T070000
DTEND;TZID=America/Chicago:20220902T070000
DTSTAMP:20260425T070540
CREATED:20220308T212850Z
LAST-MODIFIED:20220308T214943Z
UID:9782-1662102000-1662102000@www.golfstlseniors.org
SUMMARY:D2 Wk 21 ACORNS
DESCRIPTION:Div 2 Wk 21    Split Tee #1 and #10   ACORNS
URL:https://www.golfstlseniors.org/event/d2-wk-21-acorns-2/
LOCATION:Acorns Golf Links\, 3933 Ahne Rd\, Waterloo\, Illinois\, 62298\, United States
CATEGORIES:Div2
END:VEVENT
BEGIN:VEVENT
DTSTART;TZID=America/Chicago:20220901T073000
DTEND;TZID=America/Chicago:20220901T073000
DTSTAMP:20260425T070540
CREATED:20220308T213237Z
LAST-MODIFIED:20220308T215329Z
UID:9860-1662017400-1662017400@www.golfstlseniors.org
SUMMARY:D5 Wk 21 INNSBROOK
DESCRIPTION:Div 5 Wk 22    Split Tee #1 and #10   INNSBROOK
URL:https://www.golfstlseniors.org/event/d5-wk-21-innsbrook-2/
LOCATION:Innsbrook Golf Course\, 1 Aspen Way Dr\, Innsbrook\, MO\, 63390\, United States
CATEGORIES:Div5
END:VEVENT
BEGIN:VEVENT
DTSTART;TZID=America/Chicago:20220901T073000
DTEND;TZID=America/Chicago:20220901T073000
DTSTAMP:20260425T070540
CREATED:20220308T213125Z
LAST-MODIFIED:20220308T215213Z
UID:9834-1662017400-1662017400@www.golfstlseniors.org
SUMMARY:D4 Wk 21 OAK VALLEY
DESCRIPTION:Div 4 Wk 21    Split Tee #1 and #10   OAK VALLEY
URL:https://www.golfstlseniors.org/event/d4-wk-21-oak-valley-2/
LOCATION:Oak Valley Golf Course\, 1230 Abbey Ln\, Pevely\, MO\, 63070\, United States
CATEGORIES:Div4
END:VEVENT
BEGIN:VEVENT
DTSTART;TZID=America/Chicago:20220901T070000
DTEND;TZID=America/Chicago:20220901T070000
DTSTAMP:20260425T070540
CREATED:20220308T213006Z
LAST-MODIFIED:20220308T215058Z
UID:9808-1662015600-1662015600@www.golfstlseniors.org
SUMMARY:D3 Wk 21 FORE HONOR-deer creek
DESCRIPTION:Div 3 Wk 21    Split Tee #1 and #10   FORE HONOR-deer creek
URL:https://www.golfstlseniors.org/event/d3-wk-21-fore-honor-deer-creek/
LOCATION:IL
CATEGORIES:Div3
END:VEVENT
BEGIN:VEVENT
DTSTART;TZID=America/Chicago:20220829T080000
DTEND;TZID=America/Chicago:20220829T080000
DTSTAMP:20260425T070540
CREATED:20220309T143312Z
LAST-MODIFIED:20220309T145321Z
UID:10044-1661760000-1661760000@www.golfstlseniors.org
SUMMARY:Metro-Plus Lake Forest Country Club
DESCRIPTION:Metro-Plus – Shotgun Start
URL:https://www.golfstlseniors.org/event/metro-plus-lake-forest-country-club-5/
LOCATION:Lake Forest Country Club\, 300 Yard Drive\, Lake St. Louis\, MO\, 63367\, United States
CATEGORIES:M-P
END:VEVENT
BEGIN:VEVENT
DTSTART;TZID=America/Chicago:20220826T070000
DTEND;TZID=America/Chicago:20220826T070000
DTSTAMP:20260425T070540
CREATED:20220308T212850Z
LAST-MODIFIED:20220308T214943Z
UID:9781-1661497200-1661497200@www.golfstlseniors.org
SUMMARY:D2 Wk 20 WOODLANDS
DESCRIPTION:Div 2 Wk 20    Split Tee #1 and #10   WOODLANDS
URL:https://www.golfstlseniors.org/event/d2-wk-20-woodlands-2/
LOCATION:Woodlands Golf Club\, 2839 Harris Ln\, Alton\, IL\, 62002\, United States
CATEGORIES:Div2
END:VEVENT
BEGIN:VEVENT
DTSTART;TZID=America/Chicago:20220825T073000
DTEND;TZID=America/Chicago:20220825T073000
DTSTAMP:20260425T070540
CREATED:20220308T213006Z
LAST-MODIFIED:20220308T215058Z
UID:9807-1661412600-1661412600@www.golfstlseniors.org
SUMMARY:D3 Wk 20 INCLINE VILLAGE
DESCRIPTION:Div 3 Wk 20    Split Tee #1 and #10   INCLINE VILLAGE
URL:https://www.golfstlseniors.org/event/d3-wk-20-incline-village-2/
LOCATION:Incline Village Golf Course\, 10220 Fairway Dr\, Foristell\, MO\, 63348\, United States
CATEGORIES:Div3
END:VEVENT
BEGIN:VEVENT
DTSTART;TZID=America/Chicago:20220825T070000
DTEND;TZID=America/Chicago:20220825T070000
DTSTAMP:20260425T070540
CREATED:20220308T213236Z
LAST-MODIFIED:20220308T215329Z
UID:9859-1661410800-1661410800@www.golfstlseniors.org
SUMMARY:D5 Wk 20 SPENCER T OLIN #1
DESCRIPTION:Div 5 Wk 21    Split Tee #1 and #10   SPENCER T OLIN #1
URL:https://www.golfstlseniors.org/event/d5-wk-20-spencer-t-olin-1/
LOCATION:Spencer T Olin Golf Course\, 4701 College Ave\, Alton\, IL\, 62002\, United States
CATEGORIES:Div5
END:VEVENT
BEGIN:VEVENT
DTSTART;TZID=America/Chicago:20220825T063000
DTEND;TZID=America/Chicago:20220825T063000
DTSTAMP:20260425T070540
CREATED:20220308T213124Z
LAST-MODIFIED:20220308T215213Z
UID:9833-1661409000-1661409000@www.golfstlseniors.org
SUMMARY:D4 Wk 20 FAR OAKS
DESCRIPTION:Div 4 Wk 20    Split Tee #1 and #10   FAR OAKS
URL:https://www.golfstlseniors.org/event/d4-wk-20-far-oaks-2/
LOCATION:Far Oaks Golf Club\, 419 Old Collinsville Rd\, Caseyville\, IL\, 62232\, United States
CATEGORIES:Div4
END:VEVENT
BEGIN:VEVENT
DTSTART;TZID=America/Chicago:20220819T063000
DTEND;TZID=America/Chicago:20220819T063000
DTSTAMP:20260425T070540
CREATED:20220308T212836Z
LAST-MODIFIED:20220308T214928Z
UID:9780-1660890600-1660890600@www.golfstlseniors.org
SUMMARY:D2 Wk 19 FAR OAKS
DESCRIPTION:Div 2 Wk 19    Split Tee #1 and #10   FAR OAKS
URL:https://www.golfstlseniors.org/event/d2-wk-19-far-oaks-2/
LOCATION:Far Oaks Golf Club\, 419 Old Collinsville Rd\, Caseyville\, IL\, 62232\, United States
CATEGORIES:Div2
END:VEVENT
BEGIN:VEVENT
DTSTART;TZID=America/Chicago:20220818T080000
DTEND;TZID=America/Chicago:20220818T080000
DTSTAMP:20260425T070540
CREATED:20220308T213123Z
LAST-MODIFIED:20220308T215213Z
UID:9832-1660809600-1660809600@www.golfstlseniors.org
SUMMARY:D4 Wk 19 CRESCENT FARMS
DESCRIPTION:Div 4 Wk 19    Split Tee #1 and #10   CRESCENT FARMS
URL:https://www.golfstlseniors.org/event/d4-wk-19-crescent-farms-2/
LOCATION:Crescent Farms\, 745 Lewis Rd\, Crescent\, MO\, 63025\, United States
CATEGORIES:Div4
END:VEVENT
BEGIN:VEVENT
DTSTART;TZID=America/Chicago:20220818T070000
DTEND;TZID=America/Chicago:20220818T070000
DTSTAMP:20260425T070540
CREATED:20220308T213236Z
LAST-MODIFIED:20220308T215329Z
UID:9858-1660806000-1660806000@www.golfstlseniors.org
SUMMARY:D5 Wk 19 COLUMBIA
DESCRIPTION:Div 5 Wk 20    Shotgun   COLUMBIA
URL:https://www.golfstlseniors.org/event/d5-wk-19-columbia-2/
LOCATION:Columbia Golf Club\, 125 2770 N\, Columbia\, IL\, 62236\, United States
CATEGORIES:Div5
END:VEVENT
BEGIN:VEVENT
DTSTART;TZID=America/Chicago:20220818T070000
DTEND;TZID=America/Chicago:20220818T070000
DTSTAMP:20260425T070540
CREATED:20220308T213005Z
LAST-MODIFIED:20220308T215058Z
UID:9806-1660806000-1660806000@www.golfstlseniors.org
SUMMARY:D3 Wk 19 SUGAR CREEK
DESCRIPTION:Div 3 Wk 19    Split Tee #1 and #10   LEGACY
URL:https://www.golfstlseniors.org/event/d3-wk-19-sugar-creek/
LOCATION:Sugar Creek Golf Course\, 4701 College Ave\, Alton\, IL\, 62002\, United States
CATEGORIES:Div3
END:VEVENT
BEGIN:VEVENT
DTSTART;TZID=America/Chicago:20220815T080000
DTEND;TZID=America/Chicago:20220815T140000
DTSTAMP:20260425T070540
CREATED:20220308T224009Z
LAST-MODIFIED:20220308T224012Z
UID:10017-1660550400-1660572000@www.golfstlseniors.org
SUMMARY:Special Event
DESCRIPTION:Lou Luketich Founders’ Day – 4 Man Shamble
URL:https://www.golfstlseniors.org/event/special-event-5/
LOCATION:Franklin County CC\, 6413 Country Club Rd\, Washington\, Illinois\, 63090\, United States
END:VEVENT
BEGIN:VEVENT
DTSTART;TZID=America/Chicago:20220812T063000
DTEND;TZID=America/Chicago:20220812T063000
DTSTAMP:20260425T070540
CREATED:20220308T212835Z
LAST-MODIFIED:20220308T214928Z
UID:9779-1660285800-1660285800@www.golfstlseniors.org
SUMMARY:D2 Wk 18 BEAR CREEK
DESCRIPTION:Div 2 Wk 18    Split Tee #1 and #10   BEAR CREEK
URL:https://www.golfstlseniors.org/event/d2-wk-18-bear-creek-2/
LOCATION:Bear Creek Golf Club\, 158 Bear Creek Dr\, Wentzville\, MO\, 63385\, United States
CATEGORIES:Div2
END:VEVENT
BEGIN:VEVENT
DTSTART;TZID=America/Chicago:20220811T073000
DTEND;TZID=America/Chicago:20220811T073000
DTSTAMP:20260425T070540
CREATED:20220308T213236Z
LAST-MODIFIED:20220308T215329Z
UID:9857-1660203000-1660203000@www.golfstlseniors.org
SUMMARY:D5 Wk 18 MYSTIC OAKS
DESCRIPTION:Div 5 Wk 19    Split Tee #1 and #10   MYSTIC OAKS
URL:https://www.golfstlseniors.org/event/d5-wk-18-mystic-oaks/
LOCATION:Mystic Oaks Golf Course\, 643 Ridge Rd\, Waterloo\, IL\, 62298\, United States
CATEGORIES:Div5
END:VEVENT
END:VCALENDAR