BEGIN:VCALENDAR
VERSION:2.0
PRODID:-//Metro St. Louis Seniors Golf - ECPv6.15.20//NONSGML v1.0//EN
CALSCALE:GREGORIAN
METHOD:PUBLISH
X-WR-CALNAME:Metro St. Louis Seniors Golf
X-ORIGINAL-URL:https://www.golfstlseniors.org
X-WR-CALDESC:Events for Metro St. Louis Seniors Golf
REFRESH-INTERVAL;VALUE=DURATION:PT1H
X-Robots-Tag:noindex
X-PUBLISHED-TTL:PT1H
BEGIN:VTIMEZONE
TZID:America/Chicago
BEGIN:DAYLIGHT
TZOFFSETFROM:-0600
TZOFFSETTO:-0500
TZNAME:CDT
DTSTART:20200308T080000
END:DAYLIGHT
BEGIN:STANDARD
TZOFFSETFROM:-0500
TZOFFSETTO:-0600
TZNAME:CST
DTSTART:20201101T070000
END:STANDARD
BEGIN:DAYLIGHT
TZOFFSETFROM:-0600
TZOFFSETTO:-0500
TZNAME:CDT
DTSTART:20210314T080000
END:DAYLIGHT
BEGIN:STANDARD
TZOFFSETFROM:-0500
TZOFFSETTO:-0600
TZNAME:CST
DTSTART:20211107T070000
END:STANDARD
BEGIN:DAYLIGHT
TZOFFSETFROM:-0600
TZOFFSETTO:-0500
TZNAME:CDT
DTSTART:20220313T080000
END:DAYLIGHT
BEGIN:STANDARD
TZOFFSETFROM:-0500
TZOFFSETTO:-0600
TZNAME:CST
DTSTART:20221106T070000
END:STANDARD
END:VTIMEZONE
BEGIN:VEVENT
DTSTART;TZID=America/Chicago:20210705T083000
DTEND;TZID=America/Chicago:20210705T140000
DTSTAMP:20260425T225201
CREATED:20201203T041205Z
LAST-MODIFIED:20210224T021823Z
UID:8085-1625473800-1625493600@www.golfstlseniors.org
SUMMARY:Metro-Plus   The Legends Country Club
DESCRIPTION:Metro-Plus Jul 05 The Legends Country Club 8:30 AM Split Tee $55  Pay At Course Cash ONLY Food – Purchase at Course
URL:https://www.golfstlseniors.org/event/metro-plus-the-legends-country-club-2/
LOCATION:The Legends Country Club\, 625 The Legends Pkwy\, Eureka\, MO\, 63025\, United States
CATEGORIES:M-P
END:VEVENT
BEGIN:VEVENT
DTSTART;TZID=America/Chicago:20210628T080000
DTEND;TZID=America/Chicago:20210628T080000
DTSTAMP:20260425T225201
CREATED:20201203T041204Z
LAST-MODIFIED:20210117T032753Z
UID:8084-1624867200-1624867200@www.golfstlseniors.org
SUMMARY:Metro-Plus   St. Clair Country Club
DESCRIPTION:Metro-Plus Jun 28 St. Clair Country Club 8:00 AM Split Tee $68 Pay In Advance Food – No Lunch.  Snacks\, Sandwiches and Drinks Available for purchase
URL:https://www.golfstlseniors.org/event/metro-plus-st-clair-country-club-2/
LOCATION:St. Clair Country Club\, 100 S 78th St\, Belleville\,\, IL\, 63332\, United States
CATEGORIES:M-P
END:VEVENT
BEGIN:VEVENT
DTSTART;TZID=America/Chicago:20210625T070000
DTEND;TZID=America/Chicago:20210625T070000
DTSTAMP:20260425T225201
CREATED:20210105T161732Z
LAST-MODIFIED:20210114T163301Z
UID:8224-1624604400-1624604400@www.golfstlseniors.org
SUMMARY:D2 Wk 12 LEGACY
DESCRIPTION:Div 2 Wk 12    Split Tee #1 and #10   LEGACY
URL:https://www.golfstlseniors.org/event/d2-wk-12-legacy-2/
LOCATION:Legacy Golf Course\, 3500 Cargill Rd\, Granite City\, IL\, 62040\, United States
CATEGORIES:Div2
END:VEVENT
BEGIN:VEVENT
DTSTART;TZID=America/Chicago:20210625T070000
DTEND;TZID=America/Chicago:20210625T070000
DTSTAMP:20260425T225201
CREATED:20210105T161617Z
LAST-MODIFIED:20210307T173203Z
UID:8198-1624604400-1624604400@www.golfstlseniors.org
SUMMARY:D1 Wk 12 FORE HONOR-deer creek
DESCRIPTION:Div 1 Wk 12 Split Tee #1 and #10 FORE HONOR-deer creek
URL:https://www.golfstlseniors.org/event/d1-wk-12-fore-honor-deer-creek/
LOCATION:Fore Honor – Deer Creek Golf Club\, 5300 Dulin Creek Rd\, House Springs\, MO\, 63051\, United States
CATEGORIES:Div1
END:VEVENT
BEGIN:VEVENT
DTSTART;TZID=America/Chicago:20210624T070000
DTEND;TZID=America/Chicago:20210624T070000
DTSTAMP:20260425T225201
CREATED:20210114T163701Z
LAST-MODIFIED:20210114T163701Z
UID:8448-1624518000-1624518000@www.golfstlseniors.org
SUMMARY:D5 Wk 12 BELK PARK
DESCRIPTION:Div 5 Wk 12    Split Tee #1 and #10   BELK PARK
URL:https://www.golfstlseniors.org/event/d5-wk-12-belk-park/
LOCATION:Belk Park Golf Course\, 880 Belk Park Rd\, Wood River\, Illinois\, 62095\, United States
CATEGORIES:Div5
END:VEVENT
BEGIN:VEVENT
DTSTART;TZID=America/Chicago:20210624T070000
DTEND;TZID=America/Chicago:20210624T070000
DTSTAMP:20260425T225201
CREATED:20210105T162235Z
LAST-MODIFIED:20210114T163532Z
UID:8276-1624518000-1624518000@www.golfstlseniors.org
SUMMARY:D4 Wk 12 TAMARACK
DESCRIPTION:Div 4 Wk 12    Split Tee #1 and #10   TAMARACK
URL:https://www.golfstlseniors.org/event/d4-wk-12-tamarack-2/
LOCATION:Tamarack Golf Course\, 362 Tamarack Ln\, Shiloh\, IL\, 62269\, United States
CATEGORIES:Div4
END:VEVENT
BEGIN:VEVENT
DTSTART;TZID=America/Chicago:20210624T063000
DTEND;TZID=America/Chicago:20210624T063000
DTSTAMP:20260425T225201
CREATED:20210105T161847Z
LAST-MODIFIED:20210415T001211Z
UID:8250-1624516200-1624516200@www.golfstlseniors.org
SUMMARY:D3 Wk 12 FALLS
DESCRIPTION:Div 3 Wk 12 Split Tee Start FALLS
URL:https://www.golfstlseniors.org/event/d3-wk-12-falls-2/
LOCATION:Falls Golf Club\, 1170 Turtle Creek Dr\, O'Fallon\, MO\, 63366\, United States
CATEGORIES:Div3
END:VEVENT
BEGIN:VEVENT
DTSTART;TZID=America/Chicago:20210621T083000
DTEND;TZID=America/Chicago:20210621T083000
DTSTAMP:20260425T225201
CREATED:20201203T041201Z
LAST-MODIFIED:20210101T190058Z
UID:8083-1624264200-1624264200@www.golfstlseniors.org
SUMMARY:Metro-Plus   Franklin County Country Club
DESCRIPTION:Metro-Plus Jun 21 Franklin County Country Club 8:30 AM Split Tee $50  Pay At Course Cash/CC Food – Purchase at Course
URL:https://www.golfstlseniors.org/event/metro-plus-franklin-county-country-club-2/
LOCATION:Franklin County Country Club\, 6413 Country Club Road\, Washington\, MO\, 63090\, United States
CATEGORIES:M-P
END:VEVENT
BEGIN:VEVENT
DTSTART;TZID=America/Chicago:20210618T070000
DTEND;TZID=America/Chicago:20210618T070000
DTSTAMP:20260425T225201
CREATED:20210105T161732Z
LAST-MODIFIED:20210114T163301Z
UID:8223-1623999600-1623999600@www.golfstlseniors.org
SUMMARY:D2 Wk 11 INNSBROOK
DESCRIPTION:Div 2 Wk 11    Split Tee #1 and #10   INNSBROOK
URL:https://www.golfstlseniors.org/event/d2-wk-11-innsbrook-2/
LOCATION:Innsbrook Golf Course\, 1 Aspen Way Dr\, Innsbrook\, MO\, 63390\, United States
CATEGORIES:Div2
END:VEVENT
BEGIN:VEVENT
DTSTART;TZID=America/Chicago:20210618T070000
DTEND;TZID=America/Chicago:20210618T070000
DTSTAMP:20260425T225201
CREATED:20210105T161616Z
LAST-MODIFIED:20210114T163146Z
UID:8197-1623999600-1623999600@www.golfstlseniors.org
SUMMARY:D1 Wk 11 EAGLE SPRINGS
DESCRIPTION:Div 1 Wk 11    Split Tee #1 and #10   EAGLE SPRINGS
URL:https://www.golfstlseniors.org/event/d1-wk-11-eagle-springs-2/
LOCATION:Eagle Springs Golf Course\, 2575 Redman Rd\, St. Louis\, MO\, 63136\, United States
CATEGORIES:Div1
END:VEVENT
BEGIN:VEVENT
DTSTART;TZID=America/Chicago:20210617T073000
DTEND;TZID=America/Chicago:20210617T073000
DTSTAMP:20260425T225201
CREATED:20210105T162545Z
LAST-MODIFIED:20210114T163647Z
UID:8301-1623915000-1623915000@www.golfstlseniors.org
SUMMARY:D5 Wk 11 CRESCENT FARMS
DESCRIPTION:Div 5 Wk 11    Split Tee #1 and #10   CRESCENT FARMS
URL:https://www.golfstlseniors.org/event/d5-wk-11-crescent-farms/
LOCATION:Crescent Farms\, 745 Lewis Rd\, Crescent\, MO\, 63025\, United States
CATEGORIES:Div5
END:VEVENT
BEGIN:VEVENT
DTSTART;TZID=America/Chicago:20210617T070000
DTEND;TZID=America/Chicago:20210617T070000
DTSTAMP:20260425T225201
CREATED:20210105T162234Z
LAST-MODIFIED:20210114T163532Z
UID:8275-1623913200-1623913200@www.golfstlseniors.org
SUMMARY:D4 Wk 11 LOCKHAVEN
DESCRIPTION:Div 4 Wk 11    Split Tee #1 and #10   LOCKHAVEN
URL:https://www.golfstlseniors.org/event/d4-wk-11-lockhaven-2/
LOCATION:Lockhaven Golf Club\, 10872 Lawrence Keler Dr\, Godfrey\, IL\, 62035\, United States
CATEGORIES:Div4
END:VEVENT
BEGIN:VEVENT
DTSTART;TZID=America/Chicago:20210617T070000
DTEND;TZID=America/Chicago:20210617T070000
DTSTAMP:20260425T225201
CREATED:20210105T161847Z
LAST-MODIFIED:20210114T163416Z
UID:8249-1623913200-1623913200@www.golfstlseniors.org
SUMMARY:D3 Wk 11 TAMARACK
DESCRIPTION:Div 3 Wk 11    Split Tee #1 and #10   TAMARACK
URL:https://www.golfstlseniors.org/event/d3-wk-11-tamarack-2/
LOCATION:Tamarack Golf Course\, 362 Tamarack Ln\, Shiloh\, IL\, 62269\, United States
CATEGORIES:Div3
END:VEVENT
BEGIN:VEVENT
DTSTART;TZID=America/Chicago:20210615T063000
DTEND;TZID=America/Chicago:20210615T143000
DTSTAMP:20260425T225201
CREATED:20201112T224050Z
LAST-MODIFIED:20201222T174755Z
UID:7974-1623738600-1623767400@www.golfstlseniors.org
SUMMARY:Special Event - Pick Your Partner - Missouri Bluffs GC
DESCRIPTION:15 June 2021\, 6:30 AM – 2:30 PM\, 2-Person Scramble\, 4 flights\, Net Score\, Arrive 6:30 – 7:00 am for registration\, 7:30 AM Shotgun start\, Lunch Provided.
URL:https://www.golfstlseniors.org/event/special-event-pick-your-partner-missouri-bluffs-gc/
LOCATION:Missouri Bluffs Golf Club\, 18 Research Park Cir\, St. Charles\, MO\, 63304\, United States
CATEGORIES:Special Event Tournaments
ORGANIZER;CN="Terry Heathman":MAILTO:hannah2076@aol.com
END:VEVENT
BEGIN:VEVENT
DTSTART;TZID=America/Chicago:20210611T070000
DTEND;TZID=America/Chicago:20210611T070000
DTSTAMP:20260425T225201
CREATED:20210105T161732Z
LAST-MODIFIED:20210114T163301Z
UID:8222-1623394800-1623394800@www.golfstlseniors.org
SUMMARY:D2 Wk 10 WOODS FORT
DESCRIPTION:Div 2 Wk 10    Split Tee #1 and #10   WOODS FORT
URL:https://www.golfstlseniors.org/event/d2-wk-10-woods-fort-2/
LOCATION:Woods Fort Golf Course\, 1 Country Club Dr\, Troy\, MO\, 63379\, United States
CATEGORIES:Div2
END:VEVENT
BEGIN:VEVENT
DTSTART;TZID=America/Chicago:20210611T070000
DTEND;TZID=America/Chicago:20210611T070000
DTSTAMP:20260425T225201
CREATED:20210105T161602Z
LAST-MODIFIED:20210114T163132Z
UID:8196-1623394800-1623394800@www.golfstlseniors.org
SUMMARY:D1 Wk 10 LEGACY
DESCRIPTION:Div 1 Wk 10    Split Tee #1 and #10   LEGACY
URL:https://www.golfstlseniors.org/event/d1-wk-10-legacy-2/
LOCATION:Legacy Golf Course\, 3500 Cargill Rd\, Granite City\, IL\, 62040\, United States
CATEGORIES:Div1
END:VEVENT
BEGIN:VEVENT
DTSTART;TZID=America/Chicago:20210610T070000
DTEND;TZID=America/Chicago:20210610T070000
DTSTAMP:20260425T225201
CREATED:20210105T162544Z
LAST-MODIFIED:20210409T215500Z
UID:8300-1623308400-1623308400@www.golfstlseniors.org
SUMMARY:D5 Wk 10 WOODLANDS
DESCRIPTION:Div 5 Wk 10 Split Tee Start WOODLANDS
URL:https://www.golfstlseniors.org/event/d5-wk-10-woodlands/
LOCATION:Woodlands Golf Club\, 2839 Harris Ln\, Alton\, IL\, 62002\, United States
CATEGORIES:Div5
END:VEVENT
BEGIN:VEVENT
DTSTART;TZID=America/Chicago:20210610T070000
DTEND;TZID=America/Chicago:20210610T070000
DTSTAMP:20260425T225201
CREATED:20210105T162234Z
LAST-MODIFIED:20210415T001124Z
UID:8274-1623308400-1623308400@www.golfstlseniors.org
SUMMARY:D4 Wk 10 FLORISSANT
DESCRIPTION:Div 4 Wk 10 Split Tee Start FLORISSANT
URL:https://www.golfstlseniors.org/event/d4-wk-10-florissant-2/
LOCATION:Florissant Golf Club\, 50 Country Club Ln\, Florissant\, MO\, 63033\, United States
CATEGORIES:Div4
END:VEVENT
BEGIN:VEVENT
DTSTART;TZID=America/Chicago:20210610T063000
DTEND;TZID=America/Chicago:20210610T063000
DTSTAMP:20260425T225201
CREATED:20210105T161847Z
LAST-MODIFIED:20210409T220121Z
UID:8248-1623306600-1623306600@www.golfstlseniors.org
SUMMARY:D3 Wk 10 BEAR CREEK
DESCRIPTION:Div 3 Wk 10 Split Tee Start BEAR CREEK
URL:https://www.golfstlseniors.org/event/d3-wk-10-bear-creek-2/
LOCATION:Bear Creek Golf Club\, 158 Bear Creek Dr\, Wentzville\, MO\, 63385\, United States
CATEGORIES:Div3
END:VEVENT
BEGIN:VEVENT
DTSTART;TZID=America/Chicago:20210604T073000
DTEND;TZID=America/Chicago:20210604T073000
DTSTAMP:20260425T225201
CREATED:20210105T161717Z
LAST-MODIFIED:20210114T163246Z
UID:8221-1622791800-1622791800@www.golfstlseniors.org
SUMMARY:D2 Wk 9 COLUMBIA BRIDGES
DESCRIPTION:Div 2 Wk 9    Split Tee #1 and #10   COLUMBIA BRIDGES
URL:https://www.golfstlseniors.org/event/d2-wk-9-columbia-bridges-2/
LOCATION:Columbia Bridges Golf Club\, 1655 Columbia Bridges Rd\, Columbia\, IL\, 62236\, United States
CATEGORIES:Div2
END:VEVENT
BEGIN:VEVENT
DTSTART;TZID=America/Chicago:20210604T070000
DTEND;TZID=America/Chicago:20210604T070000
DTSTAMP:20260425T225201
CREATED:20210105T161602Z
LAST-MODIFIED:20210114T163131Z
UID:8195-1622790000-1622790000@www.golfstlseniors.org
SUMMARY:D1 Wk 9 MYSTIC OAKS
DESCRIPTION:Div 1 Wk 9    Split Tee #1 and #10   MYSTIC OAKS
URL:https://www.golfstlseniors.org/event/d1-wk-9-mystic-oaks/
LOCATION:Mystic Oaks Golf Course\, 643 Ridge Rd\, Waterloo\, IL\, 62298\, United States
CATEGORIES:Div1
END:VEVENT
BEGIN:VEVENT
DTSTART;TZID=America/Chicago:20210603T070000
DTEND;TZID=America/Chicago:20210603T070000
DTSTAMP:20260425T225201
CREATED:20210105T162544Z
LAST-MODIFIED:20210114T163647Z
UID:8299-1622703600-1622703600@www.golfstlseniors.org
SUMMARY:D5 Wk 9 TAMARACK
DESCRIPTION:Div 5 Wk 9    Split Tee #1 and #10   TAMARACK
URL:https://www.golfstlseniors.org/event/d5-wk-9-tamarack/
LOCATION:Tamarack Golf Course\, 362 Tamarack Ln\, Shiloh\, IL\, 62269\, United States
CATEGORIES:Div5
END:VEVENT
BEGIN:VEVENT
DTSTART;TZID=America/Chicago:20210603T070000
DTEND;TZID=America/Chicago:20210603T070000
DTSTAMP:20260425T225201
CREATED:20210105T162234Z
LAST-MODIFIED:20210114T163531Z
UID:8273-1622703600-1622703600@www.golfstlseniors.org
SUMMARY:D4 Wk 9 WOODS FORT
DESCRIPTION:Div 4 Wk 9    Split Tee #1 and #10   WOODS FORT
URL:https://www.golfstlseniors.org/event/d4-wk-9-woods-fort-2/
LOCATION:Woods Fort Golf Course\, 1 Country Club Dr\, Troy\, MO\, 63379\, United States
CATEGORIES:Div4
END:VEVENT
BEGIN:VEVENT
DTSTART;TZID=America/Chicago:20210603T070000
DTEND;TZID=America/Chicago:20210603T070000
DTSTAMP:20260425T225201
CREATED:20210105T161847Z
LAST-MODIFIED:20210114T163416Z
UID:8247-1622703600-1622703600@www.golfstlseniors.org
SUMMARY:D3 Wk 9 SPENCER T OLIN #2
DESCRIPTION:Div 3 Wk 9    Split Tee #1 and #10   SPENCER T OLIN #2
URL:https://www.golfstlseniors.org/event/d3-wk-9-spencer-t-olin-2/
LOCATION:Spencer T Olin Golf Course\, 4701 College Ave\, Alton\, IL\, 62002\, United States
CATEGORIES:Div3
END:VEVENT
BEGIN:VEVENT
DTSTART;TZID=America/Chicago:20210528T070000
DTEND;TZID=America/Chicago:20210528T070000
DTSTAMP:20260425T225201
CREATED:20210105T161602Z
LAST-MODIFIED:20210114T163131Z
UID:8194-1622185200-1622185200@www.golfstlseniors.org
SUMMARY:D1 Wk 8 SPENCER T OLIN #2
DESCRIPTION:Div 1 Wk 8    Split Tee #1 and #10   SPENCER T OLIN #2
URL:https://www.golfstlseniors.org/event/d1-wk-8-spencer-t-olin-2/
LOCATION:Spencer T Olin Golf Course\, 4701 College Ave\, Alton\, IL\, 62002\, United States
CATEGORIES:Div1
END:VEVENT
BEGIN:VEVENT
DTSTART;TZID=America/Chicago:20210528T063000
DTEND;TZID=America/Chicago:20210528T063000
DTSTAMP:20260425T225201
CREATED:20210105T161717Z
LAST-MODIFIED:20210114T163246Z
UID:8220-1622183400-1622183400@www.golfstlseniors.org
SUMMARY:D2 Wk 8 ABERDEEN
DESCRIPTION:Div 2 Wk 8    Split Tee #1 and #10   ABERDEEN
URL:https://www.golfstlseniors.org/event/d2-wk-8-aberdeen-2/
LOCATION:Aberdeen Golf Club\, 4111 Crescent Rd\, Eureka\, MO\, 63025\, United States
CATEGORIES:Div2
END:VEVENT
BEGIN:VEVENT
DTSTART;TZID=America/Chicago:20210527T070000
DTEND;TZID=America/Chicago:20210527T070000
DTSTAMP:20260425T225201
CREATED:20210105T162234Z
LAST-MODIFIED:20210114T163531Z
UID:8272-1622098800-1622098800@www.golfstlseniors.org
SUMMARY:D4 Wk 8 EAGLE SPRINGS
DESCRIPTION:Div 4 Wk 8    Split Tee #1 and #10   EAGLE SPRINGS
URL:https://www.golfstlseniors.org/event/d4-wk-8-eagle-springs-2/
LOCATION:Eagle Springs Golf Course\, 2575 Redman Rd\, St. Louis\, MO\, 63136\, United States
CATEGORIES:Div4
END:VEVENT
BEGIN:VEVENT
DTSTART;TZID=America/Chicago:20210527T070000
DTEND;TZID=America/Chicago:20210527T070000
DTSTAMP:20260425T225201
CREATED:20210105T161832Z
LAST-MODIFIED:20210114T163402Z
UID:8246-1622098800-1622098800@www.golfstlseniors.org
SUMMARY:D3 Wk 8 BELK PARK
DESCRIPTION:Div 3 Wk 8    Split Tee #1 and #10   BELK PARK
URL:https://www.golfstlseniors.org/event/d3-wk-8-belk-park-2/
LOCATION:Belk Park Golf Course\, 880 Belk Park Rd\, Wood River\, Illinois\, 62095\, United States
CATEGORIES:Div3
END:VEVENT
BEGIN:VEVENT
DTSTART;TZID=America/Chicago:20210527T063000
DTEND;TZID=America/Chicago:20210527T063000
DTSTAMP:20260425T225201
CREATED:20210105T162544Z
LAST-MODIFIED:20210415T001037Z
UID:8298-1622097000-1622097000@www.golfstlseniors.org
SUMMARY:D5 Wk 8 FALLS
DESCRIPTION:Div 5 Wk 8 Split Tee Start FALLS
URL:https://www.golfstlseniors.org/event/d5-wk-8-falls/
LOCATION:Falls Golf Club\, 1170 Turtle Creek Dr\, O'Fallon\, MO\, 63366\, United States
CATEGORIES:Div5
END:VEVENT
BEGIN:VEVENT
DTSTART;TZID=America/Chicago:20210524T073000
DTEND;TZID=America/Chicago:20210524T073000
DTSTAMP:20260425T225201
CREATED:20201203T041201Z
LAST-MODIFIED:20210224T021904Z
UID:8082-1621841400-1621841400@www.golfstlseniors.org
SUMMARY:Metro-Plus   Bogey Hills Country Club
DESCRIPTION:Metro-Plus May 24 Bogey Hills Country Club 8:30 AM Split Tee $65  Pay At Course Cash/CC Food – Purchase at Course
URL:https://www.golfstlseniors.org/event/metro-plus-bogey-hills-country-club-2/
LOCATION:Bogey Hills Country Club\, 1120 Country Club Rd\, St\, Charles\, MO\, 63303\, United States
CATEGORIES:M-P
END:VEVENT
END:VCALENDAR