BEGIN:VCALENDAR
VERSION:2.0
PRODID:-//Metro St. Louis Seniors Golf - ECPv6.15.20//NONSGML v1.0//EN
CALSCALE:GREGORIAN
METHOD:PUBLISH
X-WR-CALNAME:Metro St. Louis Seniors Golf
X-ORIGINAL-URL:https://www.golfstlseniors.org
X-WR-CALDESC:Events for Metro St. Louis Seniors Golf
REFRESH-INTERVAL;VALUE=DURATION:PT1H
X-Robots-Tag:noindex
X-PUBLISHED-TTL:PT1H
BEGIN:VTIMEZONE
TZID:America/Chicago
BEGIN:DAYLIGHT
TZOFFSETFROM:-0600
TZOFFSETTO:-0500
TZNAME:CDT
DTSTART:20230312T080000
END:DAYLIGHT
BEGIN:STANDARD
TZOFFSETFROM:-0500
TZOFFSETTO:-0600
TZNAME:CST
DTSTART:20231105T070000
END:STANDARD
BEGIN:DAYLIGHT
TZOFFSETFROM:-0600
TZOFFSETTO:-0500
TZNAME:CDT
DTSTART:20240310T080000
END:DAYLIGHT
BEGIN:STANDARD
TZOFFSETFROM:-0500
TZOFFSETTO:-0600
TZNAME:CST
DTSTART:20241103T070000
END:STANDARD
BEGIN:DAYLIGHT
TZOFFSETFROM:-0600
TZOFFSETTO:-0500
TZNAME:CDT
DTSTART:20250309T080000
END:DAYLIGHT
BEGIN:STANDARD
TZOFFSETFROM:-0500
TZOFFSETTO:-0600
TZNAME:CST
DTSTART:20251102T070000
END:STANDARD
END:VTIMEZONE
BEGIN:VEVENT
DTSTART;TZID=America/Chicago:20240822T070000
DTEND;TZID=America/Chicago:20240822T070000
DTSTAMP:20260425T064852
CREATED:20240116T025900Z
LAST-MODIFIED:20240116T025900Z
UID:12947-1724310000-1724310000@www.golfstlseniors.org
SUMMARY:D3  Wk 19    Columbia Golf Club
DESCRIPTION:Div3     – Aug 22    Shotgun Start  Columbia Golf Club    $34
URL:https://www.golfstlseniors.org/event/d3-wk-19-columbia-golf-club/
LOCATION:Columbia Golf Club\, 125 2770 N\, Columbia\, IL\, 62236\, United States
CATEGORIES:Div3
END:VEVENT
BEGIN:VEVENT
DTSTART;TZID=America/Chicago:20240816T063000
DTEND;TZID=America/Chicago:20240816T063000
DTSTAMP:20260425T064852
CREATED:20240116T025731Z
LAST-MODIFIED:20240116T025731Z
UID:12920-1723789800-1723789800@www.golfstlseniors.org
SUMMARY:D2  Wk 18    Bear Creek Golf Club
DESCRIPTION:Div2     – Aug 16    Split Tee Start  Bear Creek Golf Club    $
URL:https://www.golfstlseniors.org/event/d2-wk-18-bear-creek-golf-club/
LOCATION:Bear Creek Golf Club\, 158 Bear Creek Dr\, Wentzville\, MO\, 63385\, United States
CATEGORIES:Div2
END:VEVENT
BEGIN:VEVENT
DTSTART;TZID=America/Chicago:20240816T063000
DTEND;TZID=America/Chicago:20240816T063000
DTSTAMP:20260425T064852
CREATED:20240116T025615Z
LAST-MODIFIED:20240116T025615Z
UID:12894-1723789800-1723789800@www.golfstlseniors.org
SUMMARY:D1  Wk 18    Far Oaks Golf Club
DESCRIPTION:Div1     – Aug 16    Split Tee Start  Far Oaks Golf Club    $45
URL:https://www.golfstlseniors.org/event/d1-wk-18-far-oaks-golf-club/
LOCATION:Far Oaks Golf Club\, 419 Old Collinsville Rd\, Caseyville\, IL\, 62232\, United States
CATEGORIES:Div1
END:VEVENT
BEGIN:VEVENT
DTSTART;TZID=America/Chicago:20240815T073000
DTEND;TZID=America/Chicago:20240815T073000
DTSTAMP:20260425T064852
CREATED:20240116T030130Z
LAST-MODIFIED:20240116T030130Z
UID:12998-1723707000-1723707000@www.golfstlseniors.org
SUMMARY:D5  Wk 18    Links of Dardenne
DESCRIPTION:Div5     – Aug 15    Shotgun Start  Links of Dardenne    $
URL:https://www.golfstlseniors.org/event/d5-wk-18-links-of-dardenne/
LOCATION:Links of Dardenne\, 7000 Brassel Dr\, O'Fallon\, MO\, 63368\, United States
CATEGORIES:Div5
END:VEVENT
BEGIN:VEVENT
DTSTART;TZID=America/Chicago:20240815T073000
DTEND;TZID=America/Chicago:20240815T073000
DTSTAMP:20260425T064852
CREATED:20240116T025846Z
LAST-MODIFIED:20240116T025846Z
UID:12946-1723707000-1723707000@www.golfstlseniors.org
SUMMARY:D3  Wk 18    Mystic Oaks Golf Course
DESCRIPTION:Div3     – Aug 15    Split Tee Start  Mystic Oaks Golf Course    $
URL:https://www.golfstlseniors.org/event/d3-wk-18-mystic-oaks-golf-course/
LOCATION:Mystic Oaks Golf Course\, 643 Ridge Rd\, Waterloo\, IL\, 62298\, United States
CATEGORIES:Div3
END:VEVENT
BEGIN:VEVENT
DTSTART;TZID=America/Chicago:20240815T063000
DTEND;TZID=America/Chicago:20240815T063000
DTSTAMP:20260425T064852
CREATED:20240116T030016Z
LAST-MODIFIED:20240118T171520Z
UID:12972-1723703400-1723703400@www.golfstlseniors.org
SUMMARY:D4  Wk 18    Far Oaks Golf Club
DESCRIPTION:Div4     – Aug 15    Split Tee Start  Far Oaks Golf Club    $45
URL:https://www.golfstlseniors.org/event/d4-wk-18-far-oaks-golf-club/
LOCATION:Far Oaks Golf Club\, 419 Old Collinsville Rd\, Caseyville\, IL\, 62232\, United States
CATEGORIES:Div4
END:VEVENT
BEGIN:VEVENT
DTSTART;TZID=America/Chicago:20240814T180000
DTEND;TZID=America/Chicago:20240814T180000
DTSTAMP:20260425T064852
CREATED:20231116T190705Z
LAST-MODIFIED:20240407T184848Z
UID:12472-1723658400-1723658400@www.golfstlseniors.org
SUMMARY:Last Ryde Special Event Signup
DESCRIPTION:Signup for the Last Ryde Special Event will open up at 6 PM on Wednesday\, 14 August 2024
URL:https://www.golfstlseniors.org/event/last-ryde-special-event-signup/
LOCATION:Cardinal Creek Golf Club\, 1192 Golf Course Rd\, Scott AFB\, IL\, 62225\, United States
CATEGORIES:Special Event Tournaments
ORGANIZER;CN="Joe Lerch":MAILTO:jlwc@sbcglobal.net
END:VEVENT
BEGIN:VEVENT
DTSTART;TZID=America/Chicago:20240812T080000
DTEND;TZID=America/Chicago:20240812T140000
DTSTAMP:20260425T064852
CREATED:20231116T211733Z
LAST-MODIFIED:20240107T163726Z
UID:12485-1723449600-1723471200@www.golfstlseniors.org
SUMMARY:Last Scramble Special Event
DESCRIPTION:The Last Scramble Special Event will be held on Monday\, 12 August 2024 at the Missouri Bluffs Golf Club.  The format will be a 4-Person Scramble.  Lunch will be served.
URL:https://www.golfstlseniors.org/event/last-scramble-special-event/
LOCATION:Missouri Bluffs Golf Club\, 18 Research Park Cir\, St. Charles\, MO\, 63304\, United States
CATEGORIES:Special Event Tournaments
ORGANIZER;CN="Bob McNamee":MAILTO:mcnameere@yahoo.com
END:VEVENT
BEGIN:VEVENT
DTSTART;TZID=America/Chicago:20240809T070000
DTEND;TZID=America/Chicago:20240809T070000
DTSTAMP:20260425T064852
CREATED:20240116T025730Z
LAST-MODIFIED:20240116T025730Z
UID:12919-1723186800-1723186800@www.golfstlseniors.org
SUMMARY:D2  Wk 17    Tamarack Golf Course
DESCRIPTION:Div2     – Aug 09    Split Tee Start  Tamarack Golf Course    $
URL:https://www.golfstlseniors.org/event/d2-wk-17-tamarack-golf-course/
LOCATION:Tamarack Golf Course\, 362 Tamarack Ln\, Shiloh\, IL\, 62269\, United States
CATEGORIES:Div2
END:VEVENT
BEGIN:VEVENT
DTSTART;TZID=America/Chicago:20240809T070000
DTEND;TZID=America/Chicago:20240809T070000
DTSTAMP:20260425T064852
CREATED:20240116T025615Z
LAST-MODIFIED:20240116T025615Z
UID:12893-1723186800-1723186800@www.golfstlseniors.org
SUMMARY:D1  Wk 17    Florissant Golf Club
DESCRIPTION:Div1     – Aug 09    Split Tee Start  Florissant Golf Club    $
URL:https://www.golfstlseniors.org/event/d1-wk-17-florissant-golf-club/
LOCATION:Florissant Golf Club\, 50 Country Club Ln\, Florissant\, MO\, 63033\, United States
CATEGORIES:Div1
END:VEVENT
BEGIN:VEVENT
DTSTART;TZID=America/Chicago:20240808T080000
DTEND;TZID=America/Chicago:20240808T080000
DTSTAMP:20260425T064852
CREATED:20240116T025846Z
LAST-MODIFIED:20240116T025846Z
UID:12945-1723104000-1723104000@www.golfstlseniors.org
SUMMARY:D3  Wk 17    Crescent Farms
DESCRIPTION:Div3     – Aug 08    Split Tee Start  Crescent Farms    $
URL:https://www.golfstlseniors.org/event/d3-wk-17-crescent-farms/
LOCATION:Crescent Farms\, 745 Lewis Rd\, Crescent\, MO\, 63025\, United States
CATEGORIES:Div3
END:VEVENT
BEGIN:VEVENT
DTSTART;TZID=America/Chicago:20240808T073000
DTEND;TZID=America/Chicago:20240808T073000
DTSTAMP:20260425T064852
CREATED:20240116T030130Z
LAST-MODIFIED:20240116T030130Z
UID:12997-1723102200-1723102200@www.golfstlseniors.org
SUMMARY:D5  Wk 17    Mystic Oaks Golf Course
DESCRIPTION:Div5     – Aug 08    Split Tee Start  Mystic Oaks Golf Course    $
URL:https://www.golfstlseniors.org/event/d5-wk-17-mystic-oaks-golf-course-2/
LOCATION:Mystic Oaks Golf Course\, 643 Ridge Rd\, Waterloo\, IL\, 62298\, United States
CATEGORIES:Div5
END:VEVENT
BEGIN:VEVENT
DTSTART;TZID=America/Chicago:20240808T070000
DTEND;TZID=America/Chicago:20240808T070000
DTSTAMP:20260425T064852
CREATED:20240116T030001Z
LAST-MODIFIED:20240118T171628Z
UID:12971-1723100400-1723100400@www.golfstlseniors.org
SUMMARY:D4  Wk 17    Florissant Golf Club
DESCRIPTION:Div4 – Aug 08 Split Tee Start Florissant Golf Club $28
URL:https://www.golfstlseniors.org/event/d4-wk-17-florissant-golf-club/
LOCATION:Florissant Golf Club\, 50 Country Club Ln\, Florissant\, MO\, 63033\, United States
CATEGORIES:Div4
END:VEVENT
BEGIN:VEVENT
DTSTART;TZID=America/Chicago:20240802T070000
DTEND;TZID=America/Chicago:20240802T070000
DTSTAMP:20260425T064852
CREATED:20240116T025730Z
LAST-MODIFIED:20240116T025730Z
UID:12918-1722582000-1722582000@www.golfstlseniors.org
SUMMARY:D2  Wk 16    Spencer T Olin Golf Course
DESCRIPTION:Div2     – Aug 02    Split Tee Start  Spencer T Olin Golf Course    $36.95
URL:https://www.golfstlseniors.org/event/d2-wk-16-spencer-t-olin-golf-course/
LOCATION:Spencer T Olin Golf Course\, 4701 College Ave\, Alton\, IL\, 62002\, United States
CATEGORIES:Div2
END:VEVENT
BEGIN:VEVENT
DTSTART;TZID=America/Chicago:20240802T063000
DTEND;TZID=America/Chicago:20240802T063000
DTSTAMP:20260425T064852
CREATED:20240116T025615Z
LAST-MODIFIED:20240116T025615Z
UID:12892-1722580200-1722580200@www.golfstlseniors.org
SUMMARY:D1  Wk 16    Falls Golf Club
DESCRIPTION:Div1     – Aug 02    Split Tee Start  Falls Golf Club    $42
URL:https://www.golfstlseniors.org/event/d1-wk-16-falls-golf-club/
LOCATION:Falls Golf Club\, 1170 Turtle Creek Dr\, O'Fallon\, MO\, 63366\, United States
CATEGORIES:Div1
END:VEVENT
BEGIN:VEVENT
DTSTART;TZID=America/Chicago:20240801T070000
DTEND;TZID=America/Chicago:20240801T070000
DTSTAMP:20260425T064852
CREATED:20240116T030001Z
LAST-MODIFIED:20240118T171706Z
UID:12970-1722495600-1722495600@www.golfstlseniors.org
SUMMARY:D4  Wk 16    Eagle Springs Golf Course
DESCRIPTION:Div4 – Aug 01 Split Tee Start Eagle Springs Golf Course $28
URL:https://www.golfstlseniors.org/event/d4-wk-16-eagle-springs-golf-course/
LOCATION:Eagle Springs Golf Course\, 2575 Redman Rd\, St. Louis\, MO\, 63136\, United States
CATEGORIES:Div4
END:VEVENT
BEGIN:VEVENT
DTSTART;TZID=America/Chicago:20240801T070000
DTEND;TZID=America/Chicago:20240801T070000
DTSTAMP:20260425T064852
CREATED:20240116T025845Z
LAST-MODIFIED:20240116T025845Z
UID:12944-1722495600-1722495600@www.golfstlseniors.org
SUMMARY:D3  Wk 16    Wolf Hollow Golf Club
DESCRIPTION:Div3     – Aug 01    Split Tee Start  Wolf Hollow Golf Club    $
URL:https://www.golfstlseniors.org/event/d3-wk-16-wolf-hollow-golf-club/
LOCATION:Wolf Hollow Golf Club\, 4504 MO-100\, Labadie\, MO\, 63055\, United States
CATEGORIES:Div3
END:VEVENT
BEGIN:VEVENT
DTSTART;TZID=America/Chicago:20240731T190000
DTEND;TZID=America/Chicago:20240731T190000
DTSTAMP:20260425T064852
CREATED:20240116T030116Z
LAST-MODIFIED:20240116T030116Z
UID:12996-1722452400-1722452400@www.golfstlseniors.org
SUMMARY:D5  Wk 16    Cardinal Creek GC
DESCRIPTION:Div5     – Aug 01    Shotgun Start  Cardinal Creek GC    $37
URL:https://www.golfstlseniors.org/event/d5-wk-16-cardinal-creek-gc/
LOCATION:Cardinal Creek GC\, 1192 Golf Course Rd\, Scott AFB\, IL\, 62225\, United States
CATEGORIES:Div5
END:VEVENT
BEGIN:VEVENT
DTSTART;TZID=America/Chicago:20240726T070000
DTEND;TZID=America/Chicago:20240726T070000
DTSTAMP:20260425T064852
CREATED:20240116T025730Z
LAST-MODIFIED:20240116T025730Z
UID:12917-1721977200-1721977200@www.golfstlseniors.org
SUMMARY:D2  Wk 15    Florissant Golf Club
DESCRIPTION:Div2     – Jul 26    Split Tee Start  Florissant Golf Club    $
URL:https://www.golfstlseniors.org/event/d2-wk-15-florissant-golf-club/
LOCATION:Florissant Golf Club\, 50 Country Club Ln\, Florissant\, MO\, 63033\, United States
CATEGORIES:Div2
END:VEVENT
BEGIN:VEVENT
DTSTART;TZID=America/Chicago:20240726T063000
DTEND;TZID=America/Chicago:20240726T063000
DTSTAMP:20260425T064852
CREATED:20240116T025601Z
LAST-MODIFIED:20240116T025601Z
UID:12891-1721975400-1721975400@www.golfstlseniors.org
SUMMARY:D1  Wk 15    Bear Creek Golf Club
DESCRIPTION:Div1     – Jul 26    Split Tee Start  Bear Creek Golf Club    $
URL:https://www.golfstlseniors.org/event/d1-wk-15-bear-creek-golf-club/
LOCATION:Bear Creek Golf Club\, 158 Bear Creek Dr\, Wentzville\, MO\, 63385\, United States
CATEGORIES:Div1
END:VEVENT
BEGIN:VEVENT
DTSTART;TZID=America/Chicago:20240725T080000
DTEND;TZID=America/Chicago:20240725T080000
DTSTAMP:20260425T064852
CREATED:20240116T030000Z
LAST-MODIFIED:20240116T030000Z
UID:12969-1721894400-1721894400@www.golfstlseniors.org
SUMMARY:D4  Wk 15    Crescent Farms
DESCRIPTION:Div4     – Jul 25    Split Tee Start  Crescent Farms    $
URL:https://www.golfstlseniors.org/event/d4-wk-15-crescent-farms/
LOCATION:Crescent Farms\, 745 Lewis Rd\, Crescent\, MO\, 63025\, United States
CATEGORIES:Div4
END:VEVENT
BEGIN:VEVENT
DTSTART;TZID=America/Chicago:20240725T070000
DTEND;TZID=America/Chicago:20240725T070000
DTSTAMP:20260425T064852
CREATED:20240116T030116Z
LAST-MODIFIED:20240116T030116Z
UID:12995-1721890800-1721890800@www.golfstlseniors.org
SUMMARY:D5  Wk 15    Innsbrook Golf Course
DESCRIPTION:Div5     – Jul 25    Split Tee Start  Innsbrook Golf Course    $
URL:https://www.golfstlseniors.org/event/d5-wk-15-innsbrook-golf-course/
LOCATION:Innsbrook Golf Course\, 1 Aspen Way Dr\, Innsbrook\, MO\, 63390\, United States
CATEGORIES:Div5
END:VEVENT
BEGIN:VEVENT
DTSTART;TZID=America/Chicago:20240724T190000
DTEND;TZID=America/Chicago:20240724T190000
DTSTAMP:20260425T064852
CREATED:20240116T025845Z
LAST-MODIFIED:20240116T025845Z
UID:12943-1721847600-1721847600@www.golfstlseniors.org
SUMMARY:D3  Wk 15    Cardinal Creek GC
DESCRIPTION:Div3     – Jul 25    Shotgun Start  Cardinal Creek GC    $37
URL:https://www.golfstlseniors.org/event/d3-wk-15-cardinal-creek-gc/
LOCATION:Cardinal Creek GC\, 1192 Golf Course Rd\, Scott AFB\, IL\, 62225\, United States
CATEGORIES:Div3
END:VEVENT
BEGIN:VEVENT
DTSTART;TZID=America/Chicago:20240724T180000
DTEND;TZID=America/Chicago:20240724T180000
DTSTAMP:20260425T064852
CREATED:20231116T190357Z
LAST-MODIFIED:20240107T163820Z
UID:12469-1721844000-1721844000@www.golfstlseniors.org
SUMMARY:Last Scramble Special Event Signup
DESCRIPTION:Signup for the Last Scramble Special Event will open up at 6 PM on Wednesday\, 24 July 2024
URL:https://www.golfstlseniors.org/event/last-scramble-special-event-signup/
LOCATION:Missouri Bluffs Golf Club\, 18 Research Park Cir\, St. Charles\, MO\, 63304\, United States
CATEGORIES:Special Event Tournaments
ORGANIZER;CN="Bob McNamee":MAILTO:mcnameere@yahoo.com
END:VEVENT
BEGIN:VEVENT
DTSTART;TZID=America/Chicago:20240719T070000
DTEND;TZID=America/Chicago:20240719T070000
DTSTAMP:20260425T064852
CREATED:20240116T025601Z
LAST-MODIFIED:20240116T025601Z
UID:12890-1721372400-1721372400@www.golfstlseniors.org
SUMMARY:D1  Wk 14    Spencer T Olin Golf Course
DESCRIPTION:Div1     – Jul 19    Split Tee Start  Spencer T Olin Golf Course    $36.95
URL:https://www.golfstlseniors.org/event/d1-wk-14-spencer-t-olin-golf-course/
LOCATION:Spencer T Olin Golf Course\, 4701 College Ave\, Alton\, IL\, 62002\, United States
CATEGORIES:Div1
END:VEVENT
BEGIN:VEVENT
DTSTART;TZID=America/Chicago:20240719T063000
DTEND;TZID=America/Chicago:20240719T063000
DTSTAMP:20260425T064852
CREATED:20240116T025716Z
LAST-MODIFIED:20240116T025716Z
UID:12916-1721370600-1721370600@www.golfstlseniors.org
SUMMARY:D2  Wk 14    Far Oaks Golf Club
DESCRIPTION:Div2     – Jul 19    Split Tee Start  Far Oaks Golf Club    $45
URL:https://www.golfstlseniors.org/event/d2-wk-14-far-oaks-golf-club/
LOCATION:Far Oaks Golf Club\, 419 Old Collinsville Rd\, Caseyville\, IL\, 62232\, United States
CATEGORIES:Div2
END:VEVENT
BEGIN:VEVENT
DTSTART;TZID=America/Chicago:20240718T073000
DTEND;TZID=America/Chicago:20240718T073000
DTSTAMP:20260425T064852
CREATED:20240116T030000Z
LAST-MODIFIED:20240116T030000Z
UID:12968-1721287800-1721287800@www.golfstlseniors.org
SUMMARY:D4  Wk 14    Links of Dardenne
DESCRIPTION:Div4     – Jul 18    Shotgun Start  Links of Dardenne    $
URL:https://www.golfstlseniors.org/event/d4-wk-14-links-of-dardenne/
LOCATION:Links of Dardenne\, 7000 Brassel Dr\, O'Fallon\, MO\, 63368\, United States
CATEGORIES:Div4
END:VEVENT
BEGIN:VEVENT
DTSTART;TZID=America/Chicago:20240718T070000
DTEND;TZID=America/Chicago:20240718T070000
DTSTAMP:20260425T064852
CREATED:20240116T030115Z
LAST-MODIFIED:20240116T030115Z
UID:12994-1721286000-1721286000@www.golfstlseniors.org
SUMMARY:D5  Wk 14    Woods Fort Golf Course
DESCRIPTION:Div5     – Jul 18    Split Tee Start  Woods Fort Golf Course    $37
URL:https://www.golfstlseniors.org/event/d5-wk-14-woods-fort-golf-course/
LOCATION:Woods Fort Golf Course\, 1 Country Club Dr\, Troy\, MO\, 63379\, United States
CATEGORIES:Div5
END:VEVENT
BEGIN:VEVENT
DTSTART;TZID=America/Chicago:20240718T070000
DTEND;TZID=America/Chicago:20240718T070000
DTSTAMP:20260425T064852
CREATED:20240116T025845Z
LAST-MODIFIED:20240116T025845Z
UID:12942-1721286000-1721286000@www.golfstlseniors.org
SUMMARY:D3  Wk 14    Spencer T Olin Golf Course
DESCRIPTION:Div3     – Jul 18    Split Tee Start  Spencer T Olin Golf Course    $36.95
URL:https://www.golfstlseniors.org/event/d3-wk-14-spencer-t-olin-golf-course/
LOCATION:Spencer T Olin Golf Course\, 4701 College Ave\, Alton\, IL\, 62002\, United States
CATEGORIES:Div3
END:VEVENT
BEGIN:VEVENT
DTSTART;TZID=America/Chicago:20240715T073000
DTEND;TZID=America/Chicago:20240715T133000
DTSTAMP:20260425T064852
CREATED:20231116T211426Z
LAST-MODIFIED:20240107T163909Z
UID:12483-1721028600-1721050200@www.golfstlseniors.org
SUMMARY:Pick Your Partner Special Event
DESCRIPTION:The Pick Your Partner Special Event will be held on Monday\, 15 July 2024 at the Gateway National Golf Links.  The format will be a 2-Person Scramble.  Lunch will be served.
URL:https://www.golfstlseniors.org/event/pick-your-partner-special-event-2/
LOCATION:Gateway National Golf Links\, 18 Golf Dr\, Madison\, IL\, 62060\, United States
CATEGORIES:Special Event Tournaments
ORGANIZER;CN="Joe Lerch":MAILTO:jlwc@sbcglobal.net
END:VEVENT
END:VCALENDAR