BEGIN:VCALENDAR
VERSION:2.0
PRODID:-//Metro St. Louis Seniors Golf - ECPv6.15.20//NONSGML v1.0//EN
CALSCALE:GREGORIAN
METHOD:PUBLISH
X-WR-CALNAME:Metro St. Louis Seniors Golf
X-ORIGINAL-URL:https://www.golfstlseniors.org
X-WR-CALDESC:Events for Metro St. Louis Seniors Golf
REFRESH-INTERVAL;VALUE=DURATION:PT1H
X-Robots-Tag:noindex
X-PUBLISHED-TTL:PT1H
BEGIN:VTIMEZONE
TZID:America/Chicago
BEGIN:DAYLIGHT
TZOFFSETFROM:-0600
TZOFFSETTO:-0500
TZNAME:CDT
DTSTART:20200308T080000
END:DAYLIGHT
BEGIN:STANDARD
TZOFFSETFROM:-0500
TZOFFSETTO:-0600
TZNAME:CST
DTSTART:20201101T070000
END:STANDARD
BEGIN:DAYLIGHT
TZOFFSETFROM:-0600
TZOFFSETTO:-0500
TZNAME:CDT
DTSTART:20210314T080000
END:DAYLIGHT
BEGIN:STANDARD
TZOFFSETFROM:-0500
TZOFFSETTO:-0600
TZNAME:CST
DTSTART:20211107T070000
END:STANDARD
BEGIN:DAYLIGHT
TZOFFSETFROM:-0600
TZOFFSETTO:-0500
TZNAME:CDT
DTSTART:20220313T080000
END:DAYLIGHT
BEGIN:STANDARD
TZOFFSETFROM:-0500
TZOFFSETTO:-0600
TZNAME:CST
DTSTART:20221106T070000
END:STANDARD
END:VTIMEZONE
BEGIN:VEVENT
DTSTART;TZID=America/Chicago:20210520T070000
DTEND;TZID=America/Chicago:20210520T070000
DTSTAMP:20260425T204743
CREATED:20210105T161832Z
LAST-MODIFIED:20210114T163402Z
UID:8245-1621494000-1621494000@www.golfstlseniors.org
SUMMARY:D3 Wk 7 WENTZVILLE
DESCRIPTION:Div 3 Wk 7    Split Tee #1 and #10   WENTZVILLE
URL:https://www.golfstlseniors.org/event/d3-wk-7-wentzville-2/
LOCATION:Golf Club of Wentzville\, 9 Pro Shop Dr\, Wentzville\, MO\, 63385\, United States
CATEGORIES:Div3
END:VEVENT
BEGIN:VEVENT
DTSTART;TZID=America/Chicago:20210517T063000
DTEND;TZID=America/Chicago:20210517T143000
DTSTAMP:20260425T204743
CREATED:20201112T224126Z
LAST-MODIFIED:20201222T174833Z
UID:7971-1621233000-1621261800@www.golfstlseniors.org
SUMMARY:Special Event - Ryder Cup - Gateway National GL
DESCRIPTION:17 May 2021\, 6:30 AM – 2:30 PM\, 2-Person Ryder Cup\, 4 flights\, Net Scores\, Arrive 6:30 – 7:00 AM for registration\, 7:30 AM Shotgun start\, Lunch Provided.
URL:https://www.golfstlseniors.org/event/special-event-ryder-cup-gateway-national-gl/
LOCATION:Gateway National Golf Links\, 18 Golf Dr\, Madison\, IL\, 62060\, United States
CATEGORIES:Special Event Tournaments
ORGANIZER;CN="Scott Bahno":MAILTO:bahnogolf@att.net
END:VEVENT
BEGIN:VEVENT
DTSTART;TZID=America/Chicago:20210514T070000
DTEND;TZID=America/Chicago:20210514T070000
DTSTAMP:20260425T204743
CREATED:20210105T161717Z
LAST-MODIFIED:20210114T163246Z
UID:8218-1620975600-1620975600@www.golfstlseniors.org
SUMMARY:D2 Wk 6 OAK VALLEY
DESCRIPTION:Div 2 Wk 6    Split Tee #1 and #10   OAK VALLEY
URL:https://www.golfstlseniors.org/event/d2-wk-6-oak-valley-2/
LOCATION:Oak Valley Golf Course\, 1230 Abbey Ln\, Pevely\, MO\, 63070\, United States
CATEGORIES:Div2
END:VEVENT
BEGIN:VEVENT
DTSTART;TZID=America/Chicago:20210514T070000
DTEND;TZID=America/Chicago:20210514T070000
DTSTAMP:20260425T204743
CREATED:20210105T161601Z
LAST-MODIFIED:20210501T215725Z
UID:8192-1620975600-1620975600@www.golfstlseniors.org
SUMMARY:D1 Wk 6 WOLF HOLLOW
DESCRIPTION:Div 1 Wk 6 Split Tee Start WOLF HOLLOW
URL:https://www.golfstlseniors.org/event/d1-wk-6-wolf-hollow-2/
LOCATION:Wolf Hollow Golf Club\, 4504 MO-100\, Labadie\, MO\, 63055\, United States
CATEGORIES:Div1
END:VEVENT
BEGIN:VEVENT
DTSTART;TZID=America/Chicago:20210513T073000
DTEND;TZID=America/Chicago:20210513T073000
DTSTAMP:20260425T204743
CREATED:20210105T162033Z
LAST-MODIFIED:20210114T163517Z
UID:8270-1620891000-1620891000@www.golfstlseniors.org
SUMMARY:D4 Wk 6 INCLINE VILLAGE
DESCRIPTION:Div 4 Wk 6    Split Tee #1 and #10   INCLINE VILLAGE
URL:https://www.golfstlseniors.org/event/d4-wk-6-incline-village-2/
LOCATION:Incline Village Golf Course\, 10220 Fairway Dr\, Foristell\, MO\, 63348\, United States
CATEGORIES:Div4
END:VEVENT
BEGIN:VEVENT
DTSTART;TZID=America/Chicago:20210513T070000
DTEND;TZID=America/Chicago:20210513T070000
DTSTAMP:20260425T204743
CREATED:20210105T161832Z
LAST-MODIFIED:20210409T220308Z
UID:8244-1620889200-1620889200@www.golfstlseniors.org
SUMMARY:D3 Wk 6 ACORNS
DESCRIPTION:Div 3 Wk 6 Split Tee Start ACORNS
URL:https://www.golfstlseniors.org/event/d3-wk-6-acorns-2/
LOCATION:Acorns Golf Links\, 3933 Ahne Rd\, Waterloo\, Illinois\, 62298\, United States
CATEGORIES:Div3
END:VEVENT
BEGIN:VEVENT
DTSTART;TZID=America/Chicago:20210513T063000
DTEND;TZID=America/Chicago:20210513T063000
DTSTAMP:20260425T204743
CREATED:20210105T162529Z
LAST-MODIFIED:20210114T163634Z
UID:8296-1620887400-1620887400@www.golfstlseniors.org
SUMMARY:D5 Wk 6 ABERDEEN
DESCRIPTION:Div 5 Wk 6    Split Tee #1 and #10   ABERDEEN
URL:https://www.golfstlseniors.org/event/d5-wk-6-aberdeen/
LOCATION:Aberdeen Golf Club\, 4111 Crescent Rd\, Eureka\, MO\, 63025\, United States
CATEGORIES:Div5
END:VEVENT
BEGIN:VEVENT
DTSTART;TZID=America/Chicago:20210507T070000
DTEND;TZID=America/Chicago:20210507T070000
DTSTAMP:20260425T204743
CREATED:20210105T161717Z
LAST-MODIFIED:20210114T163246Z
UID:8217-1620370800-1620370800@www.golfstlseniors.org
SUMMARY:D2 Wk 5 WENTZVILLE
DESCRIPTION:Div 2 Wk 5    Split Tee #1 and #10   WENTZVILLE
URL:https://www.golfstlseniors.org/event/d2-wk-5-wentzville-2/
LOCATION:Golf Club of Wentzville\, 9 Pro Shop Dr\, Wentzville\, MO\, 63385\, United States
CATEGORIES:Div2
END:VEVENT
BEGIN:VEVENT
DTSTART;TZID=America/Chicago:20210507T070000
DTEND;TZID=America/Chicago:20210507T070000
DTSTAMP:20260425T204743
CREATED:20210105T161558Z
LAST-MODIFIED:20210114T163128Z
UID:8191-1620370800-1620370800@www.golfstlseniors.org
SUMMARY:D1 Wk 5 LOCKHAVEN
DESCRIPTION:Div 1 Wk 5    Split Tee #1 and #10   LOCKHAVEN
URL:https://www.golfstlseniors.org/event/d1-wk-5-lockhaven/
LOCATION:Lockhaven Golf Club\, 10872 Lawrence Keler Dr\, Godfrey\, IL\, 62035\, United States
CATEGORIES:Div1
END:VEVENT
BEGIN:VEVENT
DTSTART;TZID=America/Chicago:20210506T073000
DTEND;TZID=America/Chicago:20210506T073000
DTSTAMP:20260425T204743
CREATED:20210105T161832Z
LAST-MODIFIED:20210114T163402Z
UID:8243-1620286200-1620286200@www.golfstlseniors.org
SUMMARY:D3 Wk 5 INCLINE VILLAGE
DESCRIPTION:Div 3 Wk 5    Split Tee #1 and #10   INCLINE VILLAGE
URL:https://www.golfstlseniors.org/event/d3-wk-5-incline-village-2/
LOCATION:Incline Village Golf Course\, 10220 Fairway Dr\, Foristell\, MO\, 63348\, United States
CATEGORIES:Div3
END:VEVENT
BEGIN:VEVENT
DTSTART;TZID=America/Chicago:20210506T070000
DTEND;TZID=America/Chicago:20210506T070000
DTSTAMP:20260425T204743
CREATED:20210105T162033Z
LAST-MODIFIED:20210114T163516Z
UID:8269-1620284400-1620284400@www.golfstlseniors.org
SUMMARY:D4 Wk 5 OAK VALLEY
DESCRIPTION:Div 4 Wk 5    Split Tee #1 and #10   OAK VALLEY
URL:https://www.golfstlseniors.org/event/d4-wk-5-oak-valley-2/
LOCATION:Oak Valley Golf Course\, 1230 Abbey Ln\, Pevely\, MO\, 63070\, United States
CATEGORIES:Div4
END:VEVENT
BEGIN:VEVENT
DTSTART;TZID=America/Chicago:20210506T063000
DTEND;TZID=America/Chicago:20210506T063000
DTSTAMP:20260425T204743
CREATED:20210105T162529Z
LAST-MODIFIED:20210409T220025Z
UID:8295-1620282600-1620282600@www.golfstlseniors.org
SUMMARY:D5 Wk 5 BEAR CREEK
DESCRIPTION:Div 5 Wk 5 Split Tee Start BEAR CREEK
URL:https://www.golfstlseniors.org/event/d5-wk-5-bear-creek/
LOCATION:Bear Creek Golf Club\, 158 Bear Creek Dr\, Wentzville\, MO\, 63385\, United States
CATEGORIES:Div5
END:VEVENT
BEGIN:VEVENT
DTSTART;TZID=America/Chicago:20210503T073000
DTEND;TZID=America/Chicago:20210503T073000
DTSTAMP:20260425T204743
CREATED:20201203T041201Z
LAST-MODIFIED:20201203T041201Z
UID:8081-1620027000-1620027000@www.golfstlseniors.org
SUMMARY:Metro-Plus   Lake Forest Country Club
DESCRIPTION:Metro-Plus   May 03    Lake Forest Country Club     7:30 AM    Spilt Tee    $50   Pay  At Course Cash Only     Food – Cash Only
URL:https://www.golfstlseniors.org/event/metro-plus-lake-forest-country-club-2/
LOCATION:Lake Forest Country Club\, 300 Yard Drive\, Lake St. Louis\, MO\, 63367\, United States
CATEGORIES:M-P
END:VEVENT
BEGIN:VEVENT
DTSTART;TZID=America/Chicago:20210430T080000
DTEND;TZID=America/Chicago:20210430T080000
DTSTAMP:20260425T204743
CREATED:20210105T161558Z
LAST-MODIFIED:20210114T163128Z
UID:8190-1619769600-1619769600@www.golfstlseniors.org
SUMMARY:D1 Wk 4 COLUMBIA
DESCRIPTION:Div 1 Wk 4    Shotgun   COLUMBIA
URL:https://www.golfstlseniors.org/event/d1-wk-4-columbia-2/
LOCATION:Columbia Golf Club\, 125 2770 N\, Columbia\, IL\, 62236\, United States
CATEGORIES:Div1
END:VEVENT
BEGIN:VEVENT
DTSTART;TZID=America/Chicago:20210430T070000
DTEND;TZID=America/Chicago:20210430T070000
DTSTAMP:20260425T204743
CREATED:20210105T161703Z
LAST-MODIFIED:20210501T220712Z
UID:8216-1619766000-1619766000@www.golfstlseniors.org
SUMMARY:D2 Wk 4 ACORNS
DESCRIPTION:Div 2 Wk 4 Split Tee Start ACORNS
URL:https://www.golfstlseniors.org/event/d2-wk-4-acorns-2/
LOCATION:Acorns Golf Links\, 3933 Ahne Rd\, Waterloo\, Illinois\, 62298\, United States
CATEGORIES:Div2
END:VEVENT
BEGIN:VEVENT
DTSTART;TZID=America/Chicago:20210429T070000
DTEND;TZID=America/Chicago:20210429T070000
DTSTAMP:20260425T204743
CREATED:20210105T162529Z
LAST-MODIFIED:20210320T014828Z
UID:8294-1619679600-1619679600@www.golfstlseniors.org
SUMMARY:D5 Wk 4 WOLF HOLLOW
DESCRIPTION:Div 5 Wk 4 Split Tee Start WOLF HOLLOW
URL:https://www.golfstlseniors.org/event/d5-wk-4-wolf-hollow/
LOCATION:Wolf Hollow Golf Club\, 4504 MO-100\, Labadie\, MO\, 63055\, United States
CATEGORIES:Div5
END:VEVENT
BEGIN:VEVENT
DTSTART;TZID=America/Chicago:20210429T070000
DTEND;TZID=America/Chicago:20210429T070000
DTSTAMP:20260425T204743
CREATED:20210105T161831Z
LAST-MODIFIED:20210415T000929Z
UID:8242-1619679600-1619679600@www.golfstlseniors.org
SUMMARY:D3 Wk 4 FLORISSANT
DESCRIPTION:Div 3 Wk 4 Split Tee Start FLORISSANT
URL:https://www.golfstlseniors.org/event/d3-wk-4-florissant-2/
LOCATION:Florissant Golf Club\, 50 Country Club Ln\, Florissant\, MO\, 63033\, United States
CATEGORIES:Div3
END:VEVENT
BEGIN:VEVENT
DTSTART;TZID=America/Chicago:20210429T063000
DTEND;TZID=America/Chicago:20210429T063000
DTSTAMP:20260425T204743
CREATED:20210105T162032Z
LAST-MODIFIED:20210415T000830Z
UID:8268-1619677800-1619677800@www.golfstlseniors.org
SUMMARY:D4 Wk 4 FALLS
DESCRIPTION:Div 4 Wk 4 Split Tee Start FALLS
URL:https://www.golfstlseniors.org/event/d4-wk-4-falls-2/
LOCATION:Falls Golf Club\, 1170 Turtle Creek Dr\, O'Fallon\, MO\, 63366\, United States
CATEGORIES:Div4
END:VEVENT
BEGIN:VEVENT
DTSTART;TZID=America/Chicago:20210426T093000
DTEND;TZID=America/Chicago:20210426T093000
DTSTAMP:20260425T204743
CREATED:20201203T041201Z
LAST-MODIFIED:20201203T041201Z
UID:8080-1619429400-1619429400@www.golfstlseniors.org
SUMMARY:Metro-Plus   Glen Echo Country Club
DESCRIPTION:Metro-Plus   Apr 26    Glen Echo Country Club     9:30 AM    Shotgun    $73   Pay  In Advance     Food – Snack bar Open for Cash
URL:https://www.golfstlseniors.org/event/metro-plus-glen-echo-country-club-2/
LOCATION:Glen Echo Country Club\, 3401 Lucas and Hunt Road\,\, St. Louis\, MO\, 63121\, United States
CATEGORIES:M-P
END:VEVENT
BEGIN:VEVENT
DTSTART;TZID=America/Chicago:20210423T073000
DTEND;TZID=America/Chicago:20210423T073000
DTSTAMP:20260425T204743
CREATED:20210105T161703Z
LAST-MODIFIED:20210409T230901Z
UID:8215-1619163000-1619163000@www.golfstlseniors.org
SUMMARY:D2 Wk 3 LINKS @ DARDENNE
DESCRIPTION:Div 2 Wk 3 Shotgun Tee Start LINKS @ DARDENNE
URL:https://www.golfstlseniors.org/event/d2-wk-3-links-dardenne-2/
LOCATION:Links of Dardenne\, 7000 Brassel Dr\, O'Fallon\, MO\, 63368\, United States
CATEGORIES:Div2
END:VEVENT
BEGIN:VEVENT
DTSTART;TZID=America/Chicago:20210423T070000
DTEND;TZID=America/Chicago:20210423T070000
DTSTAMP:20260425T204743
CREATED:20210105T161558Z
LAST-MODIFIED:20210114T163128Z
UID:8189-1619161200-1619161200@www.golfstlseniors.org
SUMMARY:D1 Wk 3 SPENCER T OLIN #1
DESCRIPTION:Div 1 Wk 3    Split Tee #1 and #10   SPENCER T OLIN #1
URL:https://www.golfstlseniors.org/event/d1-wk-3-spencer-t-olin-1/
LOCATION:Spencer T Olin Golf Course\, 4701 College Ave\, Alton\, IL\, 62002\, United States
CATEGORIES:Div1
END:VEVENT
BEGIN:VEVENT
DTSTART;TZID=America/Chicago:20210422T070000
DTEND;TZID=America/Chicago:20210422T070000
DTSTAMP:20260425T204743
CREATED:20210105T162529Z
LAST-MODIFIED:20210114T163633Z
UID:8293-1619074800-1619074800@www.golfstlseniors.org
SUMMARY:D5 Wk 3 SPENCER T OLIN #2
DESCRIPTION:Div 5 Wk 3    Split Tee #1 and #10   SPENCER T OLIN #2
URL:https://www.golfstlseniors.org/event/d5-wk-3-spencer-t-olin-2/
LOCATION:Spencer T Olin Golf Course\, 4701 College Ave\, Alton\, IL\, 62002\, United States
CATEGORIES:Div5
END:VEVENT
BEGIN:VEVENT
DTSTART;TZID=America/Chicago:20210422T070000
DTEND;TZID=America/Chicago:20210422T070000
DTSTAMP:20260425T204743
CREATED:20210105T161817Z
LAST-MODIFIED:20210114T163346Z
UID:8241-1619074800-1619074800@www.golfstlseniors.org
SUMMARY:D3 Wk 3 LOCKHAVEN
DESCRIPTION:Div 3 Wk 3    Split Tee #1 and #10   LOCKHAVEN
URL:https://www.golfstlseniors.org/event/d3-wk-3-lockhaven-2/
LOCATION:Lockhaven Golf Club\, 10872 Lawrence Keler Dr\, Godfrey\, IL\, 62035\, United States
CATEGORIES:Div3
END:VEVENT
BEGIN:VEVENT
DTSTART;TZID=America/Chicago:20210422T063000
DTEND;TZID=America/Chicago:20210422T063000
DTSTAMP:20260425T204743
CREATED:20210105T162032Z
LAST-MODIFIED:20210409T215934Z
UID:8267-1619073000-1619073000@www.golfstlseniors.org
SUMMARY:D4 Wk 3 BEAR CREEK
DESCRIPTION:Div 4 Wk 3 Split Tee Start BEAR CREEK
URL:https://www.golfstlseniors.org/event/d4-wk-3-bear-creek-2/
LOCATION:Bear Creek Golf Club\, 158 Bear Creek Dr\, Wentzville\, MO\, 63385\, United States
CATEGORIES:Div4
END:VEVENT
BEGIN:VEVENT
DTSTART;TZID=America/Chicago:20210419T063000
DTEND;TZID=America/Chicago:20210419T143000
DTSTAMP:20260425T204743
CREATED:20201112T224201Z
LAST-MODIFIED:20201222T174924Z
UID:7968-1618813800-1618842600@www.golfstlseniors.org
SUMMARY:Special Event - Find Your Swing - Sunset Hills CC
DESCRIPTION:19 April 2021\, 6:30 AM – 2:30 PM\, 2-Person Scramble\, 4 flights\, Net Scores\, Arrive 6:30 – 7:30 AM for registration\, 8:00 AM Shotgun start\, Lunch Provided
URL:https://www.golfstlseniors.org/event/special-event-find-your-swing-sunset-hills-cc/
LOCATION:Sunset Hills Country Club\, 2525 S State Rte 157\, Edwardsville\, IL\, 62025\, United States
CATEGORIES:Special Event Tournaments
END:VEVENT
BEGIN:VEVENT
DTSTART;TZID=America/Chicago:20210416T080000
DTEND;TZID=America/Chicago:20210416T080000
DTSTAMP:20260425T204743
CREATED:20210105T161702Z
LAST-MODIFIED:20210114T163232Z
UID:8214-1618560000-1618560000@www.golfstlseniors.org
SUMMARY:D2 Wk 2 COLUMBIA
DESCRIPTION:Div 2 Wk 2    Shotgun   COLUMBIA
URL:https://www.golfstlseniors.org/event/d2-wk-2-columbia-2/
LOCATION:Columbia Golf Club\, 125 2770 N\, Columbia\, IL\, 62236\, United States
CATEGORIES:Div2
END:VEVENT
BEGIN:VEVENT
DTSTART;TZID=America/Chicago:20210416T073000
DTEND;TZID=America/Chicago:20210416T073000
DTSTAMP:20260425T204743
CREATED:20210105T161558Z
LAST-MODIFIED:20210114T163128Z
UID:8188-1618558200-1618558200@www.golfstlseniors.org
SUMMARY:D1 Wk 2 CRESCENT FARMS
DESCRIPTION:Div 1 Wk 2    Split Tee #1 and #10   CRESCENT FARMS
URL:https://www.golfstlseniors.org/event/d1-wk-2-crescent-farms-2/
LOCATION:Crescent Farms\, 745 Lewis Rd\, Crescent\, MO\, 63025\, United States
CATEGORIES:Div1
END:VEVENT
BEGIN:VEVENT
DTSTART;TZID=America/Chicago:20210415T080000
DTEND;TZID=America/Chicago:20210415T080000
DTSTAMP:20260425T204743
CREATED:20210105T161817Z
LAST-MODIFIED:20210114T163346Z
UID:8240-1618473600-1618473600@www.golfstlseniors.org
SUMMARY:D3 Wk 2 COLUMBIA BRIDGES
DESCRIPTION:Div 3 Wk 2    Split Tee #1 and #10   COLUMBIA BRIDGES
URL:https://www.golfstlseniors.org/event/d3-wk-2-columbia-bridges-2/
LOCATION:Columbia Bridges Golf Club\, 1655 Columbia Bridges Rd\, Columbia\, IL\, 62236\, United States
CATEGORIES:Div3
END:VEVENT
BEGIN:VEVENT
DTSTART;TZID=America/Chicago:20210415T070000
DTEND;TZID=America/Chicago:20210415T070000
DTSTAMP:20260425T204743
CREATED:20210105T162529Z
LAST-MODIFIED:20210409T220218Z
UID:8292-1618470000-1618470000@www.golfstlseniors.org
SUMMARY:D5 Wk 2 ACORNS
DESCRIPTION:Div 5 Wk 2 Split Tee Start ACORNS
URL:https://www.golfstlseniors.org/event/d5-wk-2-acorns/
LOCATION:Acorns Golf Links\, 3933 Ahne Rd\, Waterloo\, Illinois\, 62298\, United States
CATEGORIES:Div5
END:VEVENT
BEGIN:VEVENT
DTSTART;TZID=America/Chicago:20210415T070000
DTEND;TZID=America/Chicago:20210415T070000
DTSTAMP:20260425T204743
CREATED:20210105T161933Z
LAST-MODIFIED:20210114T163502Z
UID:8266-1618470000-1618470000@www.golfstlseniors.org
SUMMARY:D4 Wk 2 BELK PARK
DESCRIPTION:Div 4 Wk 2    Split Tee #1 and #10   BELK PARK
URL:https://www.golfstlseniors.org/event/d4-wk-2-belk-park-2/
LOCATION:Belk Park Golf Course\, 880 Belk Park Rd\, Wood River\, Illinois\, 62095\, United States
CATEGORIES:Div4
END:VEVENT
END:VCALENDAR