BEGIN:VCALENDAR
VERSION:2.0
PRODID:-//Metro St. Louis Seniors Golf - ECPv6.15.20//NONSGML v1.0//EN
CALSCALE:GREGORIAN
METHOD:PUBLISH
X-WR-CALNAME:Metro St. Louis Seniors Golf
X-ORIGINAL-URL:https://www.golfstlseniors.org
X-WR-CALDESC:Events for Metro St. Louis Seniors Golf
REFRESH-INTERVAL;VALUE=DURATION:PT1H
X-Robots-Tag:noindex
X-PUBLISHED-TTL:PT1H
BEGIN:VTIMEZONE
TZID:America/Chicago
BEGIN:DAYLIGHT
TZOFFSETFROM:-0600
TZOFFSETTO:-0500
TZNAME:CDT
DTSTART:20190310T080000
END:DAYLIGHT
BEGIN:STANDARD
TZOFFSETFROM:-0500
TZOFFSETTO:-0600
TZNAME:CST
DTSTART:20191103T070000
END:STANDARD
BEGIN:DAYLIGHT
TZOFFSETFROM:-0600
TZOFFSETTO:-0500
TZNAME:CDT
DTSTART:20200308T080000
END:DAYLIGHT
BEGIN:STANDARD
TZOFFSETFROM:-0500
TZOFFSETTO:-0600
TZNAME:CST
DTSTART:20201101T070000
END:STANDARD
BEGIN:DAYLIGHT
TZOFFSETFROM:-0600
TZOFFSETTO:-0500
TZNAME:CDT
DTSTART:20210314T080000
END:DAYLIGHT
BEGIN:STANDARD
TZOFFSETFROM:-0500
TZOFFSETTO:-0600
TZNAME:CST
DTSTART:20211107T070000
END:STANDARD
END:VTIMEZONE
BEGIN:VEVENT
DTSTART;TZID=America/Chicago:20200902T070000
DTEND;TZID=America/Chicago:20200902T070000
DTSTAMP:20260425T231203
CREATED:20191108T183818Z
LAST-MODIFIED:20191108T183818Z
UID:6090-1599030000-1599030000@www.golfstlseniors.org
SUMMARY:D9 – 9 Hole Tournament – RIVERSIDE
DESCRIPTION:D9 9 Hole Tournaments  Split Tee #1 and #10  RIVERSIDE        $12  or  $15 for 9 or 18 hole walkers with their own cart\, and $18 or $22 respectively for 9 and 18 hole riders.
URL:https://www.golfstlseniors.org/event/d9-9-hole-tournament-riverside-28/
LOCATION:Riverside Golf Club\, 1210 Larkin Williams Rd\, Fenton\, MO\, 63026\, United States
CATEGORIES:Div9
END:VEVENT
BEGIN:VEVENT
DTSTART;TZID=America/Chicago:20200828T070000
DTEND;TZID=America/Chicago:20200828T070000
DTSTAMP:20260425T231203
CREATED:20191108T183805Z
LAST-MODIFIED:20191108T183805Z
UID:6057-1598598000-1598598000@www.golfstlseniors.org
SUMMARY:D2 Wk 20   WOODLANDS
DESCRIPTION:Div 2   Wk 20    Split Tee #1 and #10   WOODLANDS   $26
URL:https://www.golfstlseniors.org/event/d2-wk-20-woodlands/
LOCATION:Woodlands Golf Club\, 2839 Harris Ln\, Alton\, IL\, 62002\, United States
CATEGORIES:Div2
END:VEVENT
BEGIN:VEVENT
DTSTART;TZID=America/Chicago:20200828T070000
DTEND;TZID=America/Chicago:20200828T070000
DTSTAMP:20260425T231203
CREATED:20191108T183757Z
LAST-MODIFIED:20191108T183757Z
UID:6034-1598598000-1598598000@www.golfstlseniors.org
SUMMARY:D1 Wk 20   SPENCER T OLIN
DESCRIPTION:Div 1   Wk 20    Split Tee #1 and #10   SPENCER T OLIN    $27.95
URL:https://www.golfstlseniors.org/event/d1-wk-20-spencer-t-olin/
LOCATION:Spencer T Olin Golf Course\, 4701 College Ave\, Alton\, IL\, 62002\, United States
CATEGORIES:Div1
END:VEVENT
BEGIN:VEVENT
DTSTART;TZID=America/Chicago:20200827T073000
DTEND;TZID=America/Chicago:20200827T073000
DTSTAMP:20260425T231203
CREATED:20191108T183746Z
LAST-MODIFIED:20191108T183746Z
UID:6004-1598513400-1598513400@www.golfstlseniors.org
SUMMARY:D3 Wk 20   INCLINE VILLAGE
DESCRIPTION:Div 3   Wk 20    Split Tee #1 and #10   INCLINE VILLAGE   $25
URL:https://www.golfstlseniors.org/event/d3-wk-20-incline-village/
LOCATION:Incline Village Golf Course\, 10220 Fairway Dr\, Foristell\, MO\, 63348\, United States
CATEGORIES:Div3
END:VEVENT
BEGIN:VEVENT
DTSTART;TZID=America/Chicago:20200827T070000
DTEND;TZID=America/Chicago:20200827T070000
DTSTAMP:20260425T231203
CREATED:20191108T183757Z
LAST-MODIFIED:20191108T183757Z
UID:6033-1598511600-1598511600@www.golfstlseniors.org
SUMMARY:D5 Wk 20   SPENCER T OLIN
DESCRIPTION:Div 5   Wk 20    Split Tee #1 and #10   SPENCER T OLIN    $27.95
URL:https://www.golfstlseniors.org/event/d5-wk-20-spencer-t-olin/
LOCATION:Spencer T Olin Golf Course\, 4701 College Ave\, Alton\, IL\, 62002\, United States
CATEGORIES:Div5
END:VEVENT
BEGIN:VEVENT
DTSTART;TZID=America/Chicago:20200827T063000
DTEND;TZID=America/Chicago:20200827T063000
DTSTAMP:20260425T231203
CREATED:20191108T183743Z
LAST-MODIFIED:20191108T183743Z
UID:5993-1598509800-1598509800@www.golfstlseniors.org
SUMMARY:D4 Wk 20   FAR OAKS
DESCRIPTION:Div 4   Wk 20    Split Tee #1 and #10   FAR OAKS    $32
URL:https://www.golfstlseniors.org/event/d4-wk-20-far-oaks/
LOCATION:Far Oaks Golf Club\, 419 Old Collinsville Rd\, Caseyville\, IL\, 62232\, United States
CATEGORIES:Div4
END:VEVENT
BEGIN:VEVENT
DTSTART;TZID=America/Chicago:20200826T070000
DTEND;TZID=America/Chicago:20200826T070000
DTSTAMP:20260425T231203
CREATED:20191108T183816Z
LAST-MODIFIED:20191108T183816Z
UID:6089-1598425200-1598425200@www.golfstlseniors.org
SUMMARY:D9 – 9 Hole Tournament – RIVERSIDE
DESCRIPTION:D9 9 Hole Tournaments  Split Tee #1 and #10  RIVERSIDE        $12  or  $15 for 9 or 18 hole walkers with their own cart\, and $18 or $22 respectively for 9 and 18 hole riders.
URL:https://www.golfstlseniors.org/event/d9-9-hole-tournament-riverside-27/
LOCATION:Riverside Golf Club\, 1210 Larkin Williams Rd\, Fenton\, MO\, 63026\, United States
CATEGORIES:Div9
END:VEVENT
BEGIN:VEVENT
DTSTART;TZID=America/Chicago:20200824T083000
DTEND;TZID=America/Chicago:20200824T083000
DTSTAMP:20260425T231203
CREATED:20191116T035348Z
LAST-MODIFIED:20191116T035348Z
UID:6192-1598257800-1598257800@www.golfstlseniors.org
SUMMARY:Metro-Plus   Franklin County Country Club
DESCRIPTION:Metro-Plus   August 24    Franklin County Country Club     8:30 AM    Split Tee    $50   Pay  At Course Cash/CC     Food – Purchase at Course
URL:https://www.golfstlseniors.org/event/metro-plus-franklin-county-country-club/
LOCATION:Franklin County Country Club\, 6413 Country Club Road\, Washington\, MO\, 63090\, United States
CATEGORIES:M-P
END:VEVENT
BEGIN:VEVENT
DTSTART;TZID=America/Chicago:20200821T070000
DTEND;TZID=America/Chicago:20200821T070000
DTSTAMP:20260425T231203
CREATED:20191108T183746Z
LAST-MODIFIED:20191108T183746Z
UID:6003-1597993200-1597993200@www.golfstlseniors.org
SUMMARY:D1 Wk 19   INCLINE VILLAGE
DESCRIPTION:Div 1   Wk 19    Split Tee #1 and #10   INCLINE VILLAGE   $25
URL:https://www.golfstlseniors.org/event/d1-wk-19-incline-village/
LOCATION:Incline Village Golf Course\, 10220 Fairway Dr\, Foristell\, MO\, 63348\, United States
CATEGORIES:Div1
END:VEVENT
BEGIN:VEVENT
DTSTART;TZID=America/Chicago:20200821T063000
DTEND;TZID=America/Chicago:20200821T063000
DTSTAMP:20260425T231203
CREATED:20191108T183743Z
LAST-MODIFIED:20191108T183743Z
UID:5992-1597991400-1597991400@www.golfstlseniors.org
SUMMARY:D2 Wk 19   FAR OAKS
DESCRIPTION:Div 2   Wk 19    Split Tee #1 and #10   FAR OAKS    $32
URL:https://www.golfstlseniors.org/event/d2-wk-19-far-oaks/
LOCATION:Far Oaks Golf Club\, 419 Old Collinsville Rd\, Caseyville\, IL\, 62232\, United States
CATEGORIES:Div2
END:VEVENT
BEGIN:VEVENT
DTSTART;TZID=America/Chicago:20200820T073000
DTEND;TZID=America/Chicago:20200820T073000
DTSTAMP:20260425T231203
CREATED:20191108T183734Z
LAST-MODIFIED:20191108T183734Z
UID:5968-1597908600-1597908600@www.golfstlseniors.org
SUMMARY:D4 Wk 19   CRESCENT FARMS
DESCRIPTION:Div 4   Wk 19    Split Tee #1 and #10   CRESCENT FARMS    $35
URL:https://www.golfstlseniors.org/event/d4-wk-19-crescent-farms/
LOCATION:Crescent Farms\, 745 Lewis Rd\, Crescent\, MO\, 63025\, United States
CATEGORIES:Div4
END:VEVENT
BEGIN:VEVENT
DTSTART;TZID=America/Chicago:20200820T073000
DTEND;TZID=America/Chicago:20200820T073000
DTSTAMP:20260425T231203
CREATED:20191108T183732Z
LAST-MODIFIED:20191209T203745Z
UID:5957-1597908600-1597908600@www.golfstlseniors.org
SUMMARY:D5 Wk 19   COLUMBIA  *
DESCRIPTION:Div 5 Wk 19 Shotgun COLUMBIA * $28
URL:https://www.golfstlseniors.org/event/d5-wk-19-columbia/
LOCATION:Columbia Golf Club\, 125 2770 N\, Columbia\, IL\, 62236\, United States
CATEGORIES:Div5
END:VEVENT
BEGIN:VEVENT
DTSTART;TZID=America/Chicago:20200820T070000
DTEND;TZID=America/Chicago:20200820T070000
DTSTAMP:20260425T231203
CREATED:20191108T183750Z
LAST-MODIFIED:20191108T183750Z
UID:6013-1597906800-1597906800@www.golfstlseniors.org
SUMMARY:D3 Wk 19   LEGACY
DESCRIPTION:Div 3   Wk 19    Split Tee #1 and #10   LEGACY    $23
URL:https://www.golfstlseniors.org/event/d3-wk-19-legacy/
LOCATION:Legacy Golf Course\, 3500 Cargill Rd\, Granite City\, IL\, 62040\, United States
CATEGORIES:Div3
END:VEVENT
BEGIN:VEVENT
DTSTART;TZID=America/Chicago:20200819T070000
DTEND;TZID=America/Chicago:20200819T070000
DTSTAMP:20260425T231203
CREATED:20191108T183816Z
LAST-MODIFIED:20191108T183816Z
UID:6088-1597820400-1597820400@www.golfstlseniors.org
SUMMARY:D9 – 9 Hole Tournament – RIVERSIDE
DESCRIPTION:D9 9 Hole Tournaments  Split Tee #1 and #10  RIVERSIDE        $12  or  $15 for 9 or 18 hole walkers with their own cart\, and $18 or $22 respectively for 9 and 18 hole riders.
URL:https://www.golfstlseniors.org/event/d9-9-hole-tournament-riverside-26/
LOCATION:Riverside Golf Club\, 1210 Larkin Williams Rd\, Fenton\, MO\, 63026\, United States
CATEGORIES:Div9
END:VEVENT
BEGIN:VEVENT
DTSTART;TZID=America/Chicago:20200818T063000
DTEND;TZID=America/Chicago:20200818T140000
DTSTAMP:20260425T231203
CREATED:20191001T203441Z
LAST-MODIFIED:20200120T154916Z
UID:5756-1597732200-1597759200@www.golfstlseniors.org
SUMMARY:SpecEvt - Lou Luketetich Founders' Day - Whitmoor CC
DESCRIPTION:4-Man Shamble\, 4 Flights\, Net Scores \nArrive 6:30 – 7:00 AM for registration \n7:30 AM Shotgun Start \nLunch included
URL:https://www.golfstlseniors.org/event/specevt-founders-day-whitmoor-cc/
LOCATION:Whitmoor Country Club\, 1100 Whitmoor Dr\, Weldon Spring\, MO\, 63304\, United States
CATEGORIES:Special Event Tournaments
ORGANIZER;CN="Bill Molz":MAILTO:wfmolz@yahoo.com
END:VEVENT
BEGIN:VEVENT
DTSTART;TZID=America/Chicago:20200814T070000
DTEND;TZID=America/Chicago:20200814T070000
DTSTAMP:20260425T231203
CREATED:20191108T183745Z
LAST-MODIFIED:20191108T183745Z
UID:5999-1597388400-1597388400@www.golfstlseniors.org
SUMMARY:D1 Wk 18   FLORISSANT
DESCRIPTION:Div 1   Wk 18    Split Tee #1 and #10   FLORISSANT    $28
URL:https://www.golfstlseniors.org/event/d1-wk-18-florissant/
LOCATION:Florissant Golf Club\, 50 Country Club Ln\, Florissant\, MO\, 63033\, United States
CATEGORIES:Div1
END:VEVENT
BEGIN:VEVENT
DTSTART;TZID=America/Chicago:20200814T070000
DTEND;TZID=America/Chicago:20200814T070000
DTSTAMP:20260425T231203
CREATED:20191108T183729Z
LAST-MODIFIED:20191108T183729Z
UID:5949-1597388400-1597388400@www.golfstlseniors.org
SUMMARY:D2 Wk 18   BEAR CREEK
DESCRIPTION:Div 2   Wk 18    Split Tee #1 and #10   BEAR CREEK    $33
URL:https://www.golfstlseniors.org/event/d2-wk-18-bear-creek/
LOCATION:Bear Creek Golf Club\, 158 Bear Creek Dr\, Wentzville\, MO\, 63385\, United States
CATEGORIES:Div2
END:VEVENT
BEGIN:VEVENT
DTSTART;TZID=America/Chicago:20200813T073000
DTEND;TZID=America/Chicago:20200813T073000
DTSTAMP:20260425T231203
CREATED:20191108T183751Z
LAST-MODIFIED:20191108T183751Z
UID:6018-1597303800-1597303800@www.golfstlseniors.org
SUMMARY:D4 Wk 18   LINKS @ DARDENNE *
DESCRIPTION:Div 4   Wk 18    Shotgun   LINKS @ DARDENNE *   $31
URL:https://www.golfstlseniors.org/event/d4-wk-18-links-dardenne/
LOCATION:Links of Dardenne\, 7000 Brassel Dr\, O'Fallon\, MO\, 63368\, United States
CATEGORIES:Div4
END:VEVENT
BEGIN:VEVENT
DTSTART;TZID=America/Chicago:20200813T070000
DTEND;TZID=America/Chicago:20200813T070000
DTSTAMP:20260425T231203
CREATED:20191108T183758Z
LAST-MODIFIED:20191108T183758Z
UID:6038-1597302000-1597302000@www.golfstlseniors.org
SUMMARY:D5 Wk 18   STONEWOLF
DESCRIPTION:Div 5   Wk 18    Split Tee #1 and #10   STONEWOLF     $33
URL:https://www.golfstlseniors.org/event/d5-wk-18-stonewolf/
LOCATION:Stonewolf Golf Club\, 1195 Stonewolf Trail\, Fairview Heights\, IL\, 62208\, United States
CATEGORIES:Div5
END:VEVENT
BEGIN:VEVENT
DTSTART;TZID=America/Chicago:20200813T063000
DTEND;TZID=America/Chicago:20200813T063000
DTSTAMP:20260425T231203
CREATED:20191108T183743Z
LAST-MODIFIED:20191108T183743Z
UID:5991-1597300200-1597300200@www.golfstlseniors.org
SUMMARY:D3 Wk 18   FAR OAKS
DESCRIPTION:Div 3   Wk 18    Split Tee #1 and #10   FAR OAKS    $32
URL:https://www.golfstlseniors.org/event/d3-wk-18-far-oaks/
LOCATION:Far Oaks Golf Club\, 419 Old Collinsville Rd\, Caseyville\, IL\, 62232\, United States
CATEGORIES:Div3
END:VEVENT
BEGIN:VEVENT
DTSTART;TZID=America/Chicago:20200812T070000
DTEND;TZID=America/Chicago:20200812T070000
DTSTAMP:20260425T231203
CREATED:20191108T183816Z
LAST-MODIFIED:20191108T183816Z
UID:6087-1597215600-1597215600@www.golfstlseniors.org
SUMMARY:D9 – 9 Hole Tournament – RIVERSIDE
DESCRIPTION:D9 9 Hole Tournaments  Split Tee #1 and #10  RIVERSIDE        $12  or  $15 for 9 or 18 hole walkers with their own cart\, and $18 or $22 respectively for 9 and 18 hole riders.
URL:https://www.golfstlseniors.org/event/d9-9-hole-tournament-riverside-25/
LOCATION:Riverside Golf Club\, 1210 Larkin Williams Rd\, Fenton\, MO\, 63026\, United States
CATEGORIES:Div9
END:VEVENT
BEGIN:VEVENT
DTSTART;TZID=America/Chicago:20200810T070000
DTEND;TZID=America/Chicago:20200810T070000
DTSTAMP:20260425T231203
CREATED:20191116T035347Z
LAST-MODIFIED:20191206T205703Z
UID:6191-1597042800-1597042800@www.golfstlseniors.org
SUMMARY:Metro-Plus   Old Hickory Golf Club
DESCRIPTION:Metro-Plus August 10 Old Hickory Golf Club 7:00 AM Shotgun $58 Pay In Advance Food – Purchase at Course
URL:https://www.golfstlseniors.org/event/metro-plus-old-hickory-golf-club/
LOCATION:Old Hickory Golf Club\, 1 Dye Club Drive\, St. Charles\, MO\, 63304\, United States
CATEGORIES:M-P
END:VEVENT
BEGIN:VEVENT
DTSTART;TZID=America/Chicago:20200807T070000
DTEND;TZID=America/Chicago:20200807T070000
DTSTAMP:20260425T231203
CREATED:20191108T183802Z
LAST-MODIFIED:20191108T183802Z
UID:6048-1596783600-1596783600@www.golfstlseniors.org
SUMMARY:D2 Wk 17   WENTZVILLE
DESCRIPTION:Div 2   Wk 17    Split Tee #1 and #10   WENTZVILLE   $30
URL:https://www.golfstlseniors.org/event/d2-wk-17-wentzville/
LOCATION:Golf Club of Wentzville\, 9 Pro Shop Dr\, Wentzville\, MO\, 63385\, United States
CATEGORIES:Div2
END:VEVENT
BEGIN:VEVENT
DTSTART;TZID=America/Chicago:20200807T063000
DTEND;TZID=America/Chicago:20200807T063000
DTSTAMP:20260425T231203
CREATED:20191108T183742Z
LAST-MODIFIED:20191108T183742Z
UID:5990-1596781800-1596781800@www.golfstlseniors.org
SUMMARY:D1 Wk 17   FAR OAKS
DESCRIPTION:Div 1   Wk 17    Split Tee #1 and #10   FAR OAKS    $32
URL:https://www.golfstlseniors.org/event/d1-wk-17-far-oaks/
LOCATION:Far Oaks Golf Club\, 419 Old Collinsville Rd\, Caseyville\, IL\, 62232\, United States
CATEGORIES:Div1
END:VEVENT
BEGIN:VEVENT
DTSTART;TZID=America/Chicago:20200806T073000
DTEND;TZID=America/Chicago:20200806T073000
DTSTAMP:20260425T231203
CREATED:20191108T183734Z
LAST-MODIFIED:20191108T183734Z
UID:5967-1596699000-1596699000@www.golfstlseniors.org
SUMMARY:D5 Wk 17   CRESCENT FARMS
DESCRIPTION:Div 5   Wk 17    Split Tee #1 and #10   CRESCENT FARMS    $35
URL:https://www.golfstlseniors.org/event/d5-wk-17-crescent-farms/
LOCATION:Crescent Farms\, 745 Lewis Rd\, Crescent\, MO\, 63025\, United States
CATEGORIES:Div5
END:VEVENT
BEGIN:VEVENT
DTSTART;TZID=America/Chicago:20200806T070000
DTEND;TZID=America/Chicago:20200806T070000
DTSTAMP:20260425T231203
CREATED:20191108T183758Z
LAST-MODIFIED:20191108T183758Z
UID:6037-1596697200-1596697200@www.golfstlseniors.org
SUMMARY:D4 Wk 17   STONEWOLF
DESCRIPTION:Div 4   Wk 17    Split Tee #1 and #10   STONEWOLF     $33
URL:https://www.golfstlseniors.org/event/d4-wk-17-stonewolf/
LOCATION:Stonewolf Golf Club\, 1195 Stonewolf Trail\, Fairview Heights\, IL\, 62208\, United States
CATEGORIES:Div4
END:VEVENT
BEGIN:VEVENT
DTSTART;TZID=America/Chicago:20200806T070000
DTEND;TZID=America/Chicago:20200806T070000
DTSTAMP:20260425T231203
CREATED:20191108T183745Z
LAST-MODIFIED:20191108T183745Z
UID:5998-1596697200-1596697200@www.golfstlseniors.org
SUMMARY:D3 Wk 17   FLORISSANT
DESCRIPTION:Div 3   Wk 17    Split Tee #1 and #10   FLORISSANT    $28
URL:https://www.golfstlseniors.org/event/d3-wk-17-florissant/
LOCATION:Florissant Golf Club\, 50 Country Club Ln\, Florissant\, MO\, 63033\, United States
CATEGORIES:Div3
END:VEVENT
BEGIN:VEVENT
DTSTART;TZID=America/Chicago:20200805T070000
DTEND;TZID=America/Chicago:20200805T070000
DTSTAMP:20260425T231203
CREATED:20191108T183816Z
LAST-MODIFIED:20191108T183816Z
UID:6086-1596610800-1596610800@www.golfstlseniors.org
SUMMARY:D9 – 9 Hole Tournament – RIVERSIDE
DESCRIPTION:D9 9 Hole Tournaments  Split Tee #1 and #10  RIVERSIDE        $12  or  $15 for 9 or 18 hole walkers with their own cart\, and $18 or $22 respectively for 9 and 18 hole riders.
URL:https://www.golfstlseniors.org/event/d9-9-hole-tournament-riverside-24/
LOCATION:Riverside Golf Club\, 1210 Larkin Williams Rd\, Fenton\, MO\, 63026\, United States
CATEGORIES:Div9
END:VEVENT
BEGIN:VEVENT
DTSTART;TZID=America/Chicago:20200731T070000
DTEND;TZID=America/Chicago:20200731T070000
DTSTAMP:20260425T231203
CREATED:20191108T183758Z
LAST-MODIFIED:20191108T183758Z
UID:6036-1596178800-1596178800@www.golfstlseniors.org
SUMMARY:D2 Wk 16   STONEWOLF
DESCRIPTION:Div 2   Wk 16    Split Tee #1 and #10   STONEWOLF     $33
URL:https://www.golfstlseniors.org/event/d2-wk-16-stonewolf/
LOCATION:Stonewolf Golf Club\, 1195 Stonewolf Trail\, Fairview Heights\, IL\, 62208\, United States
CATEGORIES:Div2
END:VEVENT
BEGIN:VEVENT
DTSTART;TZID=America/Chicago:20200731T063000
DTEND;TZID=America/Chicago:20200731T063000
DTSTAMP:20260425T231203
CREATED:20191108T183741Z
LAST-MODIFIED:20191108T183741Z
UID:5989-1596177000-1596177000@www.golfstlseniors.org
SUMMARY:D1 Wk 16   FALLS
DESCRIPTION:Div 1   Wk 16    Split Tee #1 and #10   FALLS   $33
URL:https://www.golfstlseniors.org/event/d1-wk-16-falls/
LOCATION:Falls Golf Club\, 1170 Turtle Creek Dr\, O'Fallon\, MO\, 63366\, United States
CATEGORIES:Div1
END:VEVENT
END:VCALENDAR