BEGIN:VCALENDAR
VERSION:2.0
PRODID:-//Metro St. Louis Seniors Golf - ECPv6.15.20//NONSGML v1.0//EN
CALSCALE:GREGORIAN
METHOD:PUBLISH
X-ORIGINAL-URL:https://www.golfstlseniors.org
X-WR-CALDESC:Events for Metro St. Louis Seniors Golf
REFRESH-INTERVAL;VALUE=DURATION:PT1H
X-Robots-Tag:noindex
X-PUBLISHED-TTL:PT1H
BEGIN:VTIMEZONE
TZID:America/Chicago
BEGIN:DAYLIGHT
TZOFFSETFROM:-0600
TZOFFSETTO:-0500
TZNAME:CDT
DTSTART:20240310T080000
END:DAYLIGHT
BEGIN:STANDARD
TZOFFSETFROM:-0500
TZOFFSETTO:-0600
TZNAME:CST
DTSTART:20241103T070000
END:STANDARD
BEGIN:DAYLIGHT
TZOFFSETFROM:-0600
TZOFFSETTO:-0500
TZNAME:CDT
DTSTART:20250309T080000
END:DAYLIGHT
BEGIN:STANDARD
TZOFFSETFROM:-0500
TZOFFSETTO:-0600
TZNAME:CST
DTSTART:20251102T070000
END:STANDARD
BEGIN:DAYLIGHT
TZOFFSETFROM:-0600
TZOFFSETTO:-0500
TZNAME:CDT
DTSTART:20260308T080000
END:DAYLIGHT
BEGIN:STANDARD
TZOFFSETFROM:-0500
TZOFFSETTO:-0600
TZNAME:CST
DTSTART:20261101T070000
END:STANDARD
END:VTIMEZONE
BEGIN:VEVENT
DTSTART;TZID=America/Chicago:20250811T190000
DTEND;TZID=America/Chicago:20250811T190000
DTSTAMP:20260423T142051
CREATED:20250404T150805Z
LAST-MODIFIED:20250404T150808Z
UID:14342-1754938800-1754938800@www.golfstlseniors.org
SUMMARY:Lake Forest CC Metro Plus Signup
DESCRIPTION:Signup for Lake Forest CC Metro Plus will open up at 7 PM on Monday\, 11 August 2025.
URL:https://www.golfstlseniors.org/event/lake-forest-cc-metro-plus-signup/
LOCATION:Lake Forest Country Club\, 300 Yard Drive\, Lake St. Louis\, MO\, 63367\, United States
END:VEVENT
BEGIN:VEVENT
DTSTART;TZID=America/Chicago:20250811T073000
DTEND;TZID=America/Chicago:20250811T143000
DTSTAMP:20260423T142051
CREATED:20250221T192247Z
LAST-MODIFIED:20250628T202639Z
UID:13777-1754897400-1754922600@www.golfstlseniors.org
SUMMARY:Last Scramble Special Event
DESCRIPTION:The Last Scramble Special Event will be held on Monday\, 11 August 2025 at the Aberdeen Golf Club. The format is a 4-Person Scramble. Lunch will NOT be provided.
URL:https://www.golfstlseniors.org/event/last-scramble-special-event-2/
LOCATION:Aberdeen Golf Club\, 4111 Crescent Rd\, Eureka\, MO\, 63025\, United States
END:VEVENT
BEGIN:VEVENT
DTSTART;TZID=America/Chicago:20250808T080000
DTEND;TZID=America/Chicago:20250808T080000
DTSTAMP:20260423T142051
CREATED:20250331T205644Z
LAST-MODIFIED:20250331T205644Z
UID:14226-1754640000-1754640000@www.golfstlseniors.org
SUMMARY:D2    WK 17    The Orchards GC
DESCRIPTION:DIV 2 – WK 17     Split Tee Start     The Orchards GC
URL:https://www.golfstlseniors.org/event/d2-wk-17-the-orchards-gc/
LOCATION:The Orchards GC\, 1490 Golf Course Dr\, Belleville\, IL\, 62220\, United States
CATEGORIES:DIV 2
END:VEVENT
BEGIN:VEVENT
DTSTART;TZID=America/Chicago:20250808T073000
DTEND;TZID=America/Chicago:20250808T073000
DTSTAMP:20260423T142051
CREATED:20250331T205545Z
LAST-MODIFIED:20250331T205545Z
UID:14200-1754638200-1754638200@www.golfstlseniors.org
SUMMARY:D1    WK 17    Woodlands Golf Club
DESCRIPTION:DIV 1 – WK 17     Split Tee Start     Woodlands Golf Club    29
URL:https://www.golfstlseniors.org/event/d1-wk-17-woodlands-golf-club/
LOCATION:Woodlands Golf Club\, 2839 Harris Ln\, Alton\, IL\, 62002\, United States
CATEGORIES:DIV 1
END:VEVENT
BEGIN:VEVENT
DTSTART;TZID=America/Chicago:20250807T073000
DTEND;TZID=America/Chicago:20250807T073000
DTSTAMP:20260423T142051
CREATED:20250331T205815Z
LAST-MODIFIED:20250331T205815Z
UID:14278-1754551800-1754551800@www.golfstlseniors.org
SUMMARY:D4    WK 17    Crescent Farms
DESCRIPTION:DIV 4 – WK 17     Split Tee Start     Crescent Farms
URL:https://www.golfstlseniors.org/event/d4-wk-17-crescent-farms-4/
LOCATION:Crescent Farms\, 745 Lewis Rd\, Crescent\, MO\, 63025\, United States
CATEGORIES:DIV 4
END:VEVENT
BEGIN:VEVENT
DTSTART;TZID=America/Chicago:20250807T073000
DTEND;TZID=America/Chicago:20250807T073000
DTSTAMP:20260423T142051
CREATED:20250331T205736Z
LAST-MODIFIED:20250331T205736Z
UID:14252-1754551800-1754551800@www.golfstlseniors.org
SUMMARY:D3    WK 17    Mystic Oaks Golf Course
DESCRIPTION:DIV 3 – WK 17     Split Tee Start     Mystic Oaks Golf Course    34
URL:https://www.golfstlseniors.org/event/d3-wk-17-mystic-oaks-golf-course-2/
LOCATION:Mystic Oaks Golf Course\, 643 Ridge Rd\, Waterloo\, IL\, 62298\, United States
CATEGORIES:DIV 3
END:VEVENT
BEGIN:VEVENT
DTSTART;TZID=America/Chicago:20250807T070000
DTEND;TZID=America/Chicago:20250807T070000
DTSTAMP:20260423T142051
CREATED:20250331T205907Z
LAST-MODIFIED:20250331T205907Z
UID:14304-1754550000-1754550000@www.golfstlseniors.org
SUMMARY:D5    WK 17    Florissant Golf Club
DESCRIPTION:DIV 5 – WK 17     Split Tee Start     Florissant Golf Club    32
URL:https://www.golfstlseniors.org/event/d5-wk-17-florissant-golf-club/
LOCATION:Florissant Golf Club\, 50 Country Club Ln\, Florissant\, MO\, 63033\, United States
CATEGORIES:DIV 5
END:VEVENT
BEGIN:VEVENT
DTSTART;TZID=America/Chicago:20250805T190000
DTEND;TZID=America/Chicago:20250805T190000
DTSTAMP:20260423T142051
CREATED:20250404T150622Z
LAST-MODIFIED:20250404T150624Z
UID:14340-1754420400-1754420400@www.golfstlseniors.org
SUMMARY:Norwood Hills CC Metro Plus Signup
DESCRIPTION:Signup for Norwood Hills CC Metro Plus will open up at 7 PM on Tuesday\, 5 August 2025.
URL:https://www.golfstlseniors.org/event/norwood-hills-cc-metro-plus-signup/
LOCATION:Norwood Hills Country Club\, 1 Norwood Hills Country Club Dr\, St Louis\, Missouri\, 63121\, United States
END:VEVENT
BEGIN:VEVENT
DTSTART;TZID=America/Chicago:20250804T090000
DTEND;TZID=America/Chicago:20250804T140000
DTSTAMP:20260423T142051
CREATED:20250221T183332Z
LAST-MODIFIED:20250221T183334Z
UID:13745-1754298000-1754316000@www.golfstlseniors.org
SUMMARY:Metro Plus - St Clair Country Club
DESCRIPTION:The Metro Plus event at St Clair Country Club will be held on Monday\, 4 August 2025 at 9:00 am. It will be a Shotgun Start. Tournament Director is Wayne Kaiser.
URL:https://www.golfstlseniors.org/event/metro-plus-st-clair-country-club-5/
LOCATION:St. Clair Country Club\, 100 S 78th St\, Belleville\,\, IL\, 63332\, United States
ORGANIZER;CN="Wayne Kaiser":MAILTO:wkaiser1975@gmail.com
END:VEVENT
BEGIN:VEVENT
DTSTART;TZID=America/Chicago:20250801T070000
DTEND;TZID=America/Chicago:20250801T070000
DTSTAMP:20260423T142051
CREATED:20250331T205544Z
LAST-MODIFIED:20250331T205544Z
UID:14199-1754031600-1754031600@www.golfstlseniors.org
SUMMARY:D1    WK 16    Spencer T Olin Golf Course
DESCRIPTION:DIV 1 – WK 16     Split Tee Start     Spencer T Olin Golf Course    38.95
URL:https://www.golfstlseniors.org/event/d1-wk-16-spencer-t-olin-golf-course/
LOCATION:Spencer T Olin Golf Course\, 4701 College Ave\, Alton\, IL\, 62002\, United States
CATEGORIES:DIV 1
END:VEVENT
BEGIN:VEVENT
DTSTART;TZID=America/Chicago:20250801T063000
DTEND;TZID=America/Chicago:20250801T063000
DTSTAMP:20260423T142051
CREATED:20250331T205644Z
LAST-MODIFIED:20250331T205644Z
UID:14225-1754029800-1754029800@www.golfstlseniors.org
SUMMARY:D2    WK 16    Falls Golf Club
DESCRIPTION:DIV 2 – WK 16     Split Tee Start     Falls Golf Club    49
URL:https://www.golfstlseniors.org/event/d2-wk-16-falls-golf-club/
LOCATION:Falls Golf Club\, 1170 Turtle Creek Dr\, O'Fallon\, MO\, 63366\, United States
CATEGORIES:DIV 2
END:VEVENT
BEGIN:VEVENT
DTSTART;TZID=America/Chicago:20250731T080000
DTEND;TZID=America/Chicago:20250731T080000
DTSTAMP:20260423T142051
CREATED:20250331T205736Z
LAST-MODIFIED:20250331T205736Z
UID:14251-1753948800-1753948800@www.golfstlseniors.org
SUMMARY:D3    WK 16    Cardinal Creek GC
DESCRIPTION:DIV 3 – WK 16     Split Tee Start     Cardinal Creek GC    41
URL:https://www.golfstlseniors.org/event/d3-wk-16-cardinal-creek-gc/
LOCATION:Cardinal Creek GC\, 1192 Golf Course Rd\, Scott AFB\, IL\, 62225\, United States
CATEGORIES:DIV 3
END:VEVENT
BEGIN:VEVENT
DTSTART;TZID=America/Chicago:20250731T070000
DTEND;TZID=America/Chicago:20250731T070000
DTSTAMP:20260423T142051
CREATED:20250331T205857Z
LAST-MODIFIED:20250331T205857Z
UID:14303-1753945200-1753945200@www.golfstlseniors.org
SUMMARY:D5    WK 16    Eagle Springs Golf Course
DESCRIPTION:DIV 5 – WK 16     Split Tee Start     Eagle Springs Golf Course    28
URL:https://www.golfstlseniors.org/event/d5-wk-16-eagle-springs-golf-course/
LOCATION:Eagle Springs Golf Course\, 2575 Redman Rd\, St. Louis\, MO\, 63136\, United States
CATEGORIES:DIV 5
END:VEVENT
BEGIN:VEVENT
DTSTART;TZID=America/Chicago:20250731T070000
DTEND;TZID=America/Chicago:20250731T070000
DTSTAMP:20260423T142051
CREATED:20250331T205814Z
LAST-MODIFIED:20250331T205814Z
UID:14277-1753945200-1753945200@www.golfstlseniors.org
SUMMARY:D4    WK 16    Wolf Hollow Golf Club
DESCRIPTION:DIV 4 – WK 16     Split Tee Start     Wolf Hollow Golf Club    39
URL:https://www.golfstlseniors.org/event/d4-wk-16-wolf-hollow-golf-club/
LOCATION:Wolf Hollow Golf Club\, 4504 MO-100\, Labadie\, MO\, 63055\, United States
CATEGORIES:DIV 4
END:VEVENT
BEGIN:VEVENT
DTSTART;TZID=America/Chicago:20250725T070000
DTEND;TZID=America/Chicago:20250725T070000
DTSTAMP:20260423T142051
CREATED:20250331T205530Z
LAST-MODIFIED:20250331T205530Z
UID:14198-1753426800-1753426800@www.golfstlseniors.org
SUMMARY:D1    WK 15    Florissant Golf Club
DESCRIPTION:DIV 1 – WK 15     Split Tee Start     Florissant Golf Club    32
URL:https://www.golfstlseniors.org/event/d1-wk-15-florissant-golf-club/
LOCATION:Florissant Golf Club\, 50 Country Club Ln\, Florissant\, MO\, 63033\, United States
CATEGORIES:DIV 1
END:VEVENT
BEGIN:VEVENT
DTSTART;TZID=America/Chicago:20250725T063000
DTEND;TZID=America/Chicago:20250725T063000
DTSTAMP:20260423T142051
CREATED:20250331T205644Z
LAST-MODIFIED:20250331T205644Z
UID:14224-1753425000-1753425000@www.golfstlseniors.org
SUMMARY:D2    WK 15    Bear Creek Golf Club
DESCRIPTION:DIV 2 – WK 15     Split Tee Start     Bear Creek Golf Club
URL:https://www.golfstlseniors.org/event/d2-wk-15-bear-creek-golf-club/
LOCATION:Bear Creek Golf Club\, 158 Bear Creek Dr\, Wentzville\, MO\, 63385\, United States
CATEGORIES:DIV 2
END:VEVENT
BEGIN:VEVENT
DTSTART;TZID=America/Chicago:20250724T080000
DTEND;TZID=America/Chicago:20250724T080000
DTSTAMP:20260423T142051
CREATED:20250331T205856Z
LAST-MODIFIED:20250331T205856Z
UID:14302-1753344000-1753344000@www.golfstlseniors.org
SUMMARY:D5    WK 15    Crescent Farms
DESCRIPTION:DIV 5 – WK 15     Split Tee Start     Crescent Farms
URL:https://www.golfstlseniors.org/event/d5-wk-15-crescent-farms/
LOCATION:Crescent Farms\, 745 Lewis Rd\, Crescent\, MO\, 63025\, United States
CATEGORIES:DIV 5
END:VEVENT
BEGIN:VEVENT
DTSTART;TZID=America/Chicago:20250724T080000
DTEND;TZID=America/Chicago:20250724T080000
DTSTAMP:20260423T142051
CREATED:20250331T205814Z
LAST-MODIFIED:20250331T205814Z
UID:14276-1753344000-1753344000@www.golfstlseniors.org
SUMMARY:D4    WK 15    Cardinal Creek GC
DESCRIPTION:DIV 4 – WK 15     Shotgun Start     Cardinal Creek GC    41
URL:https://www.golfstlseniors.org/event/d4-wk-15-cardinal-creek-gc/
LOCATION:Cardinal Creek GC\, 1192 Golf Course Rd\, Scott AFB\, IL\, 62225\, United States
CATEGORIES:DIV 4
END:VEVENT
BEGIN:VEVENT
DTSTART;TZID=America/Chicago:20250724T070000
DTEND;TZID=America/Chicago:20250724T070000
DTSTAMP:20260423T142051
CREATED:20250331T205735Z
LAST-MODIFIED:20250331T205735Z
UID:14250-1753340400-1753340400@www.golfstlseniors.org
SUMMARY:D3    WK 15    Innsbrook Golf Course
DESCRIPTION:DIV 3 – WK 15     Shotgun Start     Innsbrook Golf Course    45
URL:https://www.golfstlseniors.org/event/d3-wk-15-innsbrook-golf-course/
LOCATION:Innsbrook Golf Course\, 1 Aspen Way Dr\, Innsbrook\, MO\, 63390\, United States
CATEGORIES:DIV 3
END:VEVENT
BEGIN:VEVENT
DTSTART;TZID=America/Chicago:20250721T190000
DTEND;TZID=America/Chicago:20250721T190000
DTSTAMP:20260423T142051
CREATED:20250404T150455Z
LAST-MODIFIED:20250404T150456Z
UID:14338-1753124400-1753124400@www.golfstlseniors.org
SUMMARY:St Clair CC Metro Plus Signup
DESCRIPTION:Signup for St Clair CC Metro Plus will open up at 7 PM on Monday\, 21 June 2025.
URL:https://www.golfstlseniors.org/event/st-clair-cc-metro-plus-signup-2/
LOCATION:St. Clair Country Club\, 100 S 78th St\, Belleville\,\, IL\, 63332\, United States
END:VEVENT
BEGIN:VEVENT
DTSTART;TZID=America/Chicago:20250721T090000
DTEND;TZID=America/Chicago:20250721T140000
DTSTAMP:20260423T142051
CREATED:20250221T183013Z
LAST-MODIFIED:20250221T183955Z
UID:13743-1753088400-1753106400@www.golfstlseniors.org
SUMMARY:Metro Plus - Persimmon Woods Golf Club
DESCRIPTION:The Metro Plus event at Persimmon Woods Golf Club will be held on Monday\, 21 July 2025 at 9:00 M. It will be a Shotgun Start. Tournament Director is Gary Maule.
URL:https://www.golfstlseniors.org/event/metro-plus-persimmon-woods-country-club/
LOCATION:Persimmon Woods Golf Club\, 6401 Weldon Spring Pkwy\, Weldon Springs\, MO\, 63304\, United States
ORGANIZER;CN="Gary Maule":MAILTO:xcongezr@gmail.com
END:VEVENT
BEGIN:VEVENT
DTSTART;TZID=America/Chicago:20250718T070000
DTEND;TZID=America/Chicago:20250718T070000
DTSTAMP:20260423T142051
CREATED:20250331T205635Z
LAST-MODIFIED:20250331T205635Z
UID:14223-1752822000-1752822000@www.golfstlseniors.org
SUMMARY:D2    WK 14    Spencer T Olin Golf Course
DESCRIPTION:DIV 2 – WK 14     Split Tee Start     Spencer T Olin Golf Course    38.95
URL:https://www.golfstlseniors.org/event/d2-wk-14-spencer-t-olin-golf-course/
LOCATION:Spencer T Olin Golf Course\, 4701 College Ave\, Alton\, IL\, 62002\, United States
CATEGORIES:DIV 2
END:VEVENT
BEGIN:VEVENT
DTSTART;TZID=America/Chicago:20250718T063000
DTEND;TZID=America/Chicago:20250718T063000
DTSTAMP:20260423T142051
CREATED:20250331T205530Z
LAST-MODIFIED:20250331T205530Z
UID:14197-1752820200-1752820200@www.golfstlseniors.org
SUMMARY:D1    WK 14    Far Oaks Golf Club
DESCRIPTION:DIV 1 – WK 14     Split Tee Start     Far Oaks Golf Club    50
URL:https://www.golfstlseniors.org/event/d1-wk-14-far-oaks-golf-club/
LOCATION:Far Oaks Golf Club\, 419 Old Collinsville Rd\, Caseyville\, IL\, 62232\, United States
CATEGORIES:DIV 1
END:VEVENT
BEGIN:VEVENT
DTSTART;TZID=America/Chicago:20250717T073000
DTEND;TZID=America/Chicago:20250717T073000
DTSTAMP:20260423T142051
CREATED:20250331T205856Z
LAST-MODIFIED:20250331T205856Z
UID:14301-1752737400-1752737400@www.golfstlseniors.org
SUMMARY:D5    WK 14    Woodlands Golf Club
DESCRIPTION:DIV 5 – WK 14     Split Tee Start     Woodlands Golf Club    29
URL:https://www.golfstlseniors.org/event/d5-wk-14-woodlands-golf-club/
LOCATION:Woodlands Golf Club\, 2839 Harris Ln\, Alton\, IL\, 62002\, United States
CATEGORIES:DIV 5
END:VEVENT
BEGIN:VEVENT
DTSTART;TZID=America/Chicago:20250717T070000
DTEND;TZID=America/Chicago:20250717T070000
DTSTAMP:20260423T142051
CREATED:20250331T205814Z
LAST-MODIFIED:20250331T205814Z
UID:14275-1752735600-1752735600@www.golfstlseniors.org
SUMMARY:D4    WK 14    Spencer T Olin Golf Course
DESCRIPTION:DIV 4 – WK 14     Split Tee Start     Spencer T Olin Golf Course    38.95
URL:https://www.golfstlseniors.org/event/d4-wk-14-spencer-t-olin-golf-course/
LOCATION:Spencer T Olin Golf Course\, 4701 College Ave\, Alton\, IL\, 62002\, United States
CATEGORIES:DIV 4
END:VEVENT
BEGIN:VEVENT
DTSTART;TZID=America/Chicago:20250717T070000
DTEND;TZID=America/Chicago:20250717T070000
DTSTAMP:20260423T142051
CREATED:20250331T205735Z
LAST-MODIFIED:20250331T205735Z
UID:14249-1752735600-1752735600@www.golfstlseniors.org
SUMMARY:D3    WK 14    Woods Fort Golf Course
DESCRIPTION:DIV 3 – WK 14     Split Tee Start     Woods Fort Golf Course    $40.00+tx
URL:https://www.golfstlseniors.org/event/d3-wk-14-woods-fort-golf-course/
LOCATION:Woods Fort Golf Course\, 1 Country Club Dr\, Troy\, MO\, 63379\, United States
CATEGORIES:DIV 3
END:VEVENT
BEGIN:VEVENT
DTSTART;TZID=America/Chicago:20250716T180000
DTEND;TZID=America/Chicago:20250716T180000
DTSTAMP:20260423T142051
CREATED:20250221T192025Z
LAST-MODIFIED:20250628T202811Z
UID:13775-1752688800-1752688800@www.golfstlseniors.org
SUMMARY:Last Scramble Special Event Signup
DESCRIPTION:Signup for the Last Scramble Special Event will open up at 6 pm on Wednesday\, 16 July 2025.
URL:https://www.golfstlseniors.org/event/last-scramble-special-event-signup-2/
LOCATION:Aberdeen Golf Club\, 4111 Crescent Rd\, Eureka\, MO\, 63025\, United States
END:VEVENT
BEGIN:VEVENT
DTSTART;TZID=America/Chicago:20250714T073000
DTEND;TZID=America/Chicago:20250714T133000
DTSTAMP:20260423T142051
CREATED:20250221T191819Z
LAST-MODIFIED:20250519T184629Z
UID:13773-1752478200-1752499800@www.golfstlseniors.org
SUMMARY:Pick Your Partner Special Event
DESCRIPTION:The Pick Your Partner Special Event will be held on Monday\, 14 July 2025 at the Gateway National Golf Links. The format is a 2-Person Scramble. Lunch will be provided.
URL:https://www.golfstlseniors.org/event/pick-your-partner-special-event-3/
LOCATION:Gateway National Golf Links\, 18 Golf Dr\, Madison\, IL\, 62060\, United States
END:VEVENT
BEGIN:VEVENT
DTSTART;TZID=America/Chicago:20250711T070000
DTEND;TZID=America/Chicago:20250711T070000
DTSTAMP:20260423T142051
CREATED:20250331T205530Z
LAST-MODIFIED:20250331T205530Z
UID:14196-1752217200-1752217200@www.golfstlseniors.org
SUMMARY:D1    WK 13    Belk Park Golf Course
DESCRIPTION:DIV 1 – WK 13     Split Tee Start     Belk Park Golf Course    28
URL:https://www.golfstlseniors.org/event/d1-wk-13-belk-park-golf-course/
LOCATION:Belk Park Golf Course\, 880 Belk Park Rd\, Wood River\, Illinois\, 62095\, United States
CATEGORIES:DIV 1
END:VEVENT
BEGIN:VEVENT
DTSTART;TZID=America/Chicago:20250711T063000
DTEND;TZID=America/Chicago:20250711T063000
DTSTAMP:20260423T142051
CREATED:20250331T205634Z
LAST-MODIFIED:20250331T205634Z
UID:14222-1752215400-1752215400@www.golfstlseniors.org
SUMMARY:D2    WK 13    Aberdeen Golf Club
DESCRIPTION:DIV 2 – WK 13     Split Tee Start     Aberdeen Golf Club    45
URL:https://www.golfstlseniors.org/event/d2-wk-13-aberdeen-golf-club/
LOCATION:Aberdeen Golf Club\, 4111 Crescent Rd\, Eureka\, MO\, 63025\, United States
CATEGORIES:DIV 2
END:VEVENT
END:VCALENDAR