BEGIN:VCALENDAR
VERSION:2.0
PRODID:-//Metro St. Louis Seniors Golf - ECPv6.15.20//NONSGML v1.0//EN
CALSCALE:GREGORIAN
METHOD:PUBLISH
X-WR-CALNAME:Metro St. Louis Seniors Golf
X-ORIGINAL-URL:https://www.golfstlseniors.org
X-WR-CALDESC:Events for Metro St. Louis Seniors Golf
REFRESH-INTERVAL;VALUE=DURATION:PT1H
X-Robots-Tag:noindex
X-PUBLISHED-TTL:PT1H
BEGIN:VTIMEZONE
TZID:America/Chicago
BEGIN:DAYLIGHT
TZOFFSETFROM:-0600
TZOFFSETTO:-0500
TZNAME:CDT
DTSTART:20230312T080000
END:DAYLIGHT
BEGIN:STANDARD
TZOFFSETFROM:-0500
TZOFFSETTO:-0600
TZNAME:CST
DTSTART:20231105T070000
END:STANDARD
BEGIN:DAYLIGHT
TZOFFSETFROM:-0600
TZOFFSETTO:-0500
TZNAME:CDT
DTSTART:20240310T080000
END:DAYLIGHT
BEGIN:STANDARD
TZOFFSETFROM:-0500
TZOFFSETTO:-0600
TZNAME:CST
DTSTART:20241103T070000
END:STANDARD
BEGIN:DAYLIGHT
TZOFFSETFROM:-0600
TZOFFSETTO:-0500
TZNAME:CDT
DTSTART:20250309T080000
END:DAYLIGHT
BEGIN:STANDARD
TZOFFSETFROM:-0500
TZOFFSETTO:-0600
TZNAME:CST
DTSTART:20251102T070000
END:STANDARD
BEGIN:DAYLIGHT
TZOFFSETFROM:-0600
TZOFFSETTO:-0500
TZNAME:CDT
DTSTART:20260308T080000
END:DAYLIGHT
BEGIN:STANDARD
TZOFFSETFROM:-0500
TZOFFSETTO:-0600
TZNAME:CST
DTSTART:20261101T070000
END:STANDARD
END:VTIMEZONE
BEGIN:VEVENT
DTSTART;TZID=America/Chicago:20250416T180000
DTEND;TZID=America/Chicago:20250416T180000
DTSTAMP:20260424T052306
CREATED:20250221T190449Z
LAST-MODIFIED:20250221T190451Z
UID:13763-1744826400-1744826400@www.golfstlseniors.org
SUMMARY:Founders' Day Special Event Signup
DESCRIPTION:Signup for the Founders’ Day Special Event will open up at 6 pm on Wednesday\, 16 April 2025
URL:https://www.golfstlseniors.org/event/founders-day-special-event-signup/
LOCATION:Lake Forest Country Club\, 300 Yard Drive\, Lake St. Louis\, MO\, 63367\, United States
END:VEVENT
BEGIN:VEVENT
DTSTART;TZID=America/Chicago:20250411T080000
DTEND;TZID=America/Chicago:20250411T080000
DTSTAMP:20260424T052306
CREATED:20250331T205615Z
LAST-MODIFIED:20250331T205615Z
UID:14210-1744358400-1744358400@www.golfstlseniors.org
SUMMARY:D2    WK 1    Columbia Golf Club
DESCRIPTION:DIV 2 – WK 1     Shotgun Start     Columbia Golf Club    36
URL:https://www.golfstlseniors.org/event/d2-wk-1-columbia-golf-club/
LOCATION:Columbia Golf Club\, 125 2770 N\, Columbia\, IL\, 62236\, United States
CATEGORIES:DIV 2
END:VEVENT
BEGIN:VEVENT
DTSTART;TZID=America/Chicago:20250411T080000
DTEND;TZID=America/Chicago:20250411T080000
DTSTAMP:20260424T052306
CREATED:20250331T205510Z
LAST-MODIFIED:20250331T205510Z
UID:14184-1744358400-1744358400@www.golfstlseniors.org
SUMMARY:D1    WK 1    The Orchards GC
DESCRIPTION:DIV 1 – WK 1     Split Tee Start     The Orchards GC
URL:https://www.golfstlseniors.org/event/d1-wk-1-the-orchards-gc/
LOCATION:The Orchards GC\, 1490 Golf Course Dr\, Belleville\, IL\, 62220\, United States
CATEGORIES:DIV 1
END:VEVENT
BEGIN:VEVENT
DTSTART;TZID=America/Chicago:20250410T073000
DTEND;TZID=America/Chicago:20250410T073000
DTSTAMP:20260424T052306
CREATED:20250331T205834Z
LAST-MODIFIED:20250331T205834Z
UID:14288-1744270200-1744270200@www.golfstlseniors.org
SUMMARY:D5    WK 1    Acorns Golf Links
DESCRIPTION:DIV 5 – WK 1     Split Tee Start     Acorns Golf Links    34
URL:https://www.golfstlseniors.org/event/d5-wk-1-acorns-golf-links/
LOCATION:Acorns Golf Links\, 3933 Ahne Rd\, Waterloo\, Illinois\, 62298\, United States
CATEGORIES:DIV 5
END:VEVENT
BEGIN:VEVENT
DTSTART;TZID=America/Chicago:20250410T073000
DTEND;TZID=America/Chicago:20250410T073000
DTSTAMP:20260424T052306
CREATED:20250331T205756Z
LAST-MODIFIED:20250331T205756Z
UID:14262-1744270200-1744270200@www.golfstlseniors.org
SUMMARY:D4    WK 1    Belk Park Golf Course
DESCRIPTION:DIV 4 – WK 1     Split Tee Start     Belk Park Golf Course    28
URL:https://www.golfstlseniors.org/event/d4-wk-1-belk-park-golf-course/
LOCATION:Belk Park Golf Course\, 880 Belk Park Rd\, Wood River\, Illinois\, 62095\, United States
CATEGORIES:DIV 4
END:VEVENT
BEGIN:VEVENT
DTSTART;TZID=America/Chicago:20250410T073000
DTEND;TZID=America/Chicago:20250410T073000
DTSTAMP:20260424T052306
CREATED:20250331T205707Z
LAST-MODIFIED:20250331T205707Z
UID:14236-1744270200-1744270200@www.golfstlseniors.org
SUMMARY:D3    WK 1    Wolf Hollow Golf Club
DESCRIPTION:DIV 3 – WK 1     Split Tee Start     Wolf Hollow Golf Club    39
URL:https://www.golfstlseniors.org/event/d3-wk-1-wolf-hollow-golf-club/
LOCATION:Wolf Hollow Golf Club\, 4504 MO-100\, Labadie\, MO\, 63055\, United States
CATEGORIES:DIV 3
END:VEVENT
BEGIN:VEVENT
DTSTART;TZID=America/Chicago:20250407T190000
DTEND;TZID=America/Chicago:20250407T190000
DTSTAMP:20260424T052306
CREATED:20250404T133252Z
LAST-MODIFIED:20250404T133254Z
UID:14324-1744052400-1744052400@www.golfstlseniors.org
SUMMARY:Bogey Hills CC Metro Plus Signup
DESCRIPTION:Signup for Bogey Hills CC Metro Plus will open up at 7 PM on Monday\, 7 April 2025.
URL:https://www.golfstlseniors.org/event/bogey-hills-cc-metro-plus-signup/
LOCATION:Bogey Hills Country Club\, 1120 Country Club Rd\, St\, Charles\, MO\, 63303\, United States
END:VEVENT
BEGIN:VEVENT
DTSTART;TZID=America/Chicago:20250407T120000
DTEND;TZID=America/Chicago:20250407T170000
DTSTAMP:20260424T052306
CREATED:20250221T133712Z
LAST-MODIFIED:20250221T134658Z
UID:13716-1744027200-1744045200@www.golfstlseniors.org
SUMMARY:Metro Plus - Winghaven Country Club
DESCRIPTION:The Metro Plus event at Winghaven Country Club will be held on Monday\, 7 April 2025 at 12:00 Noon.  It will be a Shotgun Start.   Tournament Directors are Bill Molz and Bill Hippisley.
URL:https://www.golfstlseniors.org/event/metro-plus/
LOCATION:Winghaven Country Club\, 7777 WingHaven Boulevard\, O'Fallon\, MO\, 63368\, United States
ORGANIZER;CN="Bill Molz":MAILTO:wfmolz@yahoo.com
END:VEVENT
BEGIN:VEVENT
DTSTART;TZID=America/Chicago:20250402T180000
DTEND;TZID=America/Chicago:20250402T180000
DTSTAMP:20260424T052306
CREATED:20250221T185527Z
LAST-MODIFIED:20250221T185529Z
UID:13758-1743616800-1743616800@www.golfstlseniors.org
SUMMARY:Find Your Swing Special Event Signup
DESCRIPTION:Signup for the Find Your Swing Special Event will open up at 6 pm on Wednesday\, 2 April 2025.
URL:https://www.golfstlseniors.org/event/find-your-swing-special-event-signup-2/
LOCATION:Franklin County Country Club\, 6413 Country Club Rd\, Washington\, Missouri\, 63090
END:VEVENT
BEGIN:VEVENT
DTSTART;TZID=America/Chicago:20241011T080000
DTEND;TZID=America/Chicago:20241011T080000
DTSTAMP:20260424T052306
CREATED:20240116T025800Z
LAST-MODIFIED:20240116T195017Z
UID:12928-1728633600-1728633600@www.golfstlseniors.org
SUMMARY:D2  Wk 26    Columbia Bridges Golf Club
DESCRIPTION:Div2     – Oct 11    Split Tee Start  Columbia Bridges Golf Club    $
URL:https://www.golfstlseniors.org/event/d2-wk-26-columbia-bridges-golf-club/
LOCATION:Columbia Bridges Golf Club\, 1655 Columbia Bridges Rd\, Columbia\, IL\, 62236\, United States
CATEGORIES:Div2
END:VEVENT
BEGIN:VEVENT
DTSTART;TZID=America/Chicago:20241011T073000
DTEND;TZID=America/Chicago:20241011T073000
DTSTAMP:20260424T052306
CREATED:20240116T025645Z
LAST-MODIFIED:20240116T025645Z
UID:12902-1728631800-1728631800@www.golfstlseniors.org
SUMMARY:D1  Wk 26    Tamarack Golf Course
DESCRIPTION:Div1     – Oct 11    Split Tee Start  Tamarack Golf Course    $
URL:https://www.golfstlseniors.org/event/d1-wk-26-tamarack-golf-course/
LOCATION:Tamarack Golf Course\, 362 Tamarack Ln\, Shiloh\, IL\, 62269\, United States
CATEGORIES:Div1
END:VEVENT
BEGIN:VEVENT
DTSTART;TZID=America/Chicago:20241010T080000
DTEND;TZID=America/Chicago:20241010T080000
DTSTAMP:20260424T052306
CREATED:20240116T030031Z
LAST-MODIFIED:20240116T030031Z
UID:12980-1728547200-1728547200@www.golfstlseniors.org
SUMMARY:D4  Wk 26    Columbia Golf Club
DESCRIPTION:Div4     – Oct 10    Shotgun Start  Columbia Golf Club    $34
URL:https://www.golfstlseniors.org/event/d4-wk-26-columbia-golf-club/
LOCATION:Columbia Golf Club\, 125 2770 N\, Columbia\, IL\, 62236\, United States
CATEGORIES:Div4
END:VEVENT
BEGIN:VEVENT
DTSTART;TZID=America/Chicago:20241010T073000
DTEND;TZID=America/Chicago:20241010T073000
DTSTAMP:20260424T052306
CREATED:20240116T030146Z
LAST-MODIFIED:20240116T030146Z
UID:13006-1728545400-1728545400@www.golfstlseniors.org
SUMMARY:D5  Wk 26    Woodlands Golf Club
DESCRIPTION:Div5     – Oct 10    Split Tee Start  Woodlands Golf Club    $28
URL:https://www.golfstlseniors.org/event/d5-wk-26-woodlands-golf-club/
LOCATION:Woodlands Golf Club\, 2839 Harris Ln\, Alton\, IL\, 62002\, United States
CATEGORIES:Div5
END:VEVENT
BEGIN:VEVENT
DTSTART;TZID=America/Chicago:20241010T073000
DTEND;TZID=America/Chicago:20241010T073000
DTSTAMP:20260424T052306
CREATED:20240116T025915Z
LAST-MODIFIED:20240116T025915Z
UID:12954-1728545400-1728545400@www.golfstlseniors.org
SUMMARY:D3  Wk 26    Links of Dardenne
DESCRIPTION:Div3     – Oct 10    Shotgun Start  Links of Dardenne    $
URL:https://www.golfstlseniors.org/event/d3-wk-26-links-of-dardenne/
LOCATION:Links of Dardenne\, 7000 Brassel Dr\, O'Fallon\, MO\, 63368\, United States
CATEGORIES:Div3
END:VEVENT
BEGIN:VEVENT
DTSTART;TZID=America/Chicago:20241004T073000
DTEND;TZID=America/Chicago:20241004T073000
DTSTAMP:20260424T052306
CREATED:20240116T025800Z
LAST-MODIFIED:20240116T025800Z
UID:12927-1728027000-1728027000@www.golfstlseniors.org
SUMMARY:D2  Wk 25    Innsbrook Golf Course
DESCRIPTION:Div2     – Oct 04    Split Tee Start  Innsbrook Golf Course    $
URL:https://www.golfstlseniors.org/event/d2-wk-25-innsbrook-golf-course/
LOCATION:Innsbrook Golf Course\, 1 Aspen Way Dr\, Innsbrook\, MO\, 63390\, United States
CATEGORIES:Div2
END:VEVENT
BEGIN:VEVENT
DTSTART;TZID=America/Chicago:20241004T073000
DTEND;TZID=America/Chicago:20241004T073000
DTSTAMP:20260424T052306
CREATED:20240116T025631Z
LAST-MODIFIED:20240116T025631Z
UID:12901-1728027000-1728027000@www.golfstlseniors.org
SUMMARY:D1  Wk 25    Woodlands Golf Club
DESCRIPTION:Div1     – Oct 04    Split Tee Start  Woodlands Golf Club    $28
URL:https://www.golfstlseniors.org/event/d1-wk-25-woodlands-golf-club-2/
LOCATION:Woodlands Golf Club\, 2839 Harris Ln\, Alton\, IL\, 62002\, United States
CATEGORIES:Div1
END:VEVENT
BEGIN:VEVENT
DTSTART;TZID=America/Chicago:20241003T073000
DTEND;TZID=America/Chicago:20241003T073000
DTSTAMP:20260424T052306
CREATED:20240116T030030Z
LAST-MODIFIED:20240118T171248Z
UID:12979-1727940600-1727940600@www.golfstlseniors.org
SUMMARY:D4  Wk 25    Mystic Oaks Golf Course
DESCRIPTION:Div4 – Oct 03 Split Tee Start Mystic Oaks Golf Course $30
URL:https://www.golfstlseniors.org/event/d4-wk-25-mystic-oaks-golf-course/
LOCATION:Mystic Oaks Golf Course\, 643 Ridge Rd\, Waterloo\, IL\, 62298\, United States
CATEGORIES:Div4
END:VEVENT
BEGIN:VEVENT
DTSTART;TZID=America/Chicago:20241003T070000
DTEND;TZID=America/Chicago:20241003T070000
DTSTAMP:20260424T052306
CREATED:20240116T030146Z
LAST-MODIFIED:20240116T030146Z
UID:13005-1727938800-1727938800@www.golfstlseniors.org
SUMMARY:D5  Wk 25    Eagle Springs Golf Course
DESCRIPTION:Div5     – Oct 03    Split Tee Start  Eagle Springs Golf Course    $
URL:https://www.golfstlseniors.org/event/d5-wk-25-eagle-springs-golf-course/
LOCATION:Eagle Springs Golf Course\, 2575 Redman Rd\, St. Louis\, MO\, 63136\, United States
CATEGORIES:Div5
END:VEVENT
BEGIN:VEVENT
DTSTART;TZID=America/Chicago:20241003T070000
DTEND;TZID=America/Chicago:20241003T070000
DTSTAMP:20260424T052306
CREATED:20240116T025915Z
LAST-MODIFIED:20240116T025915Z
UID:12953-1727938800-1727938800@www.golfstlseniors.org
SUMMARY:D3  Wk 25    Golf Club of Wentzville
DESCRIPTION:Div3     – Oct 03    Split Tee Start  Golf Club of Wentzville    $
URL:https://www.golfstlseniors.org/event/d3-wk-25-golf-club-of-wentzville/
LOCATION:Golf Club of Wentzville\, 9 Pro Shop Dr\, Wentzville\, MO\, 63385\, United States
CATEGORIES:Div3
END:VEVENT
BEGIN:VEVENT
DTSTART;TZID=America/Chicago:20240927T070000
DTEND;TZID=America/Chicago:20240927T070000
DTSTAMP:20260424T052306
CREATED:20240116T025746Z
LAST-MODIFIED:20240116T025746Z
UID:12926-1727420400-1727420400@www.golfstlseniors.org
SUMMARY:D2  Wk 24    Woods Fort Golf Course
DESCRIPTION:Div2     – Sep 27    Split Tee Start  Woods Fort Golf Course    $37
URL:https://www.golfstlseniors.org/event/d2-wk-24-woods-fort-golf-course/
LOCATION:Woods Fort Golf Course\, 1 Country Club Dr\, Troy\, MO\, 63379\, United States
CATEGORIES:Div2
END:VEVENT
BEGIN:VEVENT
DTSTART;TZID=America/Chicago:20240927T070000
DTEND;TZID=America/Chicago:20240927T070000
DTSTAMP:20260424T052306
CREATED:20240116T025631Z
LAST-MODIFIED:20240116T025631Z
UID:12900-1727420400-1727420400@www.golfstlseniors.org
SUMMARY:D1  Wk 24    Cardinal Creek GC
DESCRIPTION:Div1     – Sep 27    Shotgun Start  Cardinal Creek GC    $37
URL:https://www.golfstlseniors.org/event/d1-wk-24-cardinal-creek-gc/
LOCATION:Cardinal Creek GC\, 1192 Golf Course Rd\, Scott AFB\, IL\, 62225\, United States
CATEGORIES:Div1
END:VEVENT
BEGIN:VEVENT
DTSTART;TZID=America/Chicago:20240926T073000
DTEND;TZID=America/Chicago:20240926T073000
DTSTAMP:20260424T052306
CREATED:20240116T030146Z
LAST-MODIFIED:20240116T030146Z
UID:13004-1727335800-1727335800@www.golfstlseniors.org
SUMMARY:D5  Wk 24    Spencer T Olin Golf Course
DESCRIPTION:Div5     – Sep 26    Split Tee Start  Spencer T Olin Golf Course    $36.95
URL:https://www.golfstlseniors.org/event/d5-wk-24-spencer-t-olin-golf-course/
LOCATION:Spencer T Olin Golf Course\, 4701 College Ave\, Alton\, IL\, 62002\, United States
CATEGORIES:Div5
END:VEVENT
BEGIN:VEVENT
DTSTART;TZID=America/Chicago:20240926T073000
DTEND;TZID=America/Chicago:20240926T073000
DTSTAMP:20260424T052306
CREATED:20240116T030030Z
LAST-MODIFIED:20240116T030030Z
UID:12978-1727335800-1727335800@www.golfstlseniors.org
SUMMARY:D4  Wk 24    Innsbrook Golf Course
DESCRIPTION:Div4     – Sep 26    Split Tee Start  Innsbrook Golf Course    $
URL:https://www.golfstlseniors.org/event/d4-wk-24-innsbrook-golf-course/
LOCATION:Innsbrook Golf Course\, 1 Aspen Way Dr\, Innsbrook\, MO\, 63390\, United States
CATEGORIES:Div4
END:VEVENT
BEGIN:VEVENT
DTSTART;TZID=America/Chicago:20240926T073000
DTEND;TZID=America/Chicago:20240926T073000
DTSTAMP:20260424T052306
CREATED:20240116T025915Z
LAST-MODIFIED:20240116T025915Z
UID:12952-1727335800-1727335800@www.golfstlseniors.org
SUMMARY:D3  Wk 24    Far Oaks Golf Club
DESCRIPTION:Div3     – Sep 26    Split Tee Start  Far Oaks Golf Club    $45
URL:https://www.golfstlseniors.org/event/d3-wk-24-far-oaks-golf-club/
LOCATION:Far Oaks Golf Club\, 419 Old Collinsville Rd\, Caseyville\, IL\, 62232\, United States
CATEGORIES:Div3
END:VEVENT
BEGIN:VEVENT
DTSTART;TZID=America/Chicago:20240920T073000
DTEND;TZID=America/Chicago:20240920T073000
DTSTAMP:20260424T052306
CREATED:20240116T025746Z
LAST-MODIFIED:20240116T025746Z
UID:12925-1726817400-1726817400@www.golfstlseniors.org
SUMMARY:D2  Wk 23    Cardinal Creek GC
DESCRIPTION:Div2     – Sep 20    Shotgun Start  Cardinal Creek GC    $37
URL:https://www.golfstlseniors.org/event/d2-wk-23-cardinal-creek-gc/
LOCATION:Cardinal Creek GC\, 1192 Golf Course Rd\, Scott AFB\, IL\, 62225\, United States
CATEGORIES:Div2
END:VEVENT
BEGIN:VEVENT
DTSTART;TZID=America/Chicago:20240920T070000
DTEND;TZID=America/Chicago:20240920T070000
DTSTAMP:20260424T052306
CREATED:20240116T025630Z
LAST-MODIFIED:20240116T025630Z
UID:12899-1726815600-1726815600@www.golfstlseniors.org
SUMMARY:D1  Wk 23    Lockhaven Golf Club
DESCRIPTION:Div1     – Sep 20    Split Tee Start  Lockhaven Golf Club    $
URL:https://www.golfstlseniors.org/event/d1-wk-23-lockhaven-golf-club/
LOCATION:Lockhaven Golf Club\, 10872 Lawrence Keler Dr\, Godfrey\, IL\, 62035\, United States
CATEGORIES:Div1
END:VEVENT
BEGIN:VEVENT
DTSTART;TZID=America/Chicago:20240919T073000
DTEND;TZID=America/Chicago:20240919T073000
DTSTAMP:20260424T052306
CREATED:20240116T025901Z
LAST-MODIFIED:20240116T025901Z
UID:12951-1726731000-1726731000@www.golfstlseniors.org
SUMMARY:D3  Wk 23    Columbia Bridges Golf Club
DESCRIPTION:Div3     – Sep 19    Split Tee Start  Columbia Bridges Golf Club    $
URL:https://www.golfstlseniors.org/event/d3-wk-23-columbia-bridges-golf-club/
LOCATION:Columbia Bridges Golf Club\, 1655 Columbia Bridges Rd\, Columbia\, IL\, 62236\, United States
CATEGORIES:Div3
END:VEVENT
BEGIN:VEVENT
DTSTART;TZID=America/Chicago:20240919T070000
DTEND;TZID=America/Chicago:20240919T070000
DTSTAMP:20260424T052306
CREATED:20240116T030145Z
LAST-MODIFIED:20240116T030145Z
UID:13003-1726729200-1726729200@www.golfstlseniors.org
SUMMARY:D5  Wk 23    Aberdeen Golf Club
DESCRIPTION:Div5     – Sep 19    Split Tee Start  Aberdeen Golf Club    $40
URL:https://www.golfstlseniors.org/event/d5-wk-23-aberdeen-golf-club/
LOCATION:Aberdeen Golf Club\, 4111 Crescent Rd\, Eureka\, MO\, 63025\, United States
CATEGORIES:Div5
END:VEVENT
BEGIN:VEVENT
DTSTART;TZID=America/Chicago:20240919T070000
DTEND;TZID=America/Chicago:20240919T070000
DTSTAMP:20260424T052306
CREATED:20240116T030030Z
LAST-MODIFIED:20240116T030030Z
UID:12977-1726729200-1726729200@www.golfstlseniors.org
SUMMARY:D4  Wk 23    Quail Creek GC
DESCRIPTION:Div4     – Sep 19    Split Tee Start  Quail Creek GC    $32
URL:https://www.golfstlseniors.org/event/d4-wk-23-quail-creek-gc/
LOCATION:Quail Creek GC\, 6022 Wells Rd\, St. Louis\, MO\, 63128\, United States
CATEGORIES:Div4
END:VEVENT
BEGIN:VEVENT
DTSTART;TZID=America/Chicago:20240913T080000
DTEND;TZID=America/Chicago:20240913T080000
DTSTAMP:20260424T052306
CREATED:20240116T025630Z
LAST-MODIFIED:20240116T025630Z
UID:12898-1726214400-1726214400@www.golfstlseniors.org
SUMMARY:D1  Wk 22    The Orchards GC
DESCRIPTION:Div1     – Sep 13    Split Tee Start  The Orchards GC    $
URL:https://www.golfstlseniors.org/event/d1-wk-22-the-orchards-gc/
LOCATION:The Orchards GC\, 1490 Golf Course Dr\, Belleville\, IL\, 62220\, United States
CATEGORIES:Div1
END:VEVENT
END:VCALENDAR