BEGIN:VCALENDAR
VERSION:2.0
PRODID:-//Metro St. Louis Seniors Golf - ECPv6.15.20//NONSGML v1.0//EN
CALSCALE:GREGORIAN
METHOD:PUBLISH
X-WR-CALNAME:Metro St. Louis Seniors Golf
X-ORIGINAL-URL:https://www.golfstlseniors.org
X-WR-CALDESC:Events for Metro St. Louis Seniors Golf
REFRESH-INTERVAL;VALUE=DURATION:PT1H
X-Robots-Tag:noindex
X-PUBLISHED-TTL:PT1H
BEGIN:VTIMEZONE
TZID:America/Chicago
BEGIN:DAYLIGHT
TZOFFSETFROM:-0600
TZOFFSETTO:-0500
TZNAME:CDT
DTSTART:20250309T080000
END:DAYLIGHT
BEGIN:STANDARD
TZOFFSETFROM:-0500
TZOFFSETTO:-0600
TZNAME:CST
DTSTART:20251102T070000
END:STANDARD
BEGIN:DAYLIGHT
TZOFFSETFROM:-0600
TZOFFSETTO:-0500
TZNAME:CDT
DTSTART:20260308T080000
END:DAYLIGHT
BEGIN:STANDARD
TZOFFSETFROM:-0500
TZOFFSETTO:-0600
TZNAME:CST
DTSTART:20261101T070000
END:STANDARD
BEGIN:DAYLIGHT
TZOFFSETFROM:-0600
TZOFFSETTO:-0500
TZNAME:CDT
DTSTART:20270314T080000
END:DAYLIGHT
BEGIN:STANDARD
TZOFFSETFROM:-0500
TZOFFSETTO:-0600
TZNAME:CST
DTSTART:20271107T070000
END:STANDARD
END:VTIMEZONE
BEGIN:VEVENT
DTSTART;TZID=America/Chicago:20260706T080000
DTEND;TZID=America/Chicago:20260706T130000
DTSTAMP:20260423T135453
CREATED:20260325T134722Z
LAST-MODIFIED:20260325T134723Z
UID:15034-1783324800-1783342800@www.golfstlseniors.org
SUMMARY:Metro Plus - Sunset Hills Country Club
DESCRIPTION:The Metro Plus event at Sunset Hills Country Club will be held on Monday\, 6 July 2026 at 8:00 AM. It will be a Shotgun Start. Tournament Director is Paul Adams.
URL:https://www.golfstlseniors.org/event/metro-plus-sunset-hills-country-club-5/
LOCATION:Sunset Hills Country Club\, 2525 S State Rte 157\, Edwardsville\, IL\, 62025\, United States
ORGANIZER;CN="Paul Adams":MAILTO:paula3bodley@gmail.com
END:VEVENT
BEGIN:VEVENT
DTSTART;TZID=America/Chicago:20260706T090000
DTEND;TZID=America/Chicago:20260706T130000
DTSTAMP:20260423T135453
CREATED:20260325T135554Z
LAST-MODIFIED:20260325T135556Z
UID:15040-1783328400-1783342800@www.golfstlseniors.org
SUMMARY:Persimmon Woods CC Metro Plus Signup
DESCRIPTION:Signup for Persimmon Woods CC Metro Plus will open up at 7:00 PM on Monday\, 6 July 2026.
URL:https://www.golfstlseniors.org/event/persimmon-woods-cc-metro-plus-signup-2/
LOCATION:Persimmon Woods Golf Club\, 6401 Weldon Spring Pkwy\, Weldon Springs\, MO\, 63304\, United States
ORGANIZER;CN="Paul Adams":MAILTO:paula3bodley@gmail.com
END:VEVENT
BEGIN:VEVENT
DTSTART;TZID=America/Chicago:20260713T073000
DTEND;TZID=America/Chicago:20260713T123000
DTSTAMP:20260423T135453
CREATED:20260324T143754Z
LAST-MODIFIED:20260324T150618Z
UID:14983-1783927800-1783945800@www.golfstlseniors.org
SUMMARY:Pick Your Partner Special Event
DESCRIPTION:The Pick Your Partner Special Event will be held on Monday\, 13 July 2026 at the Gateway National Golf Links.  The format is a 2-Person Scramble.  Lunch will be provided.
URL:https://www.golfstlseniors.org/event/pick-your-partner-special-event-4/
LOCATION:Gateway National Golf Links\, 18 Golf Dr\, Madison\, IL\, 62060\, United States
ORGANIZER;CN="Bruce Frost":MAILTO:bruce.frost@outlook.com
END:VEVENT
BEGIN:VEVENT
DTSTART;TZID=America/Chicago:20260715T180000
DTEND;TZID=America/Chicago:20260715T180000
DTSTAMP:20260423T135453
CREATED:20260324T144432Z
LAST-MODIFIED:20260324T144434Z
UID:14989-1784138400-1784138400@www.golfstlseniors.org
SUMMARY:Last Scramble Special Event Signup
DESCRIPTION:Signup for the Last Scramble Special Event will open up at 6 PM on Wednesday\, 15 July 2026.
URL:https://www.golfstlseniors.org/event/last-scramble-special-event-signup-3/
LOCATION:Aberdeen Golf Club\, 4111 Crescent Rd\, Eureka\, MO\, 63025\, United States
ORGANIZER;CN="Frank McLaughlin":MAILTO:fmmcl@hotmail.com
END:VEVENT
BEGIN:VEVENT
DTSTART;TZID=America/Chicago:20260720T090000
DTEND;TZID=America/Chicago:20260720T130000
DTSTAMP:20260423T135453
CREATED:20260325T135221Z
LAST-MODIFIED:20260325T135224Z
UID:15038-1784538000-1784552400@www.golfstlseniors.org
SUMMARY:Metro Plus - Persimmon Woods Country Club
DESCRIPTION:The Metro Plus event at Persimmon Woods Country Club will be held on Monday\, 20 July 2026 at 9:00 AM. It will be a Shotgun Start. Tournament Director is Paul Adams.
URL:https://www.golfstlseniors.org/event/metro-plus-persimmon-woods-country-club-2/
LOCATION:Persimmon Woods Golf Club\, 6401 Weldon Spring Pkwy\, Weldon Springs\, MO\, 63304\, United States
ORGANIZER;CN="Paul Adams":MAILTO:paula3bodley@gmail.com
END:VEVENT
END:VCALENDAR