BEGIN:VCALENDAR
VERSION:2.0
PRODID:-//Metro St. Louis Seniors Golf - ECPv6.15.20//NONSGML v1.0//EN
CALSCALE:GREGORIAN
METHOD:PUBLISH
X-WR-CALNAME:Metro St. Louis Seniors Golf
X-ORIGINAL-URL:https://www.golfstlseniors.org
X-WR-CALDESC:Events for Metro St. Louis Seniors Golf
REFRESH-INTERVAL;VALUE=DURATION:PT1H
X-Robots-Tag:noindex
X-PUBLISHED-TTL:PT1H
BEGIN:VTIMEZONE
TZID:America/Chicago
BEGIN:DAYLIGHT
TZOFFSETFROM:-0600
TZOFFSETTO:-0500
TZNAME:CDT
DTSTART:20240310T080000
END:DAYLIGHT
BEGIN:STANDARD
TZOFFSETFROM:-0500
TZOFFSETTO:-0600
TZNAME:CST
DTSTART:20241103T070000
END:STANDARD
BEGIN:DAYLIGHT
TZOFFSETFROM:-0600
TZOFFSETTO:-0500
TZNAME:CDT
DTSTART:20250309T080000
END:DAYLIGHT
BEGIN:STANDARD
TZOFFSETFROM:-0500
TZOFFSETTO:-0600
TZNAME:CST
DTSTART:20251102T070000
END:STANDARD
BEGIN:DAYLIGHT
TZOFFSETFROM:-0600
TZOFFSETTO:-0500
TZNAME:CDT
DTSTART:20260308T080000
END:DAYLIGHT
BEGIN:STANDARD
TZOFFSETFROM:-0500
TZOFFSETTO:-0600
TZNAME:CST
DTSTART:20261101T070000
END:STANDARD
END:VTIMEZONE
BEGIN:VEVENT
DTSTART;TZID=America/Chicago:20250606T070000
DTEND;TZID=America/Chicago:20250606T070000
DTSTAMP:20260424T045642
CREATED:20250331T205514Z
LAST-MODIFIED:20250331T205514Z
UID:14192-1749193200-1749193200@www.golfstlseniors.org
SUMMARY:D1    WK 9    Lockhaven Golf Club
DESCRIPTION:DIV 1 – WK 9     Split Tee Start     Lockhaven Golf Club    35
URL:https://www.golfstlseniors.org/event/d1-wk-9-lockhaven-golf-club/
LOCATION:Lockhaven Golf Club\, 10872 Lawrence Keler Dr\, Godfrey\, IL\, 62035\, United States
CATEGORIES:DIV 1
END:VEVENT
BEGIN:VEVENT
DTSTART;TZID=America/Chicago:20250613T070000
DTEND;TZID=America/Chicago:20250613T070000
DTSTAMP:20260424T045642
CREATED:20250331T205514Z
LAST-MODIFIED:20250331T205514Z
UID:14193-1749798000-1749798000@www.golfstlseniors.org
SUMMARY:D1    WK 10    Spencer T Olin Golf Course
DESCRIPTION:DIV 1 – WK 10     Split Tee Start     Spencer T Olin Golf Course    38.95
URL:https://www.golfstlseniors.org/event/d1-wk-10-spencer-t-olin-golf-course/
LOCATION:Spencer T Olin Golf Course\, 4701 College Ave\, Alton\, IL\, 62002\, United States
CATEGORIES:DIV 1
END:VEVENT
BEGIN:VEVENT
DTSTART;TZID=America/Chicago:20250620T070000
DTEND;TZID=America/Chicago:20250620T070000
DTSTAMP:20260424T045642
CREATED:20250331T205529Z
LAST-MODIFIED:20250331T205529Z
UID:14194-1750402800-1750402800@www.golfstlseniors.org
SUMMARY:D1    WK 11    Oak Valley Golf Course
DESCRIPTION:DIV 1 – WK 11     Split Tee Start     Oak Valley Golf Course    30
URL:https://www.golfstlseniors.org/event/d1-wk-11-oak-valley-golf-course/
LOCATION:Oak Valley Golf Course\, 1230 Abbey Ln\, Pevely\, MO\, 63070\, United States
CATEGORIES:DIV 1
END:VEVENT
BEGIN:VEVENT
DTSTART;TZID=America/Chicago:20250627T073000
DTEND;TZID=America/Chicago:20250627T073000
DTSTAMP:20260424T045642
CREATED:20250331T205529Z
LAST-MODIFIED:20250331T205529Z
UID:14195-1751009400-1751009400@www.golfstlseniors.org
SUMMARY:D1    WK 12    Incline Village Golf Course
DESCRIPTION:DIV 1 – WK 12     Split Tee Start     Incline Village Golf Course    36
URL:https://www.golfstlseniors.org/event/d1-wk-12-incline-village-golf-course-2/
LOCATION:Incline Village Golf Course\, 10220 Fairway Dr\, Foristell\, MO\, 63348\, United States
CATEGORIES:DIV 1
END:VEVENT
END:VCALENDAR