BEGIN:VCALENDAR
VERSION:2.0
PRODID:-//Metro St. Louis Seniors Golf - ECPv6.15.20//NONSGML v1.0//EN
CALSCALE:GREGORIAN
METHOD:PUBLISH
X-WR-CALNAME:Metro St. Louis Seniors Golf
X-ORIGINAL-URL:https://www.golfstlseniors.org
X-WR-CALDESC:Events for Metro St. Louis Seniors Golf
REFRESH-INTERVAL;VALUE=DURATION:PT1H
X-Robots-Tag:noindex
X-PUBLISHED-TTL:PT1H
BEGIN:VTIMEZONE
TZID:America/Chicago
BEGIN:DAYLIGHT
TZOFFSETFROM:-0600
TZOFFSETTO:-0500
TZNAME:CDT
DTSTART:20240310T080000
END:DAYLIGHT
BEGIN:STANDARD
TZOFFSETFROM:-0500
TZOFFSETTO:-0600
TZNAME:CST
DTSTART:20241103T070000
END:STANDARD
BEGIN:DAYLIGHT
TZOFFSETFROM:-0600
TZOFFSETTO:-0500
TZNAME:CDT
DTSTART:20250309T080000
END:DAYLIGHT
BEGIN:STANDARD
TZOFFSETFROM:-0500
TZOFFSETTO:-0600
TZNAME:CST
DTSTART:20251102T070000
END:STANDARD
BEGIN:DAYLIGHT
TZOFFSETFROM:-0600
TZOFFSETTO:-0500
TZNAME:CDT
DTSTART:20260308T080000
END:DAYLIGHT
BEGIN:STANDARD
TZOFFSETFROM:-0500
TZOFFSETTO:-0600
TZNAME:CST
DTSTART:20261101T070000
END:STANDARD
END:VTIMEZONE
BEGIN:VEVENT
DTSTART;TZID=America/Chicago:20250606T070000
DTEND;TZID=America/Chicago:20250606T070000
DTSTAMP:20260424T035647
CREATED:20250331T205624Z
LAST-MODIFIED:20250331T205624Z
UID:14218-1749193200-1749193200@www.golfstlseniors.org
SUMMARY:D2    WK 9    Woods Fort Golf Course
DESCRIPTION:DIV 2 – WK 9     Split Tee Start     Woods Fort Golf Course    $40.00+tx
URL:https://www.golfstlseniors.org/event/d2-wk-9-woods-fort-golf-course/
LOCATION:Woods Fort Golf Course\, 1 Country Club Dr\, Troy\, MO\, 63379\, United States
CATEGORIES:DIV 2
END:VEVENT
BEGIN:VEVENT
DTSTART;TZID=America/Chicago:20250613T070000
DTEND;TZID=America/Chicago:20250613T070000
DTSTAMP:20260424T035647
CREATED:20250331T205634Z
LAST-MODIFIED:20250331T205634Z
UID:14219-1749798000-1749798000@www.golfstlseniors.org
SUMMARY:D2    WK 10    Innsbrook Golf Course
DESCRIPTION:DIV 2 – WK 10     Split Tee Start     Innsbrook Golf Course    52
URL:https://www.golfstlseniors.org/event/d2-wk-10-innsbrook-golf-course/
LOCATION:Innsbrook Golf Course\, 1 Aspen Way Dr\, Innsbrook\, MO\, 63390\, United States
CATEGORIES:DIV 2
END:VEVENT
BEGIN:VEVENT
DTSTART;TZID=America/Chicago:20250620T070000
DTEND;TZID=America/Chicago:20250620T070000
DTSTAMP:20260424T035647
CREATED:20250331T205634Z
LAST-MODIFIED:20250331T205634Z
UID:14220-1750402800-1750402800@www.golfstlseniors.org
SUMMARY:D2    WK 11    Lockhaven Golf Club
DESCRIPTION:DIV 2 – WK 11     Split Tee Start     Lockhaven Golf Club    35
URL:https://www.golfstlseniors.org/event/d2-wk-11-lockhaven-golf-club/
LOCATION:Lockhaven Golf Club\, 10872 Lawrence Keler Dr\, Godfrey\, IL\, 62035\, United States
CATEGORIES:DIV 2
END:VEVENT
BEGIN:VEVENT
DTSTART;TZID=America/Chicago:20250627T073000
DTEND;TZID=America/Chicago:20250627T073000
DTSTAMP:20260424T035647
CREATED:20250331T205634Z
LAST-MODIFIED:20250331T205634Z
UID:14221-1751009400-1751009400@www.golfstlseniors.org
SUMMARY:D2    WK 12    Woodlands Golf Club
DESCRIPTION:DIV 2 – WK 12     Split Tee Start     Woodlands Golf Club    29
URL:https://www.golfstlseniors.org/event/d2-wk-12-woodlands-golf-club/
LOCATION:Woodlands Golf Club\, 2839 Harris Ln\, Alton\, IL\, 62002\, United States
CATEGORIES:DIV 2
END:VEVENT
END:VCALENDAR