BEGIN:VCALENDAR
VERSION:2.0
PRODID:-//Metro St. Louis Seniors Golf - ECPv6.15.20//NONSGML v1.0//EN
CALSCALE:GREGORIAN
METHOD:PUBLISH
X-ORIGINAL-URL:https://www.golfstlseniors.org
X-WR-CALDESC:Events for Metro St. Louis Seniors Golf
REFRESH-INTERVAL;VALUE=DURATION:PT1H
X-Robots-Tag:noindex
X-PUBLISHED-TTL:PT1H
BEGIN:VTIMEZONE
TZID:America/Chicago
BEGIN:DAYLIGHT
TZOFFSETFROM:-0600
TZOFFSETTO:-0500
TZNAME:CDT
DTSTART:20240310T080000
END:DAYLIGHT
BEGIN:STANDARD
TZOFFSETFROM:-0500
TZOFFSETTO:-0600
TZNAME:CST
DTSTART:20241103T070000
END:STANDARD
BEGIN:DAYLIGHT
TZOFFSETFROM:-0600
TZOFFSETTO:-0500
TZNAME:CDT
DTSTART:20250309T080000
END:DAYLIGHT
BEGIN:STANDARD
TZOFFSETFROM:-0500
TZOFFSETTO:-0600
TZNAME:CST
DTSTART:20251102T070000
END:STANDARD
BEGIN:DAYLIGHT
TZOFFSETFROM:-0600
TZOFFSETTO:-0500
TZNAME:CDT
DTSTART:20260308T080000
END:DAYLIGHT
BEGIN:STANDARD
TZOFFSETFROM:-0500
TZOFFSETTO:-0600
TZNAME:CST
DTSTART:20261101T070000
END:STANDARD
END:VTIMEZONE
BEGIN:VEVENT
DTSTART;TZID=America/Chicago:20250605T073000
DTEND;TZID=America/Chicago:20250605T073000
DTSTAMP:20260424T035805
CREATED:20250331T205727Z
LAST-MODIFIED:20250331T205727Z
UID:14244-1749108600-1749108600@www.golfstlseniors.org
SUMMARY:D3    WK 9    Woodlands Golf Club
DESCRIPTION:DIV 3 – WK 9     Split Tee Start     Woodlands Golf Club    29
URL:https://www.golfstlseniors.org/event/d3-wk-9-woodlands-golf-club/
LOCATION:Woodlands Golf Club\, 2839 Harris Ln\, Alton\, IL\, 62002\, United States
CATEGORIES:DIV 3
END:VEVENT
BEGIN:VEVENT
DTSTART;TZID=America/Chicago:20250612T070000
DTEND;TZID=America/Chicago:20250612T070000
DTSTAMP:20260424T035805
CREATED:20250331T205727Z
LAST-MODIFIED:20250331T205727Z
UID:14245-1749711600-1749711600@www.golfstlseniors.org
SUMMARY:D3    WK 10    Tamarack Golf Course
DESCRIPTION:DIV 3 – WK 10     Split Tee Start     Tamarack Golf Course    40
URL:https://www.golfstlseniors.org/event/d3-wk-10-tamarack-golf-course/
LOCATION:Tamarack Golf Course\, 362 Tamarack Ln\, Shiloh\, IL\, 62269\, United States
CATEGORIES:DIV 3
END:VEVENT
BEGIN:VEVENT
DTSTART;TZID=America/Chicago:20250619T063000
DTEND;TZID=America/Chicago:20250619T063000
DTSTAMP:20260424T035805
CREATED:20250331T205727Z
LAST-MODIFIED:20250331T205727Z
UID:14246-1750314600-1750314600@www.golfstlseniors.org
SUMMARY:D3    WK 11    Falls Golf Club
DESCRIPTION:DIV 3 – WK 11     Split Tee Start     Falls Golf Club    45
URL:https://www.golfstlseniors.org/event/d3-wk-11-falls-golf-club/
LOCATION:Falls Golf Club\, 1170 Turtle Creek Dr\, O'Fallon\, MO\, 63366\, United States
CATEGORIES:DIV 3
END:VEVENT
BEGIN:VEVENT
DTSTART;TZID=America/Chicago:20250626T073000
DTEND;TZID=America/Chicago:20250626T073000
DTSTAMP:20260424T035805
CREATED:20250331T205727Z
LAST-MODIFIED:20250331T205727Z
UID:14247-1750923000-1750923000@www.golfstlseniors.org
SUMMARY:D3    WK 12    Columbia Bridges Golf Club
DESCRIPTION:DIV 3 – WK 12     Shotgun Start     Columbia Bridges Golf Club    36
URL:https://www.golfstlseniors.org/event/d3-wk-12-columbia-bridges-golf-club/
LOCATION:Columbia Bridges Golf Club\, 1655 Columbia Bridges Rd\, Columbia\, IL\, 62236\, United States
CATEGORIES:DIV 3
END:VEVENT
END:VCALENDAR