BEGIN:VCALENDAR
VERSION:2.0
PRODID:-//Metro St. Louis Seniors Golf - ECPv6.15.20//NONSGML v1.0//EN
CALSCALE:GREGORIAN
METHOD:PUBLISH
X-ORIGINAL-URL:https://www.golfstlseniors.org
X-WR-CALDESC:Events for Metro St. Louis Seniors Golf
REFRESH-INTERVAL;VALUE=DURATION:PT1H
X-Robots-Tag:noindex
X-PUBLISHED-TTL:PT1H
BEGIN:VTIMEZONE
TZID:America/Chicago
BEGIN:DAYLIGHT
TZOFFSETFROM:-0600
TZOFFSETTO:-0500
TZNAME:CDT
DTSTART:20230312T080000
END:DAYLIGHT
BEGIN:STANDARD
TZOFFSETFROM:-0500
TZOFFSETTO:-0600
TZNAME:CST
DTSTART:20231105T070000
END:STANDARD
BEGIN:DAYLIGHT
TZOFFSETFROM:-0600
TZOFFSETTO:-0500
TZNAME:CDT
DTSTART:20240310T080000
END:DAYLIGHT
BEGIN:STANDARD
TZOFFSETFROM:-0500
TZOFFSETTO:-0600
TZNAME:CST
DTSTART:20241103T070000
END:STANDARD
BEGIN:DAYLIGHT
TZOFFSETFROM:-0600
TZOFFSETTO:-0500
TZNAME:CDT
DTSTART:20250309T080000
END:DAYLIGHT
BEGIN:STANDARD
TZOFFSETFROM:-0500
TZOFFSETTO:-0600
TZNAME:CST
DTSTART:20251102T070000
END:STANDARD
END:VTIMEZONE
BEGIN:VEVENT
DTSTART;TZID=America/Chicago:20240502T073000
DTEND;TZID=America/Chicago:20240502T073000
DTSTAMP:20260425T132657
CREATED:20240116T025815Z
LAST-MODIFIED:20240116T025815Z
UID:12932-1714635000-1714635000@www.golfstlseniors.org
SUMMARY:D3  Wk 4    Oak Valley Golf Course
DESCRIPTION:Div3     – May 02    Split Tee Start  Oak Valley Golf Course    $
URL:https://www.golfstlseniors.org/event/d3-wk-4-oak-valley-golf-course/
LOCATION:Oak Valley Golf Course\, 1230 Abbey Ln\, Pevely\, MO\, 63070\, United States
CATEGORIES:Div3
END:VEVENT
BEGIN:VEVENT
DTSTART;TZID=America/Chicago:20240509T073000
DTEND;TZID=America/Chicago:20240509T073000
DTSTAMP:20260425T132657
CREATED:20240116T025815Z
LAST-MODIFIED:20240116T025815Z
UID:12933-1715239800-1715239800@www.golfstlseniors.org
SUMMARY:D3  Wk 5    Incline Village Golf Course
DESCRIPTION:Div3     – May 09    Split Tee Start  Incline Village Golf Course    $34
URL:https://www.golfstlseniors.org/event/d3-wk-5-incline-village-golf-course/
LOCATION:Incline Village Golf Course\, 10220 Fairway Dr\, Foristell\, MO\, 63348\, United States
CATEGORIES:Div3
END:VEVENT
BEGIN:VEVENT
DTSTART;TZID=America/Chicago:20240516T070000
DTEND;TZID=America/Chicago:20240516T070000
DTSTAMP:20260425T132657
CREATED:20240116T025815Z
LAST-MODIFIED:20240116T025815Z
UID:12934-1715842800-1715842800@www.golfstlseniors.org
SUMMARY:D3  Wk 6    Acorns Golf Links
DESCRIPTION:Div3     – May 16    Split Tee Start  Acorns Golf Links    $
URL:https://www.golfstlseniors.org/event/d3-wk-6-acorns-golf-links/
LOCATION:Acorns Golf Links\, 3933 Ahne Rd\, Waterloo\, Illinois\, 62298\, United States
CATEGORIES:Div3
END:VEVENT
BEGIN:VEVENT
DTSTART;TZID=America/Chicago:20240523T070000
DTEND;TZID=America/Chicago:20240523T070000
DTSTAMP:20260425T132657
CREATED:20240116T025816Z
LAST-MODIFIED:20240116T025816Z
UID:12935-1716447600-1716447600@www.golfstlseniors.org
SUMMARY:D3  Wk 7    Eagle Springs Golf Course
DESCRIPTION:Div3     – May 23    Split Tee Start  Eagle Springs Golf Course    $
URL:https://www.golfstlseniors.org/event/d3-wk-7-eagle-springs-golf-course/
LOCATION:Eagle Springs Golf Course\, 2575 Redman Rd\, St. Louis\, MO\, 63136\, United States
CATEGORIES:Div3
END:VEVENT
BEGIN:VEVENT
DTSTART;TZID=America/Chicago:20240530T070000
DTEND;TZID=America/Chicago:20240530T070000
DTSTAMP:20260425T132657
CREATED:20240116T025816Z
LAST-MODIFIED:20240116T025816Z
UID:12936-1717052400-1717052400@www.golfstlseniors.org
SUMMARY:D3  Wk 8    Woods Fort Golf Course
DESCRIPTION:Div3     – May 30    Split Tee Start  Woods Fort Golf Course    $37
URL:https://www.golfstlseniors.org/event/d3-wk-8-woods-fort-golf-course/
LOCATION:Woods Fort Golf Course\, 1 Country Club Dr\, Troy\, MO\, 63379\, United States
CATEGORIES:Div3
END:VEVENT
END:VCALENDAR