BEGIN:VCALENDAR
VERSION:2.0
PRODID:-//Metro St. Louis Seniors Golf - ECPv6.15.20//NONSGML v1.0//EN
CALSCALE:GREGORIAN
METHOD:PUBLISH
X-ORIGINAL-URL:https://www.golfstlseniors.org
X-WR-CALDESC:Events for Metro St. Louis Seniors Golf
REFRESH-INTERVAL;VALUE=DURATION:PT1H
X-Robots-Tag:noindex
X-PUBLISHED-TTL:PT1H
BEGIN:VTIMEZONE
TZID:America/Chicago
BEGIN:DAYLIGHT
TZOFFSETFROM:-0600
TZOFFSETTO:-0500
TZNAME:CDT
DTSTART:20230312T080000
END:DAYLIGHT
BEGIN:STANDARD
TZOFFSETFROM:-0500
TZOFFSETTO:-0600
TZNAME:CST
DTSTART:20231105T070000
END:STANDARD
BEGIN:DAYLIGHT
TZOFFSETFROM:-0600
TZOFFSETTO:-0500
TZNAME:CDT
DTSTART:20240310T080000
END:DAYLIGHT
BEGIN:STANDARD
TZOFFSETFROM:-0500
TZOFFSETTO:-0600
TZNAME:CST
DTSTART:20241103T070000
END:STANDARD
BEGIN:DAYLIGHT
TZOFFSETFROM:-0600
TZOFFSETTO:-0500
TZNAME:CDT
DTSTART:20250309T080000
END:DAYLIGHT
BEGIN:STANDARD
TZOFFSETFROM:-0500
TZOFFSETTO:-0600
TZNAME:CST
DTSTART:20251102T070000
END:STANDARD
END:VTIMEZONE
BEGIN:VEVENT
DTSTART;TZID=America/Chicago:20240801T070000
DTEND;TZID=America/Chicago:20240801T070000
DTSTAMP:20260425T091203
CREATED:20240116T030001Z
LAST-MODIFIED:20240118T171706Z
UID:12970-1722495600-1722495600@www.golfstlseniors.org
SUMMARY:D4  Wk 16    Eagle Springs Golf Course
DESCRIPTION:Div4 – Aug 01 Split Tee Start Eagle Springs Golf Course $28
URL:https://www.golfstlseniors.org/event/d4-wk-16-eagle-springs-golf-course/
LOCATION:Eagle Springs Golf Course\, 2575 Redman Rd\, St. Louis\, MO\, 63136\, United States
CATEGORIES:Div4
END:VEVENT
BEGIN:VEVENT
DTSTART;TZID=America/Chicago:20240808T070000
DTEND;TZID=America/Chicago:20240808T070000
DTSTAMP:20260425T091203
CREATED:20240116T030001Z
LAST-MODIFIED:20240118T171628Z
UID:12971-1723100400-1723100400@www.golfstlseniors.org
SUMMARY:D4  Wk 17    Florissant Golf Club
DESCRIPTION:Div4 – Aug 08 Split Tee Start Florissant Golf Club $28
URL:https://www.golfstlseniors.org/event/d4-wk-17-florissant-golf-club/
LOCATION:Florissant Golf Club\, 50 Country Club Ln\, Florissant\, MO\, 63033\, United States
CATEGORIES:Div4
END:VEVENT
BEGIN:VEVENT
DTSTART;TZID=America/Chicago:20240815T063000
DTEND;TZID=America/Chicago:20240815T063000
DTSTAMP:20260425T091203
CREATED:20240116T030016Z
LAST-MODIFIED:20240118T171520Z
UID:12972-1723703400-1723703400@www.golfstlseniors.org
SUMMARY:D4  Wk 18    Far Oaks Golf Club
DESCRIPTION:Div4     – Aug 15    Split Tee Start  Far Oaks Golf Club    $45
URL:https://www.golfstlseniors.org/event/d4-wk-18-far-oaks-golf-club/
LOCATION:Far Oaks Golf Club\, 419 Old Collinsville Rd\, Caseyville\, IL\, 62232\, United States
CATEGORIES:Div4
END:VEVENT
BEGIN:VEVENT
DTSTART;TZID=America/Chicago:20240822T070000
DTEND;TZID=America/Chicago:20240822T070000
DTSTAMP:20260425T091203
CREATED:20240116T030016Z
LAST-MODIFIED:20240116T030016Z
UID:12973-1724310000-1724310000@www.golfstlseniors.org
SUMMARY:D4  Wk 19    Cardinal Creek GC
DESCRIPTION:Div4     – Aug 22    Shotgun Start  Cardinal Creek GC    $37
URL:https://www.golfstlseniors.org/event/d4-wk-19-cardinal-creek-gc/
LOCATION:Cardinal Creek GC\, 1192 Golf Course Rd\, Scott AFB\, IL\, 62225\, United States
CATEGORIES:Div4
END:VEVENT
BEGIN:VEVENT
DTSTART;TZID=America/Chicago:20240829T073000
DTEND;TZID=America/Chicago:20240829T073000
DTSTAMP:20260425T091203
CREATED:20240116T030017Z
LAST-MODIFIED:20240116T030017Z
UID:12974-1724916600-1724916600@www.golfstlseniors.org
SUMMARY:D4  Wk 20    Incline Village Golf Course
DESCRIPTION:Div4     – Aug 29    Split Tee Start  Incline Village Golf Course    $34
URL:https://www.golfstlseniors.org/event/d4-wk-20-incline-village-golf-course/
LOCATION:Incline Village Golf Course\, 10220 Fairway Dr\, Foristell\, MO\, 63348\, United States
CATEGORIES:Div4
END:VEVENT
END:VCALENDAR